| Back to Multiple platform build/check report for BioC 3.8 |
|
This page was generated on 2019-04-13 11:25:15 -0400 (Sat, 13 Apr 2019).
| Package 1478/1649 | Hostname | OS / Arch | INSTALL | BUILD | CHECK | BUILD BIN | ||||||
| soGGi 1.14.0 Tom Carroll
| malbec1 | Linux (Ubuntu 16.04.6 LTS) / x86_64 | OK | OK | NA | |||||||
| tokay1 | Windows Server 2012 R2 Standard / x64 | OK | OK | WARNINGS | [ OK ] | |||||||
| merida1 | OS X 10.11.6 El Capitan / x86_64 | OK | OK | WARNINGS | OK |
| Package: soGGi |
| Version: 1.14.0 |
| Command: rm -rf soGGi.buildbin-libdir && mkdir soGGi.buildbin-libdir && C:\Users\biocbuild\bbs-3.8-bioc\R\bin\R.exe CMD INSTALL --merge-multiarch --build --library=soGGi.buildbin-libdir soGGi_1.14.0.tar.gz |
| StartedAt: 2019-04-13 07:58:47 -0400 (Sat, 13 Apr 2019) |
| EndedAt: 2019-04-13 07:59:22 -0400 (Sat, 13 Apr 2019) |
| EllapsedTime: 35.0 seconds |
| RetCode: 0 |
| Status: OK |
| PackageFile: soGGi_1.14.0.zip |
| PackageFileSize: 3.382 MiB |
##############################################################################
##############################################################################
###
### Running command:
###
### rm -rf soGGi.buildbin-libdir && mkdir soGGi.buildbin-libdir && C:\Users\biocbuild\bbs-3.8-bioc\R\bin\R.exe CMD INSTALL --merge-multiarch --build --library=soGGi.buildbin-libdir soGGi_1.14.0.tar.gz
###
##############################################################################
##############################################################################
install for i386
* installing *source* package 'soGGi' ...
** R
** data
** inst
** byte-compile and prepare package for lazy loading
Warning: replacing previous import 'ggplot2::Position' by 'BiocGenerics::Position' when loading 'soGGi'
** help
*** installing help indices
converting help for package 'soGGi'
finding HTML links ... done
ChIPprofile html
Ops html
chipExampleBig html
findconsensusRegions html
groupByOverlaps html
ik_Example html
ik_Profiles html
manipulateObjects html
normalise html
normaliseQuantiles html
orientBy html
plotRegion html
pwmCov html
pwmToCoverage html
singleGRange html
** building package indices
** installing vignettes
** testing if installed package can be loaded
Warning: replacing previous import 'ggplot2::Position' by 'BiocGenerics::Position' when loading 'soGGi'
In R CMD INSTALL
install for x64
* installing *source* package 'soGGi' ...
** testing if installed package can be loaded
Warning: replacing previous import 'ggplot2::Position' by 'BiocGenerics::Position' when loading 'soGGi'
* MD5 sums
packaged installation of 'soGGi' as soGGi_1.14.0.zip
* DONE (soGGi)
In R CMD INSTALL
In R CMD INSTALL