| Back to Multiple platform build/check report for BioC 3.8 |
|
This page was generated on 2019-04-16 12:10:54 -0400 (Tue, 16 Apr 2019).
| Package 1466/1649 | Hostname | OS / Arch | INSTALL | BUILD | CHECK | BUILD BIN | ||||||
| slinky 1.0.2 Eric J. Kort
| malbec1 | Linux (Ubuntu 16.04.6 LTS) / x86_64 | OK | OK | OK | |||||||
| merida1 | OS X 10.11.6 El Capitan / x86_64 | OK | OK | OK | [ OK ] |
| Package: slinky |
| Version: 1.0.2 |
| Command: rm -rf slinky.buildbin-libdir && mkdir slinky.buildbin-libdir && /Users/biocbuild/BBS/utils/build-universal.sh slinky_1.0.2.tar.gz /Library/Frameworks/R.framework/Versions/Current/Resources/bin/R slinky.buildbin-libdir |
| StartedAt: 2019-04-16 04:46:11 -0400 (Tue, 16 Apr 2019) |
| EndedAt: 2019-04-16 04:46:59 -0400 (Tue, 16 Apr 2019) |
| EllapsedTime: 47.8 seconds |
| RetCode: 0 |
| Status: OK |
| PackageFile: slinky_1.0.2.tgz |
| PackageFileSize: 1.656 MiB |
############################################################################## ############################################################################## ### ### Running command: ### ### rm -rf slinky.buildbin-libdir && mkdir slinky.buildbin-libdir && /Users/biocbuild/BBS/utils/build-universal.sh slinky_1.0.2.tar.gz /Library/Frameworks/R.framework/Versions/Current/Resources/bin/R slinky.buildbin-libdir ### ############################################################################## ############################################################################## >>>>>>> >>>>>>> INSTALLATION WITH 'R CMD INSTALL --preclean --no-multiarch --library=slinky.buildbin-libdir slinky_1.0.2.tar.gz' >>>>>>> * installing *source* package ‘slinky’ ... ** R ** inst ** byte-compile and prepare package for lazy loading ** help *** installing help indices ** building package indices ** installing vignettes ** testing if installed package can be loaded * DONE (slinky)