| Back to Multiple platform build/check report for BioC 3.8 |
|
This page was generated on 2019-04-13 11:29:17 -0400 (Sat, 13 Apr 2019).
| Package 1459/1649 | Hostname | OS / Arch | INSTALL | BUILD | CHECK | BUILD BIN | ||||||
| singscore 1.2.2 Ruqian Lyu
| malbec1 | Linux (Ubuntu 16.04.6 LTS) / x86_64 | OK | OK | NA | |||||||
| tokay1 | Windows Server 2012 R2 Standard / x64 | OK | OK | OK | [ OK ] | |||||||
| merida1 | OS X 10.11.6 El Capitan / x86_64 | OK | OK | OK | OK |
| Package: singscore |
| Version: 1.2.2 |
| Command: rm -rf singscore.buildbin-libdir && mkdir singscore.buildbin-libdir && C:\Users\biocbuild\bbs-3.8-bioc\R\bin\R.exe CMD INSTALL --merge-multiarch --build --library=singscore.buildbin-libdir singscore_1.2.2.tar.gz |
| StartedAt: 2019-04-13 07:58:07 -0400 (Sat, 13 Apr 2019) |
| EndedAt: 2019-04-13 07:58:36 -0400 (Sat, 13 Apr 2019) |
| EllapsedTime: 28.9 seconds |
| RetCode: 0 |
| Status: OK |
| PackageFile: singscore_1.2.2.zip |
| PackageFileSize: 2.46 MiB |
##############################################################################
##############################################################################
###
### Running command:
###
### rm -rf singscore.buildbin-libdir && mkdir singscore.buildbin-libdir && C:\Users\biocbuild\bbs-3.8-bioc\R\bin\R.exe CMD INSTALL --merge-multiarch --build --library=singscore.buildbin-libdir singscore_1.2.2.tar.gz
###
##############################################################################
##############################################################################
install for i386
* installing *source* package 'singscore' ...
** R
** data
*** moving datasets to lazyload DB
** inst
** byte-compile and prepare package for lazy loading
** help
*** installing help indices
converting help for package 'singscore'
finding HTML links ... done
generateNull html
generateNull_intl html
getPvals html
plotDispersion html
plotNull html
plotRankDensity html
plotRankDensity_intl html
finding level-2 HTML links ... done
plotScoreLandscape html
projectScoreLandscape html
rankExpr html
rankGenes html
scoredf_ccle_epi html
scoredf_ccle_mes html
scoredf_tcga_epi html
scoredf_tcga_mes html
simpleScore html
singscore html
singscoring html
singscoringOneGS html
tgfb_expr_10_se html
tgfb_gs_dn html
tgfb_gs_up html
toy_expr_se html
toy_gs_dn html
toy_gs_up html
** building package indices
** installing vignettes
** testing if installed package can be loaded
In R CMD INSTALL
install for x64
* installing *source* package 'singscore' ...
** testing if installed package can be loaded
* MD5 sums
packaged installation of 'singscore' as singscore_1.2.2.zip
* DONE (singscore)
In R CMD INSTALL
In R CMD INSTALL