| Back to Multiple platform build/check report for BioC 3.8 |
|
This page was generated on 2019-04-13 11:19:16 -0400 (Sat, 13 Apr 2019).
| Package 1442/1649 | Hostname | OS / Arch | INSTALL | BUILD | CHECK | BUILD BIN | ||||||
| siggenes 1.56.0 Holger Schwender
| malbec1 | Linux (Ubuntu 16.04.6 LTS) / x86_64 | OK | OK | NA | |||||||
| tokay1 | Windows Server 2012 R2 Standard / x64 | OK | OK | WARNINGS | [ OK ] | |||||||
| merida1 | OS X 10.11.6 El Capitan / x86_64 | OK | OK | OK | OK |
| Package: siggenes |
| Version: 1.56.0 |
| Command: rm -rf siggenes.buildbin-libdir && mkdir siggenes.buildbin-libdir && C:\Users\biocbuild\bbs-3.8-bioc\R\bin\R.exe CMD INSTALL --merge-multiarch --build --library=siggenes.buildbin-libdir siggenes_1.56.0.tar.gz |
| StartedAt: 2019-04-13 07:57:27 -0400 (Sat, 13 Apr 2019) |
| EndedAt: 2019-04-13 07:57:44 -0400 (Sat, 13 Apr 2019) |
| EllapsedTime: 17.6 seconds |
| RetCode: 0 |
| Status: OK |
| PackageFile: siggenes_1.56.0.zip |
| PackageFileSize: 950.3 KiB |
##############################################################################
##############################################################################
###
### Running command:
###
### rm -rf siggenes.buildbin-libdir && mkdir siggenes.buildbin-libdir && C:\Users\biocbuild\bbs-3.8-bioc\R\bin\R.exe CMD INSTALL --merge-multiarch --build --library=siggenes.buildbin-libdir siggenes_1.56.0.tar.gz
###
##############################################################################
##############################################################################
install for i386
* installing *source* package 'siggenes' ...
** R
** inst
** byte-compile and prepare package for lazy loading
** help
*** installing help indices
converting help for package 'siggenes'
finding HTML links ... done
EBAM-class html
FindA0-class html
SAM-class html
chisq.ebam html
chisq.stat html
d.stat html
delta.plot html
denspr html
ebam html
ebamControl html
find.a0 html
findDelta html
fudge2 html
fuzzy.ebam html
Rd warning: C:/Users/biocbuild/bbs-3.8-bioc/tmpdir/Rtmp4k6Ar1/R.INSTALL46ac3f496873/siggenes/man/fuzzy.ebam.Rd:29: file link 'getMatFuzzy' in package 'scrime' does not exist and so has been treated as a topic
help.ebam html
help.finda0 html
help.sam html
limma2sam html
link.genes html
link.siggenes html
list.siggenes html
md.plot html
nclass.wand html
pi0.est html
plotArguments html
plotFindArguments html
qvalue.cal html
rowWilcoxon html
sam html
sam.plot2 html
samControl html
siggenes-internal html
siggenes2excel html
siggenes2html html
sumSAM-class html
trend.ebam html
trend.stat html
wilc.ebam html
wilc.stat html
z.ebam html
** building package indices
** installing vignettes
** testing if installed package can be loaded
In R CMD INSTALL
install for x64
* installing *source* package 'siggenes' ...
** testing if installed package can be loaded
* MD5 sums
packaged installation of 'siggenes' as siggenes_1.56.0.zip
* DONE (siggenes)
In R CMD INSTALL
In R CMD INSTALL