| Back to Multiple platform build/check report for BioC 3.8 |
|
This page was generated on 2019-04-13 11:25:52 -0400 (Sat, 13 Apr 2019).
| Package 1430/1649 | Hostname | OS / Arch | INSTALL | BUILD | CHECK | BUILD BIN | ||||||
| sevenbridges 1.12.5 Nan Xiao
| malbec1 | Linux (Ubuntu 16.04.6 LTS) / x86_64 | OK | OK | NA | |||||||
| tokay1 | Windows Server 2012 R2 Standard / x64 | OK | OK | OK | [ OK ] | |||||||
| merida1 | OS X 10.11.6 El Capitan / x86_64 | OK | OK | OK | OK |
| Package: sevenbridges |
| Version: 1.12.5 |
| Command: rm -rf sevenbridges.buildbin-libdir && mkdir sevenbridges.buildbin-libdir && C:\Users\biocbuild\bbs-3.8-bioc\R\bin\R.exe CMD INSTALL --merge-multiarch --build --library=sevenbridges.buildbin-libdir sevenbridges_1.12.5.tar.gz |
| StartedAt: 2019-04-13 07:56:57 -0400 (Sat, 13 Apr 2019) |
| EndedAt: 2019-04-13 07:57:40 -0400 (Sat, 13 Apr 2019) |
| EllapsedTime: 43.7 seconds |
| RetCode: 0 |
| Status: OK |
| PackageFile: sevenbridges_1.12.5.zip |
| PackageFileSize: 6.301 MiB |
##############################################################################
##############################################################################
###
### Running command:
###
### rm -rf sevenbridges.buildbin-libdir && mkdir sevenbridges.buildbin-libdir && C:\Users\biocbuild\bbs-3.8-bioc\R\bin\R.exe CMD INSTALL --merge-multiarch --build --library=sevenbridges.buildbin-libdir sevenbridges_1.12.5.tar.gz
###
##############################################################################
##############################################################################
install for i386
* installing *source* package 'sevenbridges' ...
** R
** inst
** byte-compile and prepare package for lazy loading
** help
*** installing help indices
converting help for package 'sevenbridges'
finding HTML links ... done
App-class html
Auth-class html
Binding html
CCBList html
CWL html
CommandInputParameter-class html
CommandInputSchema-class html
CommandLineBinding-class html
CommandLineTool html
CommandOutputBinding-class html
CommandOutputParameter-class html
CommandOutputSchema-class html
DSCList html
Enum html
Expression-class html
ExpressionTool-class html
FS-class html
File-class html
Files-class html
Flow html
Handler-class html
Item-class html
Metadata html
Parameter html
Process html
ProcessRequirement html
Schema html
TaskHook html
Tool-class html
Workflow html
WorkflowStep html
addIdNum html
api html
as-methods html
batch html
cli_list_projects html
cli_list_tags html
cli_upload html
convert_app html
cwl-utils html
delete-methods html
download-methods html
get_token html
get_uploader html
input_output_matrix html
link html
link_what html
project_details html
project_members html
requirements html
response-methods html
sbg_get_env html
sbg_set_env html
setListClass html
set_test_env html
sevenbridges-package html
shorthand-cwl html
status_check html
tag-methods html
test_tool_bunny html
test_tool_cwlrun html
test_tool_rabix html
upload_complete_all html
upload_complete_part html
upload_delete html
upload_info html
upload_info_part html
upload_init html
** building package indices
** installing vignettes
** testing if installed package can be loaded
In R CMD INSTALL
install for x64
* installing *source* package 'sevenbridges' ...
** testing if installed package can be loaded
* MD5 sums
packaged installation of 'sevenbridges' as sevenbridges_1.12.5.zip
* DONE (sevenbridges)
In R CMD INSTALL
In R CMD INSTALL