| Back to Multiple platform build/check report for BioC 3.8 |
|
This page was generated on 2019-04-16 11:51:33 -0400 (Tue, 16 Apr 2019).
| Package 1430/1649 | Hostname | OS / Arch | INSTALL | BUILD | CHECK | BUILD BIN | ||||||
| sevenbridges 1.12.5 Nan Xiao
| malbec1 | Linux (Ubuntu 16.04.6 LTS) / x86_64 | OK | OK | [ OK ] | |||||||
| merida1 | OS X 10.11.6 El Capitan / x86_64 | OK | OK | OK | OK |
| Package: sevenbridges |
| Version: 1.12.5 |
| Command: /home/biocbuild/bbs-3.8-bioc/R/bin/R CMD check --install=check:sevenbridges.install-out.txt --library=/home/biocbuild/bbs-3.8-bioc/R/library --no-vignettes --timings sevenbridges_1.12.5.tar.gz |
| StartedAt: 2019-04-16 03:01:43 -0400 (Tue, 16 Apr 2019) |
| EndedAt: 2019-04-16 03:04:50 -0400 (Tue, 16 Apr 2019) |
| EllapsedTime: 186.7 seconds |
| RetCode: 0 |
| Status: OK |
| CheckDir: sevenbridges.Rcheck |
| Warnings: 0 |
##############################################################################
##############################################################################
###
### Running command:
###
### /home/biocbuild/bbs-3.8-bioc/R/bin/R CMD check --install=check:sevenbridges.install-out.txt --library=/home/biocbuild/bbs-3.8-bioc/R/library --no-vignettes --timings sevenbridges_1.12.5.tar.gz
###
##############################################################################
##############################################################################
* using log directory ‘/home/biocbuild/bbs-3.8-bioc/meat/sevenbridges.Rcheck’
* using R version 3.5.3 (2019-03-11)
* using platform: x86_64-pc-linux-gnu (64-bit)
* using session charset: UTF-8
* using option ‘--no-vignettes’
* checking for file ‘sevenbridges/DESCRIPTION’ ... OK
* checking extension type ... Package
* this is package ‘sevenbridges’ version ‘1.12.5’
* package encoding: UTF-8
* checking package namespace information ... OK
* checking package dependencies ... OK
* checking if this is a source package ... OK
* checking if there is a namespace ... OK
* checking for hidden files and directories ... OK
* checking for portable file names ... OK
* checking for sufficient/correct file permissions ... OK
* checking whether package ‘sevenbridges’ can be installed ... OK
* checking installed package size ... OK
* checking package directory ... OK
* checking ‘build’ directory ... OK
* checking DESCRIPTION meta-information ... OK
* checking top-level files ... OK
* checking for left-over files ... OK
* checking index information ... OK
* checking package subdirectories ... OK
* checking R files for non-ASCII characters ... OK
* checking R files for syntax errors ... OK
* checking whether the package can be loaded ... OK
* checking whether the package can be loaded with stated dependencies ... OK
* checking whether the package can be unloaded cleanly ... OK
* checking whether the namespace can be loaded with stated dependencies ... OK
* checking whether the namespace can be unloaded cleanly ... OK
* checking dependencies in R code ... OK
* checking S3 generic/method consistency ... OK
* checking replacement functions ... OK
* checking foreign function calls ... OK
* checking R code for possible problems ... OK
* checking Rd files ... OK
* checking Rd metadata ... OK
* checking Rd cross-references ... OK
* checking for missing documentation entries ... OK
* checking for code/documentation mismatches ... OK
* checking Rd \usage sections ... OK
* checking Rd contents ... OK
* checking for unstated dependencies in examples ... OK
* checking files in ‘vignettes’ ... OK
* checking examples ... OK
Examples with CPU or elapsed time > 5s
user system elapsed
Flow 58.368 0.024 58.571
Tool-class 15.276 0.008 15.335
link_what 11.900 0.004 11.921
link 9.152 0.000 9.173
convert_app 8.236 0.000 8.244
* checking for unstated dependencies in ‘tests’ ... OK
* checking tests ...
Running ‘testthat.R’
OK
* checking for unstated dependencies in vignettes ... OK
* checking package vignettes in ‘inst/doc’ ... OK
* checking running R code from vignettes ... SKIPPED
* checking re-building of vignette outputs ... SKIPPED
* checking PDF version of manual ... OK
* DONE
Status: OK
sevenbridges.Rcheck/00install.out
############################################################################## ############################################################################## ### ### Running command: ### ### /home/biocbuild/bbs-3.8-bioc/R/bin/R CMD INSTALL sevenbridges ### ############################################################################## ############################################################################## * installing to library ‘/home/biocbuild/bbs-3.8-bioc/R/library’ * installing *source* package ‘sevenbridges’ ... ** R ** inst ** byte-compile and prepare package for lazy loading ** help *** installing help indices ** building package indices ** installing vignettes ** testing if installed package can be loaded * DONE (sevenbridges)
sevenbridges.Rcheck/tests/testthat.Rout
R version 3.5.3 (2019-03-11) -- "Great Truth"
Copyright (C) 2019 The R Foundation for Statistical Computing
Platform: x86_64-pc-linux-gnu (64-bit)
R is free software and comes with ABSOLUTELY NO WARRANTY.
You are welcome to redistribute it under certain conditions.
Type 'license()' or 'licence()' for distribution details.
R is a collaborative project with many contributors.
Type 'contributors()' for more information and
'citation()' on how to cite R or R packages in publications.
Type 'demo()' for some demos, 'help()' for on-line help, or
'help.start()' for an HTML browser interface to help.
Type 'q()' to quit R.
> library("testthat")
> library("sevenbridges")
> test_check("sevenbridges")
══ testthat results ═══════════════════════════════════════════════════════════
OK: 0 SKIPPED: 0 FAILED: 0
>
> proc.time()
user system elapsed
3.464 0.096 3.570
sevenbridges.Rcheck/sevenbridges-Ex.timings
| name | user | system | elapsed | |
| App-class | 0 | 0 | 0 | |
| Auth-class | 0.008 | 0.000 | 0.007 | |
| Binding | 0.036 | 0.000 | 0.036 | |
| CCBList | 0.016 | 0.000 | 0.013 | |
| CWL | 0.000 | 0.000 | 0.001 | |
| CommandInputParameter-class | 0.072 | 0.000 | 0.071 | |
| CommandInputSchema-class | 0.016 | 0.000 | 0.016 | |
| CommandLineBinding-class | 0.008 | 0.000 | 0.006 | |
| CommandLineTool | 0.012 | 0.000 | 0.014 | |
| CommandOutputBinding-class | 0.008 | 0.000 | 0.007 | |
| CommandOutputParameter-class | 0.012 | 0.000 | 0.012 | |
| CommandOutputSchema-class | 0.16 | 0.00 | 0.16 | |
| DSCList | 0.012 | 0.000 | 0.014 | |
| Enum | 0.020 | 0.004 | 0.020 | |
| Expression-class | 0.004 | 0.000 | 0.006 | |
| ExpressionTool-class | 0.020 | 0.000 | 0.018 | |
| File-class | 0.052 | 0.004 | 0.056 | |
| Files-class | 0.004 | 0.000 | 0.006 | |
| Flow | 58.368 | 0.024 | 58.571 | |
| Metadata | 0.072 | 0.000 | 0.072 | |
| Parameter | 0.028 | 0.000 | 0.028 | |
| Process | 0.040 | 0.000 | 0.038 | |
| ProcessRequirement | 0.044 | 0.000 | 0.046 | |
| Schema | 0.016 | 0.000 | 0.014 | |
| TaskHook | 0.004 | 0.000 | 0.001 | |
| Tool-class | 15.276 | 0.008 | 15.335 | |
| Workflow | 0.036 | 0.000 | 0.037 | |
| WorkflowStep | 0.008 | 0.000 | 0.006 | |
| addIdNum | 0 | 0 | 0 | |
| api | 0 | 0 | 0 | |
| as-methods | 0.104 | 0.000 | 0.104 | |
| batch | 0.004 | 0.000 | 0.001 | |
| cli_list_projects | 0 | 0 | 0 | |
| cli_list_tags | 0 | 0 | 0 | |
| cli_upload | 0.000 | 0.000 | 0.001 | |
| convert_app | 8.236 | 0.000 | 8.244 | |
| cwl-utils | 0.148 | 0.000 | 0.166 | |
| delete-methods | 0 | 0 | 0 | |
| download-methods | 0 | 0 | 0 | |
| get_token | 0 | 0 | 0 | |
| get_uploader | 0 | 0 | 0 | |
| input_output_matrix | 0.184 | 0.000 | 0.183 | |
| link | 9.152 | 0.000 | 9.173 | |
| link_what | 11.900 | 0.004 | 11.921 | |
| project_details | 0 | 0 | 0 | |
| project_members | 0 | 0 | 0 | |
| requirements | 0.072 | 0.000 | 0.075 | |
| response-methods | 0 | 0 | 0 | |
| sbg_get_env | 0 | 0 | 0 | |
| sbg_set_env | 0.000 | 0.000 | 0.001 | |
| set_test_env | 0 | 0 | 0 | |
| shorthand-cwl | 0.032 | 0.004 | 0.034 | |
| tag-methods | 0 | 0 | 0 | |
| test_tool_bunny | 0 | 0 | 0 | |
| test_tool_cwlrun | 0 | 0 | 0 | |
| test_tool_rabix | 0 | 0 | 0 | |
| upload_complete_all | 0.000 | 0.000 | 0.001 | |
| upload_complete_part | 0 | 0 | 0 | |
| upload_delete | 0 | 0 | 0 | |
| upload_info | 0 | 0 | 0 | |
| upload_info_part | 0 | 0 | 0 | |
| upload_init | 0 | 0 | 0 | |