| Back to Multiple platform build/check report for BioC 3.8 |
|
This page was generated on 2019-04-13 11:29:27 -0400 (Sat, 13 Apr 2019).
| Package 1429/1649 | Hostname | OS / Arch | INSTALL | BUILD | CHECK | BUILD BIN | ||||||
| sesame 1.0.0 Wanding Zhou
| malbec1 | Linux (Ubuntu 16.04.6 LTS) / x86_64 | OK | OK | NA | |||||||
| tokay1 | Windows Server 2012 R2 Standard / x64 | OK | OK | [ OK ] | OK | |||||||
| merida1 | OS X 10.11.6 El Capitan / x86_64 | OK | OK | OK | OK |
| Package: sesame |
| Version: 1.0.0 |
| Command: C:\Users\biocbuild\bbs-3.8-bioc\R\bin\R.exe CMD check --force-multiarch --install=check:sesame.install-out.txt --library=C:\Users\biocbuild\bbs-3.8-bioc\R\library --no-vignettes --timings sesame_1.0.0.tar.gz |
| StartedAt: 2019-04-13 05:27:53 -0400 (Sat, 13 Apr 2019) |
| EndedAt: 2019-04-13 05:40:03 -0400 (Sat, 13 Apr 2019) |
| EllapsedTime: 729.4 seconds |
| RetCode: 0 |
| Status: OK |
| CheckDir: sesame.Rcheck |
| Warnings: 0 |
##############################################################################
##############################################################################
###
### Running command:
###
### C:\Users\biocbuild\bbs-3.8-bioc\R\bin\R.exe CMD check --force-multiarch --install=check:sesame.install-out.txt --library=C:\Users\biocbuild\bbs-3.8-bioc\R\library --no-vignettes --timings sesame_1.0.0.tar.gz
###
##############################################################################
##############################################################################
* using log directory 'C:/Users/biocbuild/bbs-3.8-bioc/meat/sesame.Rcheck'
* using R version 3.5.3 (2019-03-11)
* using platform: x86_64-w64-mingw32 (64-bit)
* using session charset: ISO8859-1
* using option '--no-vignettes'
* checking for file 'sesame/DESCRIPTION' ... OK
* checking extension type ... Package
* this is package 'sesame' version '1.0.0'
* checking package namespace information ... OK
* checking package dependencies ...Warning: unable to access index for repository https://CRAN.R-project.org/src/contrib:
cannot open URL 'https://CRAN.R-project.org/src/contrib/PACKAGES'
OK
* checking if this is a source package ... OK
* checking if there is a namespace ... OK
* checking for hidden files and directories ... OK
* checking for portable file names ... OK
* checking whether package 'sesame' can be installed ... OK
* checking installed package size ... OK
* checking package directory ... OK
* checking 'build' directory ... OK
* checking DESCRIPTION meta-information ... OK
* checking top-level files ... OK
* checking for left-over files ... OK
* checking index information ... OK
* checking package subdirectories ... OK
* checking R files for non-ASCII characters ... OK
* checking R files for syntax errors ... OK
* loading checks for arch 'i386'
** checking whether the package can be loaded ... OK
** checking whether the package can be loaded with stated dependencies ... OK
** checking whether the package can be unloaded cleanly ... OK
** checking whether the namespace can be loaded with stated dependencies ... OK
** checking whether the namespace can be unloaded cleanly ... OK
* loading checks for arch 'x64'
** checking whether the package can be loaded ... OK
** checking whether the package can be loaded with stated dependencies ... OK
** checking whether the package can be unloaded cleanly ... OK
** checking whether the namespace can be loaded with stated dependencies ... OK
** checking whether the namespace can be unloaded cleanly ... OK
* checking dependencies in R code ... OK
* checking S3 generic/method consistency ... OK
* checking replacement functions ... OK
* checking foreign function calls ... OK
* checking R code for possible problems ... OK
* checking Rd files ... OK
* checking Rd metadata ... OK
* checking Rd cross-references ... OK
* checking for missing documentation entries ... OK
* checking for code/documentation mismatches ... OK
* checking Rd \usage sections ... OK
* checking Rd contents ... OK
* checking for unstated dependencies in examples ... OK
* checking files in 'vignettes' ... OK
* checking examples ...
** running examples for arch 'i386' ... OK
Examples with CPU or elapsed time > 5s
user system elapsed
cnSegmentation 63.46 1.78 65.23
dyeBiasCorrMostBalanced 14.40 0.31 23.83
noobsb 8.34 0.39 8.73
diffRefSet 8.28 0.11 8.50
bisConversionControl 7.00 0.11 7.14
detectionPnegNormGS 6.78 0.13 6.91
getBetasTypeIbySumChannels 6.75 0.11 6.86
getBetas 6.65 0.08 6.73
detectionPoobEcdf 6.05 0.12 6.17
detectionPnegEcdf 6.09 0.03 6.12
detectionPnegNorm 5.85 0.05 5.89
getSexInfo 5.06 0.09 5.15
** running examples for arch 'x64' ... OK
Examples with CPU or elapsed time > 5s
user system elapsed
cnSegmentation 66.30 1.11 67.40
dyeBiasCorrMostBalanced 12.08 0.27 12.34
noobsb 10.41 0.36 10.77
bisConversionControl 8.98 0.11 9.09
diffRefSet 8.33 0.19 8.52
detectionPnegNorm 8.38 0.07 8.43
detectionPnegEcdf 8.32 0.01 8.35
detectionPnegNormGS 7.22 0.06 7.29
detectionPoobEcdf 7.01 0.11 7.12
getBetasTypeIbySumChannels 5.90 0.08 5.98
SNPcheck 5.28 0.11 5.39
detectionPnegNormTotal 5.22 0.01 5.23
* checking for unstated dependencies in 'tests' ... OK
* checking tests ...
** running tests for arch 'i386' ...
Running 'testthat.R'
OK
** running tests for arch 'x64' ...
Running 'testthat.R'
OK
* checking for unstated dependencies in vignettes ... OK
* checking package vignettes in 'inst/doc' ... OK
* checking running R code from vignettes ... SKIPPED
* checking re-building of vignette outputs ... SKIPPED
* checking PDF version of manual ... OK
* DONE
Status: OK
sesame.Rcheck/00install.out
##############################################################################
##############################################################################
###
### Running command:
###
### C:\cygwin\bin\curl.exe -O https://malbec1.bioconductor.org/BBS/3.8/bioc/src/contrib/sesame_1.0.0.tar.gz && rm -rf sesame.buildbin-libdir && mkdir sesame.buildbin-libdir && C:\Users\biocbuild\bbs-3.8-bioc\R\bin\R.exe CMD INSTALL --merge-multiarch --build --library=sesame.buildbin-libdir sesame_1.0.0.tar.gz && C:\Users\biocbuild\bbs-3.8-bioc\R\bin\R.exe CMD INSTALL sesame_1.0.0.zip && rm sesame_1.0.0.tar.gz sesame_1.0.0.zip
###
##############################################################################
##############################################################################
% Total % Received % Xferd Average Speed Time Time Time Current
Dload Upload Total Spent Left Speed
0 0 0 0 0 0 0 0 --:--:-- --:--:-- --:--:-- 0
100 50954 100 50954 0 0 1390k 0 --:--:-- --:--:-- --:--:-- 1554k
install for i386
* installing *source* package 'sesame' ...
** R
** inst
** byte-compile and prepare package for lazy loading
** help
*** installing help indices
converting help for package 'sesame'
finding HTML links ... done
BetaValueToMValue html
IG-methods html
IG-replace-methods html
II-methods html
II-replace-methods html
IR-methods html
IR-replace-methods html
MValueToBetaValue html
SNPcheck html
SigSet-class html
SigSetList-class html
SigSetList-methods html
SigSetList html
SigSetListFromIDATs html
SigSetListFromPath html
SignalSet html
finding level-2 HTML links ... done
binSignals html
bisConversionControl html
buildControlMatrix450k html
chipAddressToSignal html
cnSegmentation html
ctl-methods html
ctl-replace-methods html
detectionPnegEcdf html
detectionPnegNorm html
detectionPnegNormGS html
detectionPnegNormTotal html
detectionPoobEcdf html
diffRefSet html
dyeBiasCorr html
dyeBiasCorrMostBalanced html
dyeBiasCorrTypeINorm html
estimateCellComposition html
estimateLeukocyte html
getAFTypeIbySumAlleles html
getBetas html
getBetasTypeIbySumChannels html
getBinCoordinates html
getNormCtls html
getProbesByGene html
getProbesByRegion html
getProbesByTSS html
getRefSet html
getSexInfo html
inferEthnicity html
inferSex html
inferSexKaryotypes html
makeExampleSeSAMeDataSet html
makeExampleTinyEPICDataSet html
meanIntensity html
noob html
noobsb html
oobG-methods html
oobG-replace-methods html
oobR-methods html
oobR-replace-methods html
openSesame html
predictAgeHorvath353 html
predictAgePheno html
predictAgeSkinBlood html
pval-methods html
pval-replace-methods html
readIDATpair html
reopenSesame html
searchIDATprefixes html
segmentBins html
sesame-package html
sesamize html
show-methods html
signalR6toS4 html
subsetSignal html
totalIntensities html
totalIntensityZscore html
visualizeGene html
visualizeProbes html
visualizeRegion html
visualizeSegments html
** building package indices
** installing vignettes
** testing if installed package can be loaded
In R CMD INSTALL
install for x64
* installing *source* package 'sesame' ...
** testing if installed package can be loaded
* MD5 sums
packaged installation of 'sesame' as sesame_1.0.0.zip
* DONE (sesame)
In R CMD INSTALL
In R CMD INSTALL
* installing to library 'C:/Users/biocbuild/bbs-3.8-bioc/R/library'
package 'sesame' successfully unpacked and MD5 sums checked
In R CMD INSTALL
|
sesame.Rcheck/tests_i386/testthat.Rout
R version 3.5.3 (2019-03-11) -- "Great Truth"
Copyright (C) 2019 The R Foundation for Statistical Computing
Platform: i386-w64-mingw32/i386 (32-bit)
R is free software and comes with ABSOLUTELY NO WARRANTY.
You are welcome to redistribute it under certain conditions.
Type 'license()' or 'licence()' for distribution details.
R is a collaborative project with many contributors.
Type 'contributors()' for more information and
'citation()' on how to cite R or R packages in publications.
Type 'demo()' for some demos, 'help()' for on-line help, or
'help.start()' for an HTML browser interface to help.
Type 'q()' to quit R.
> library(testthat)
> library(sesame)
Loading required package: sesameData
Loading required package: ExperimentHub
Loading required package: BiocGenerics
Loading required package: parallel
Attaching package: 'BiocGenerics'
The following objects are masked from 'package:parallel':
clusterApply, clusterApplyLB, clusterCall, clusterEvalQ,
clusterExport, clusterMap, parApply, parCapply, parLapply,
parLapplyLB, parRapply, parSapply, parSapplyLB
The following objects are masked from 'package:stats':
IQR, mad, sd, var, xtabs
The following objects are masked from 'package:base':
Filter, Find, Map, Position, Reduce, anyDuplicated, append,
as.data.frame, basename, cbind, colMeans, colSums, colnames,
dirname, do.call, duplicated, eval, evalq, get, grep, grepl,
intersect, is.unsorted, lapply, lengths, mapply, match, mget,
order, paste, pmax, pmax.int, pmin, pmin.int, rank, rbind,
rowMeans, rowSums, rownames, sapply, setdiff, sort, table, tapply,
union, unique, unsplit, which, which.max, which.min
Loading required package: AnnotationHub
Loading sesameData.
>
> test_check("sesame")
== testthat results ===========================================================
OK: 3 SKIPPED: 0 FAILED: 0
>
> proc.time()
user system elapsed
22.64 1.60 24.53
|
sesame.Rcheck/tests_x64/testthat.Rout
R version 3.5.3 (2019-03-11) -- "Great Truth"
Copyright (C) 2019 The R Foundation for Statistical Computing
Platform: x86_64-w64-mingw32/x64 (64-bit)
R is free software and comes with ABSOLUTELY NO WARRANTY.
You are welcome to redistribute it under certain conditions.
Type 'license()' or 'licence()' for distribution details.
R is a collaborative project with many contributors.
Type 'contributors()' for more information and
'citation()' on how to cite R or R packages in publications.
Type 'demo()' for some demos, 'help()' for on-line help, or
'help.start()' for an HTML browser interface to help.
Type 'q()' to quit R.
> library(testthat)
> library(sesame)
Loading required package: sesameData
Loading required package: ExperimentHub
Loading required package: BiocGenerics
Loading required package: parallel
Attaching package: 'BiocGenerics'
The following objects are masked from 'package:parallel':
clusterApply, clusterApplyLB, clusterCall, clusterEvalQ,
clusterExport, clusterMap, parApply, parCapply, parLapply,
parLapplyLB, parRapply, parSapply, parSapplyLB
The following objects are masked from 'package:stats':
IQR, mad, sd, var, xtabs
The following objects are masked from 'package:base':
Filter, Find, Map, Position, Reduce, anyDuplicated, append,
as.data.frame, basename, cbind, colMeans, colSums, colnames,
dirname, do.call, duplicated, eval, evalq, get, grep, grepl,
intersect, is.unsorted, lapply, lengths, mapply, match, mget,
order, paste, pmax, pmax.int, pmin, pmin.int, rank, rbind,
rowMeans, rowSums, rownames, sapply, setdiff, sort, table, tapply,
union, unique, unsplit, which, which.max, which.min
Loading required package: AnnotationHub
Loading sesameData.
>
> test_check("sesame")
== testthat results ===========================================================
OK: 3 SKIPPED: 0 FAILED: 0
>
> proc.time()
user system elapsed
32.90 1.70 34.86
|
|
sesame.Rcheck/examples_i386/sesame-Ex.timings
|
sesame.Rcheck/examples_x64/sesame-Ex.timings
|