| Back to Multiple platform build/check report for BioC 3.8 |
|
This page was generated on 2019-04-16 11:51:04 -0400 (Tue, 16 Apr 2019).
| Package 1415/1649 | Hostname | OS / Arch | INSTALL | BUILD | CHECK | BUILD BIN | ||||||
| seq2pathway 1.14.0 Xinan Yang
| malbec1 | Linux (Ubuntu 16.04.6 LTS) / x86_64 | OK | OK | [ OK ] | |||||||
| merida1 | OS X 10.11.6 El Capitan / x86_64 | OK | OK | OK | OK |
| Package: seq2pathway |
| Version: 1.14.0 |
| Command: /home/biocbuild/bbs-3.8-bioc/R/bin/R CMD check --install=check:seq2pathway.install-out.txt --library=/home/biocbuild/bbs-3.8-bioc/R/library --no-vignettes --timings seq2pathway_1.14.0.tar.gz |
| StartedAt: 2019-04-16 02:58:02 -0400 (Tue, 16 Apr 2019) |
| EndedAt: 2019-04-16 03:01:43 -0400 (Tue, 16 Apr 2019) |
| EllapsedTime: 220.8 seconds |
| RetCode: 0 |
| Status: OK |
| CheckDir: seq2pathway.Rcheck |
| Warnings: 0 |
##############################################################################
##############################################################################
###
### Running command:
###
### /home/biocbuild/bbs-3.8-bioc/R/bin/R CMD check --install=check:seq2pathway.install-out.txt --library=/home/biocbuild/bbs-3.8-bioc/R/library --no-vignettes --timings seq2pathway_1.14.0.tar.gz
###
##############################################################################
##############################################################################
* using log directory ‘/home/biocbuild/bbs-3.8-bioc/meat/seq2pathway.Rcheck’
* using R version 3.5.3 (2019-03-11)
* using platform: x86_64-pc-linux-gnu (64-bit)
* using session charset: UTF-8
* using option ‘--no-vignettes’
* checking for file ‘seq2pathway/DESCRIPTION’ ... OK
* checking extension type ... Package
* this is package ‘seq2pathway’ version ‘1.14.0’
* checking package namespace information ... OK
* checking package dependencies ... OK
* checking if this is a source package ... OK
* checking if there is a namespace ... OK
* checking for hidden files and directories ... OK
* checking for portable file names ... OK
* checking for sufficient/correct file permissions ... OK
* checking whether package ‘seq2pathway’ can be installed ... OK
* checking installed package size ... OK
* checking package directory ... OK
* checking ‘build’ directory ... OK
* checking DESCRIPTION meta-information ... OK
* checking top-level files ... OK
* checking for left-over files ... OK
* checking index information ... OK
* checking package subdirectories ... OK
* checking R files for non-ASCII characters ... OK
* checking R files for syntax errors ... OK
* checking whether the package can be loaded ... OK
* checking whether the package can be loaded with stated dependencies ... OK
* checking whether the package can be unloaded cleanly ... OK
* checking whether the namespace can be loaded with stated dependencies ... OK
* checking whether the namespace can be unloaded cleanly ... OK
* checking dependencies in R code ... OK
* checking S3 generic/method consistency ... OK
* checking replacement functions ... OK
* checking foreign function calls ... OK
* checking R code for possible problems ... NOTE
FAIME_EmpiricalP: no visible global function definition for ‘data’
FAIME_EmpiricalP: no visible binding for global variable
‘gencode_coding’
FisherTest_GO_BP_MF_CC: no visible global function definition for
‘data’
FisherTest_GO_BP_MF_CC: no visible binding for global variable
‘GO_BP_list’
FisherTest_GO_BP_MF_CC: no visible binding for global variable
‘GO_MF_list’
FisherTest_GO_BP_MF_CC: no visible binding for global variable
‘GO_CC_list’
FisherTest_GO_BP_MF_CC: no visible binding for global variable
‘Des_BP_list’
FisherTest_GO_BP_MF_CC: no visible binding for global variable
‘Des_MF_list’
FisherTest_GO_BP_MF_CC: no visible binding for global variable
‘Des_CC_list’
FisherTest_GO_BP_MF_CC: no visible binding for global variable
‘GO_GENCODE_df_hg_v20’
FisherTest_GO_BP_MF_CC: no visible binding for global variable
‘GO_GENCODE_df_hg_v19’
FisherTest_GO_BP_MF_CC: no visible binding for global variable
‘GO_GENCODE_df_mm_vM4’
FisherTest_GO_BP_MF_CC: no visible binding for global variable
‘GO_GENCODE_df_mm_vM1’
FisherTest_GO_BP_MF_CC: no visible global function definition for
‘fisher.test’
FisherTest_GO_BP_MF_CC: no visible global function definition for
‘p.adjust’
FisherTest_MsigDB: no visible global function definition for ‘data’
FisherTest_MsigDB: no visible binding for global variable
‘Msig_GENCODE_df_hg_v20’
FisherTest_MsigDB: no visible binding for global variable
‘Msig_GENCODE_df_hg_v19’
FisherTest_MsigDB: no visible binding for global variable
‘Msig_GENCODE_df_mm_vM4’
FisherTest_MsigDB: no visible binding for global variable
‘Msig_GENCODE_df_mm_vM1’
FisherTest_MsigDB: no visible global function definition for
‘fisher.test’
FisherTest_MsigDB: no visible global function definition for ‘p.adjust’
KSrank: no visible global function definition for ‘ks.test’
KSrank_EmpiricalP: no visible global function definition for ‘data’
KSrank_EmpiricalP: no visible binding for global variable
‘gencode_coding’
KSrank_EmpiricalP: no visible global function definition for ‘ks.test’
Normalize_F: no visible global function definition for ‘head’
cumulativerank_EmpiricalP: no visible global function definition for
‘data’
cumulativerank_EmpiricalP: no visible binding for global variable
‘gencode_coding’
gene2pathway_test: no visible global function definition for ‘data’
gene2pathway_test: no visible binding for global variable ‘GO_BP_list’
gene2pathway_test: no visible binding for global variable ‘GO_MF_list’
gene2pathway_test: no visible binding for global variable ‘GO_CC_list’
gene2pathway_test: no visible binding for global variable ‘Des_BP_list’
gene2pathway_test: no visible binding for global variable ‘Des_CC_list’
gene2pathway_test: no visible binding for global variable ‘Des_MF_list’
rungene2pathway_EmpiricalP: no visible global function definition for
‘txtProgressBar’
rungene2pathway_EmpiricalP: no visible global function definition for
‘setTxtProgressBar’
runseq2gene: no visible global function definition for ‘write.table’
runseq2gene: no visible global function definition for ‘read.table’
runseq2pathway: no visible global function definition for ‘data’
runseq2pathway: no visible binding for global variable ‘GO_BP_list’
runseq2pathway: no visible binding for global variable ‘GO_MF_list’
runseq2pathway: no visible binding for global variable ‘GO_CC_list’
runseq2pathway: no visible binding for global variable ‘Des_BP_list’
runseq2pathway: no visible binding for global variable ‘Des_CC_list’
runseq2pathway: no visible binding for global variable ‘Des_MF_list’
runseq2pathway: no visible global function definition for ‘write.table’
runseq2pathway: no visible global function definition for ‘read.table’
Undefined global functions or variables:
Des_BP_list Des_CC_list Des_MF_list GO_BP_list GO_CC_list
GO_GENCODE_df_hg_v19 GO_GENCODE_df_hg_v20 GO_GENCODE_df_mm_vM1
GO_GENCODE_df_mm_vM4 GO_MF_list Msig_GENCODE_df_hg_v19
Msig_GENCODE_df_hg_v20 Msig_GENCODE_df_mm_vM1 Msig_GENCODE_df_mm_vM4
data fisher.test gencode_coding head ks.test p.adjust read.table
setTxtProgressBar txtProgressBar write.table
Consider adding
importFrom("stats", "fisher.test", "ks.test", "p.adjust")
importFrom("utils", "data", "head", "read.table", "setTxtProgressBar",
"txtProgressBar", "write.table")
to your NAMESPACE file.
* checking Rd files ... OK
* checking Rd metadata ... OK
* checking Rd cross-references ... OK
* checking for missing documentation entries ... OK
* checking for code/documentation mismatches ... OK
* checking Rd \usage sections ... OK
* checking Rd contents ... OK
* checking for unstated dependencies in examples ... OK
* checking contents of ‘data’ directory ... OK
* checking data for non-ASCII characters ... OK
* checking data for ASCII and uncompressed saves ... OK
* checking files in ‘vignettes’ ... OK
* checking examples ... OK
Examples with CPU or elapsed time > 5s
user system elapsed
runseq2pathway 36.848 1.068 38.045
runseq2gene 30.208 0.800 31.247
addDescription 0.396 0.008 10.096
* checking for unstated dependencies in vignettes ... OK
* checking package vignettes in ‘inst/doc’ ... OK
* checking running R code from vignettes ... SKIPPED
* checking re-building of vignette outputs ... SKIPPED
* checking PDF version of manual ... OK
* DONE
Status: 1 NOTE
See
‘/home/biocbuild/bbs-3.8-bioc/meat/seq2pathway.Rcheck/00check.log’
for details.
seq2pathway.Rcheck/00install.out
############################################################################## ############################################################################## ### ### Running command: ### ### /home/biocbuild/bbs-3.8-bioc/R/bin/R CMD INSTALL seq2pathway ### ############################################################################## ############################################################################## * installing to library ‘/home/biocbuild/bbs-3.8-bioc/R/library’ * installing *source* package ‘seq2pathway’ ... ** R ** data ** inst ** byte-compile and prepare package for lazy loading ** help *** installing help indices ** building package indices ** installing vignettes ** testing if installed package can be loaded * DONE (seq2pathway)
seq2pathway.Rcheck/seq2pathway-Ex.timings
| name | user | system | elapsed | |
| Chipseq_Peak_demo | 0.008 | 0.000 | 0.007 | |
| FisherTest_GO_BP_MF_CC | 4.696 | 0.008 | 4.855 | |
| FisherTest_MsigDB | 3.244 | 0.000 | 3.275 | |
| GRanges_demo | 0.004 | 0.000 | 0.008 | |
| addDescription | 0.396 | 0.008 | 10.096 | |
| dat_RNA | 0.016 | 0.000 | 0.018 | |
| dat_chip | 0.004 | 0.000 | 0.002 | |
| gene2pathway_test | 1.020 | 0.084 | 1.150 | |
| runseq2gene | 30.208 | 0.800 | 31.247 | |
| runseq2pathway | 36.848 | 1.068 | 38.045 | |