| Back to Multiple platform build/check report for BioC 3.8 |
|
This page was generated on 2019-04-13 11:21:10 -0400 (Sat, 13 Apr 2019).
| Package 1409/1649 | Hostname | OS / Arch | INSTALL | BUILD | CHECK | BUILD BIN | ||||||
| segmentSeq 2.16.0 Thomas J. Hardcastle
| malbec1 | Linux (Ubuntu 16.04.6 LTS) / x86_64 | OK | OK | NA | |||||||
| tokay1 | Windows Server 2012 R2 Standard / x64 | [ OK ] | OK | WARNINGS | OK | |||||||
| merida1 | OS X 10.11.6 El Capitan / x86_64 | OK | OK | OK | OK |
| Package: segmentSeq |
| Version: 2.16.0 |
| Command: C:\cygwin\bin\curl.exe -O https://malbec1.bioconductor.org/BBS/3.8/bioc/src/contrib/segmentSeq_2.16.0.tar.gz && rm -rf segmentSeq.buildbin-libdir && mkdir segmentSeq.buildbin-libdir && C:\Users\biocbuild\bbs-3.8-bioc\R\bin\R.exe CMD INSTALL --merge-multiarch --build --library=segmentSeq.buildbin-libdir segmentSeq_2.16.0.tar.gz && C:\Users\biocbuild\bbs-3.8-bioc\R\bin\R.exe CMD INSTALL segmentSeq_2.16.0.zip && rm segmentSeq_2.16.0.tar.gz segmentSeq_2.16.0.zip |
| StartedAt: 2019-04-12 19:47:25 -0400 (Fri, 12 Apr 2019) |
| EndedAt: 2019-04-12 19:48:31 -0400 (Fri, 12 Apr 2019) |
| EllapsedTime: 66.4 seconds |
| RetCode: 0 |
| Status: OK |
##############################################################################
##############################################################################
###
### Running command:
###
### C:\cygwin\bin\curl.exe -O https://malbec1.bioconductor.org/BBS/3.8/bioc/src/contrib/segmentSeq_2.16.0.tar.gz && rm -rf segmentSeq.buildbin-libdir && mkdir segmentSeq.buildbin-libdir && C:\Users\biocbuild\bbs-3.8-bioc\R\bin\R.exe CMD INSTALL --merge-multiarch --build --library=segmentSeq.buildbin-libdir segmentSeq_2.16.0.tar.gz && C:\Users\biocbuild\bbs-3.8-bioc\R\bin\R.exe CMD INSTALL segmentSeq_2.16.0.zip && rm segmentSeq_2.16.0.tar.gz segmentSeq_2.16.0.zip
###
##############################################################################
##############################################################################
% Total % Received % Xferd Average Speed Time Time Time Current
Dload Upload Total Spent Left Speed
0 0 0 0 0 0 0 0 --:--:-- --:--:-- --:--:-- 0
100 2357k 100 2357k 0 0 33.0M 0 --:--:-- --:--:-- --:--:-- 34.8M
install for i386
* installing *source* package 'segmentSeq' ...
** R
** data
** inst
** byte-compile and prepare package for lazy loading
** help
*** installing help indices
converting help for package 'segmentSeq'
finding HTML links ... done
SL html
alignmentClass-class html
alignmentData-class html
alignmentMeth-class html
averageMethylationRegions html
finding level-2 HTML links ... done
classifySeg html
Rd warning: C:/Users/biocbuild/bbs-3.8-bioc/tmpdir/Rtmp8IARcL/R.INSTALL1288525f6c76/segmentSeq/man/classifySeg.Rd:45: file link 'getPriors.NB' in package 'baySeq' does not exist and so has been treated as a topic
findChunks html
getCounts html
getOverlaps html
givenExpression html
hSL html
heuristicSeg html
lociData-class html
lociLikelihoods html
Rd warning: C:/Users/biocbuild/bbs-3.8-bioc/tmpdir/Rtmp8IARcL/R.INSTALL1288525f6c76/segmentSeq/man/lociLikelihoods.Rd:27: file link 'getLikelihoods.NB' in package 'baySeq' does not exist and so has been treated as a topic
mergeMethSegs html
methData-class html
normaliseNC html
plotGenome html
plotMeth html
plotMethDistribution html
processAD html
readMethods html
readMeths html
segClass-class html
Rd warning: C:/Users/biocbuild/bbs-3.8-bioc/tmpdir/Rtmp8IARcL/R.INSTALL1288525f6c76/segmentSeq/man/segClass-class.Rd:23: file link 'GRanges' in package 'GenomicRanges' does not exist and so has been treated as a topic
segData-class html
Rd warning: C:/Users/biocbuild/bbs-3.8-bioc/tmpdir/Rtmp8IARcL/R.INSTALL1288525f6c76/segmentSeq/man/segData-class.Rd:25: file link 'GRanges' in package 'GenomicRanges' does not exist and so has been treated as a topic
segMeth-class html
Rd warning: C:/Users/biocbuild/bbs-3.8-bioc/tmpdir/Rtmp8IARcL/R.INSTALL1288525f6c76/segmentSeq/man/segMeth-class.Rd:25: file link 'GRanges' in package 'GenomicRanges' does not exist and so has been treated as a topic
segmentSeq-package html
selectLoci html
summariseLoci html
thresholdFinder html
** building package indices
** installing vignettes
** testing if installed package can be loaded
In R CMD INSTALL
install for x64
* installing *source* package 'segmentSeq' ...
** testing if installed package can be loaded
* MD5 sums
packaged installation of 'segmentSeq' as segmentSeq_2.16.0.zip
* DONE (segmentSeq)
In R CMD INSTALL
In R CMD INSTALL
* installing to library 'C:/Users/biocbuild/bbs-3.8-bioc/R/library'
package 'segmentSeq' successfully unpacked and MD5 sums checked
In R CMD INSTALL