| Back to Multiple platform build/check report for BioC 3.8 |
|
This page was generated on 2019-04-16 11:57:29 -0400 (Tue, 16 Apr 2019).
| Package 1407/1649 | Hostname | OS / Arch | INSTALL | BUILD | CHECK | BUILD BIN | ||||||
| scsR 1.18.0 Andrea Franceschini
| malbec1 | Linux (Ubuntu 16.04.6 LTS) / x86_64 | OK | OK | OK | |||||||
| merida1 | OS X 10.11.6 El Capitan / x86_64 | OK | OK | [ OK ] | OK |
| Package: scsR |
| Version: 1.18.0 |
| Command: /Library/Frameworks/R.framework/Versions/Current/Resources/bin/R CMD check --install=check:scsR.install-out.txt --library=/Library/Frameworks/R.framework/Versions/Current/Resources/library --no-vignettes --timings scsR_1.18.0.tar.gz |
| StartedAt: 2019-04-16 02:40:11 -0400 (Tue, 16 Apr 2019) |
| EndedAt: 2019-04-16 02:43:05 -0400 (Tue, 16 Apr 2019) |
| EllapsedTime: 174.3 seconds |
| RetCode: 0 |
| Status: OK |
| CheckDir: scsR.Rcheck |
| Warnings: 0 |
##############################################################################
##############################################################################
###
### Running command:
###
### /Library/Frameworks/R.framework/Versions/Current/Resources/bin/R CMD check --install=check:scsR.install-out.txt --library=/Library/Frameworks/R.framework/Versions/Current/Resources/library --no-vignettes --timings scsR_1.18.0.tar.gz
###
##############################################################################
##############################################################################
* using log directory ‘/Users/biocbuild/bbs-3.8-bioc/meat/scsR.Rcheck’
* using R version 3.5.3 (2019-03-11)
* using platform: x86_64-apple-darwin15.6.0 (64-bit)
* using session charset: UTF-8
* using option ‘--no-vignettes’
* checking for file ‘scsR/DESCRIPTION’ ... OK
* checking extension type ... Package
* this is package ‘scsR’ version ‘1.18.0’
* checking package namespace information ... OK
* checking package dependencies ... NOTE
Depends: includes the non-default packages:
‘STRINGdb’ ‘BiocGenerics’ ‘Biostrings’ ‘IRanges’ ‘plyr’ ‘tcltk’
Adding so many packages to the search path is excessive and importing
selectively is preferable.
* checking if this is a source package ... OK
* checking if there is a namespace ... OK
* checking for hidden files and directories ... OK
* checking for portable file names ... OK
* checking for sufficient/correct file permissions ... OK
* checking whether package ‘scsR’ can be installed ... OK
* checking installed package size ... OK
* checking package directory ... OK
* checking ‘build’ directory ... OK
* checking DESCRIPTION meta-information ... OK
* checking top-level files ... OK
* checking for left-over files ... OK
* checking index information ... OK
* checking package subdirectories ... OK
* checking R files for non-ASCII characters ... OK
* checking R files for syntax errors ... OK
* checking whether the package can be loaded ... OK
* checking whether the package can be loaded with stated dependencies ... OK
* checking whether the package can be unloaded cleanly ... OK
* checking whether the namespace can be loaded with stated dependencies ... OK
* checking whether the namespace can be unloaded cleanly ... OK
* checking dependencies in R code ... OK
* checking S3 generic/method consistency ... OK
* checking replacement functions ... OK
* checking foreign function calls ... OK
* checking R code for possible problems ... NOTE
OPIrsaScore : <anonymous>: no visible global function definition for
‘phyper’
enrichment_geneSet: no visible global function definition for ‘phyper’
enrichment_heatmap: no visible global function definition for
‘heatmap.2’
get_seed_oligos_df: no visible global function definition for
‘txtProgressBar’
get_seed_oligos_df: no visible global function definition for
‘setTxtProgressBar’
get_seed_oligos_df: no visible global function definition for ‘phyper’
get_seed_oligos_df: no visible global function definition for ‘ks.test’
plot_seed_score_sd: no visible global function definition for ‘lm’
plot_seed_score_sd: no visible global function definition for
‘cor.test’
seed_correction: no visible global function definition for
‘txtProgressBar’
seed_correction: no visible global function definition for
‘setTxtProgressBar’
seed_correction_pooled: no visible global function definition for
‘txtProgressBar’
seed_correction_pooled: no visible global function definition for
‘setTxtProgressBar’
seed_removal: no visible global function definition for
‘txtProgressBar’
seed_removal: no visible global function definition for
‘setTxtProgressBar’
seeds_analysis : <anonymous>: no visible global function definition for
‘ks.test’
seeds_analysis: no visible global function definition for ‘phyper’
transcribe_seqs: no visible global function definition for
‘txtProgressBar’
transcribe_seqs: no visible global function definition for
‘setTxtProgressBar’
Undefined global functions or variables:
cor.test heatmap.2 ks.test lm phyper setTxtProgressBar txtProgressBar
Consider adding
importFrom("stats", "cor.test", "ks.test", "lm", "phyper")
importFrom("utils", "setTxtProgressBar", "txtProgressBar")
to your NAMESPACE file.
* checking Rd files ... OK
* checking Rd metadata ... OK
* checking Rd cross-references ... OK
* checking for missing documentation entries ... OK
* checking for code/documentation mismatches ... OK
* checking Rd \usage sections ... OK
* checking Rd contents ... OK
* checking for unstated dependencies in examples ... OK
* checking contents of ‘data’ directory ... OK
* checking data for non-ASCII characters ... OK
* checking data for ASCII and uncompressed saves ... OK
* checking sizes of PDF files under ‘inst/doc’ ... OK
* checking files in ‘vignettes’ ... OK
* checking examples ... OK
Examples with CPU or elapsed time > 5s
user system elapsed
compare_sorted_geneSets 24.255 1.505 25.743
* checking for unstated dependencies in vignettes ... OK
* checking package vignettes in ‘inst/doc’ ... OK
* checking running R code from vignettes ... SKIPPED
* checking re-building of vignette outputs ... SKIPPED
* checking PDF version of manual ... OK
* DONE
Status: 2 NOTEs
See
‘/Users/biocbuild/bbs-3.8-bioc/meat/scsR.Rcheck/00check.log’
for details.
scsR.Rcheck/00install.out
############################################################################## ############################################################################## ### ### Running command: ### ### /Library/Frameworks/R.framework/Versions/Current/Resources/bin/R CMD INSTALL scsR ### ############################################################################## ############################################################################## * installing to library ‘/Library/Frameworks/R.framework/Versions/3.5/Resources/library’ * installing *source* package ‘scsR’ ... ** R ** data ** byte-compile and prepare package for lazy loading ** help *** installing help indices ** building package indices ** installing vignettes ** testing if installed package can be loaded * DONE (scsR)
scsR.Rcheck/scsR-Ex.timings
| name | user | system | elapsed | |
| add_rank_col | 0.690 | 0.048 | 0.736 | |
| add_seed | 0.271 | 0.010 | 0.282 | |
| benchmark_shared_hits | 2.540 | 0.156 | 2.702 | |
| bydf | 0.549 | 0.028 | 0.575 | |
| check_consistency | 1.850 | 0.063 | 1.932 | |
| compare_sorted_geneSets | 24.255 | 1.505 | 25.743 | |
| create_sd_matrix | 0.408 | 0.023 | 0.434 | |
| delColDf | 0.243 | 0.013 | 0.260 | |
| delete_undefined_rows | 0.446 | 0.020 | 0.469 | |
| enrichment_geneSet | 0.505 | 0.024 | 0.534 | |
| enrichment_heatmap | 0.456 | 0.026 | 0.489 | |
| get_sd_quant | 1.425 | 0.091 | 1.516 | |
| get_seed_oligos_df | 1.124 | 0.066 | 1.188 | |
| intersectAll | 0.001 | 0.000 | 0.002 | |
| launch_RSA | 0.558 | 0.028 | 0.585 | |
| median_replicates | 0.886 | 0.058 | 0.955 | |
| plot_screen_hits | 2.046 | 0.135 | 2.172 | |
| plot_seeds_methods | 3.459 | 0.231 | 3.676 | |
| randomSortOnVal | 0.252 | 0.007 | 0.262 | |
| randomizeInner | 0.259 | 0.009 | 0.270 | |
| removeSharedOffTargets | 1.128 | 0.035 | 1.168 | |
| renameColDf | 0.234 | 0.006 | 0.247 | |
| replace_non_null_elements | 0.240 | 0.007 | 0.250 | |
| seed_correction | 0.737 | 0.037 | 0.772 | |
| seed_correction_pooled | 0.658 | 0.036 | 0.693 | |
| seed_removal | 0.509 | 0.020 | 0.530 | |
| seeds_analysis | 2.059 | 0.114 | 2.173 | |
| sortInner | 0.371 | 0.016 | 0.387 | |
| split_df | 0.267 | 0.010 | 0.278 | |
| transcribe_seqs | 0.366 | 0.016 | 0.384 | |