| Back to Multiple platform build/check report for BioC 3.8 |
|
This page was generated on 2019-04-16 11:57:25 -0400 (Tue, 16 Apr 2019).
| Package 1386/1649 | Hostname | OS / Arch | INSTALL | BUILD | CHECK | BUILD BIN | ||||||
| savR 1.20.0 R. Brent Calder
| malbec1 | Linux (Ubuntu 16.04.6 LTS) / x86_64 | OK | OK | OK | |||||||
| merida1 | OS X 10.11.6 El Capitan / x86_64 | OK | OK | [ OK ] | OK |
| Package: savR |
| Version: 1.20.0 |
| Command: /Library/Frameworks/R.framework/Versions/Current/Resources/bin/R CMD check --install=check:savR.install-out.txt --library=/Library/Frameworks/R.framework/Versions/Current/Resources/library --no-vignettes --timings savR_1.20.0.tar.gz |
| StartedAt: 2019-04-16 02:36:37 -0400 (Tue, 16 Apr 2019) |
| EndedAt: 2019-04-16 02:38:03 -0400 (Tue, 16 Apr 2019) |
| EllapsedTime: 85.9 seconds |
| RetCode: 0 |
| Status: OK |
| CheckDir: savR.Rcheck |
| Warnings: 0 |
##############################################################################
##############################################################################
###
### Running command:
###
### /Library/Frameworks/R.framework/Versions/Current/Resources/bin/R CMD check --install=check:savR.install-out.txt --library=/Library/Frameworks/R.framework/Versions/Current/Resources/library --no-vignettes --timings savR_1.20.0.tar.gz
###
##############################################################################
##############################################################################
* using log directory ‘/Users/biocbuild/bbs-3.8-bioc/meat/savR.Rcheck’
* using R version 3.5.3 (2019-03-11)
* using platform: x86_64-apple-darwin15.6.0 (64-bit)
* using session charset: UTF-8
* using option ‘--no-vignettes’
* checking for file ‘savR/DESCRIPTION’ ... OK
* checking extension type ... Package
* this is package ‘savR’ version ‘1.20.0’
* checking package namespace information ... OK
* checking package dependencies ... OK
* checking if this is a source package ... OK
* checking if there is a namespace ... OK
* checking for hidden files and directories ... OK
* checking for portable file names ... OK
* checking for sufficient/correct file permissions ... OK
* checking whether package ‘savR’ can be installed ... OK
* checking installed package size ... OK
* checking package directory ... OK
* checking ‘build’ directory ... OK
* checking DESCRIPTION meta-information ... OK
* checking top-level files ... OK
* checking for left-over files ... OK
* checking index information ... OK
* checking package subdirectories ... OK
* checking R files for non-ASCII characters ... OK
* checking R files for syntax errors ... OK
* checking whether the package can be loaded ... OK
* checking whether the package can be loaded with stated dependencies ... OK
* checking whether the package can be unloaded cleanly ... OK
* checking whether the namespace can be loaded with stated dependencies ... OK
* checking whether the namespace can be unloaded cleanly ... OK
* checking dependencies in R code ... OK
* checking S3 generic/method consistency ... OK
* checking replacement functions ... OK
* checking foreign function calls ... OK
* checking R code for possible problems ... NOTE
buildReports,savProject-character: no visible global function
definition for ‘dev.off’
qualityHeatmap,savProject-integer-integer-logical: no visible global
function definition for ‘quantile’
Undefined global functions or variables:
dev.off quantile
Consider adding
importFrom("grDevices", "dev.off")
importFrom("stats", "quantile")
to your NAMESPACE file.
* checking Rd files ... OK
* checking Rd metadata ... OK
* checking Rd cross-references ... OK
* checking for missing documentation entries ... OK
* checking for code/documentation mismatches ... OK
* checking Rd \usage sections ... OK
* checking Rd contents ... OK
* checking for unstated dependencies in examples ... OK
* checking sizes of PDF files under ‘inst/doc’ ... OK
* checking files in ‘vignettes’ ... OK
* checking examples ... OK
* checking for unstated dependencies in ‘tests’ ... OK
* checking tests ...
Running ‘testthat.R’
OK
* checking for unstated dependencies in vignettes ... OK
* checking package vignettes in ‘inst/doc’ ... OK
* checking running R code from vignettes ... SKIPPED
* checking re-building of vignette outputs ... SKIPPED
* checking PDF version of manual ... OK
* DONE
Status: 1 NOTE
See
‘/Users/biocbuild/bbs-3.8-bioc/meat/savR.Rcheck/00check.log’
for details.
savR.Rcheck/00install.out
############################################################################## ############################################################################## ### ### Running command: ### ### /Library/Frameworks/R.framework/Versions/Current/Resources/bin/R CMD INSTALL savR ### ############################################################################## ############################################################################## * installing to library ‘/Library/Frameworks/R.framework/Versions/3.5/Resources/library’ * installing *source* package ‘savR’ ... ** R ** inst ** byte-compile and prepare package for lazy loading ** help *** installing help indices ** building package indices ** installing vignettes ** testing if installed package can be loaded * DONE (savR)
savR.Rcheck/tests/testthat.Rout
R version 3.5.3 (2019-03-11) -- "Great Truth"
Copyright (C) 2019 The R Foundation for Statistical Computing
Platform: x86_64-apple-darwin15.6.0 (64-bit)
R is free software and comes with ABSOLUTELY NO WARRANTY.
You are welcome to redistribute it under certain conditions.
Type 'license()' or 'licence()' for distribution details.
R is a collaborative project with many contributors.
Type 'contributors()' for more information and
'citation()' on how to cite R or R packages in publications.
Type 'demo()' for some demos, 'help()' for on-line help, or
'help.start()' for an HTML browser interface to help.
Type 'q()' to quit R.
> library(testthat)
> library(savR)
Loading required package: ggplot2
>
> test_check("savR")
══ testthat results ═══════════════════════════════════════════════════════════
OK: 8 SKIPPED: 7 FAILED: 0
>
> proc.time()
user system elapsed
8.107 0.210 8.381
savR.Rcheck/savR-Ex.timings
| name | user | system | elapsed | |
| buildReports | 0 | 0 | 0 | |
| clusterQualityGtN | 0 | 0 | 0 | |
| clusters | 0 | 0 | 0 | |
| correctedIntensities | 3.337 | 0.026 | 3.416 | |
| cycles | 3.095 | 0.024 | 3.136 | |
| directions | 3.013 | 0.023 | 3.056 | |
| errorMetrics | 3.259 | 0.017 | 3.299 | |
| extractionMetrics | 2.939 | 0.017 | 2.968 | |
| flowcellLayout | 3.063 | 0.013 | 3.086 | |
| location | 2.907 | 0.018 | 2.945 | |
| pfClusters | 0.002 | 0.000 | 0.002 | |
| qualityMetrics | 3.023 | 0.025 | 3.074 | |
| reads | 3.124 | 0.020 | 3.158 | |
| run | 2.895 | 0.021 | 2.944 | |
| savR | 3.609 | 0.026 | 3.675 | |
| tileMetrics | 3.364 | 0.022 | 3.421 | |