| Back to Multiple platform build/check report for BioC 3.8 |
|
This page was generated on 2019-04-16 11:49:16 -0400 (Tue, 16 Apr 2019).
| Package 1349/1649 | Hostname | OS / Arch | INSTALL | BUILD | CHECK | BUILD BIN | ||||||
| rqubic 1.28.0 Jitao David Zhang
| malbec1 | Linux (Ubuntu 16.04.6 LTS) / x86_64 | [ OK ] | OK | WARNINGS | |||||||
| merida1 | OS X 10.11.6 El Capitan / x86_64 | OK | OK | OK | OK |
| Package: rqubic |
| Version: 1.28.0 |
| Command: /home/biocbuild/bbs-3.8-bioc/R/bin/R CMD INSTALL rqubic |
| StartedAt: 2019-04-15 18:02:09 -0400 (Mon, 15 Apr 2019) |
| EndedAt: 2019-04-15 18:02:16 -0400 (Mon, 15 Apr 2019) |
| EllapsedTime: 6.8 seconds |
| RetCode: 0 |
| Status: OK |
##############################################################################
##############################################################################
###
### Running command:
###
### /home/biocbuild/bbs-3.8-bioc/R/bin/R CMD INSTALL rqubic
###
##############################################################################
##############################################################################
* installing to library ‘/home/biocbuild/bbs-3.8-bioc/R/library’
* installing *source* package ‘rqubic’ ...
** libs
gcc -I"/home/biocbuild/bbs-3.8-bioc/R/include" -DNDEBUG -I/usr/local/include -fpic -g -O2 -Wall -c bicluster.c -o bicluster.o
bicluster.c: In function ‘seed_intersect_r’:
bicluster.c:354:7: warning: suggest parentheses around assignment used as truth value [-Wparentheses]
if (flag=ss) (*m_cnt)++;
^
gcc -I"/home/biocbuild/bbs-3.8-bioc/R/include" -DNDEBUG -I/usr/local/include -fpic -g -O2 -Wall -c discretize.c -o discretize.o
In file included from discretize.c:9:0:
rqubic.h:60:20: warning: ‘EDGELIST_ATT_NAME’ defined but not used [-Wunused-variable]
static const char *EDGELIST_ATT_NAME="edgelist";
^
rqubic.h:61:20: warning: ‘MINCOL_ATT_NAME’ defined but not used [-Wunused-variable]
static const char *MINCOL_ATT_NAME="minimumCol";
^
gcc -I"/home/biocbuild/bbs-3.8-bioc/R/include" -DNDEBUG -I/usr/local/include -fpic -g -O2 -Wall -c fib.c -o fib.o
In file included from fib.c:35:0:
rqubic.h:60:20: warning: ‘EDGELIST_ATT_NAME’ defined but not used [-Wunused-variable]
static const char *EDGELIST_ATT_NAME="edgelist";
^
rqubic.h:61:20: warning: ‘MINCOL_ATT_NAME’ defined but not used [-Wunused-variable]
static const char *MINCOL_ATT_NAME="minimumCol";
^
gcc -I"/home/biocbuild/bbs-3.8-bioc/R/include" -DNDEBUG -I/usr/local/include -fpic -g -O2 -Wall -c graph.c -o graph.o
gcc -I"/home/biocbuild/bbs-3.8-bioc/R/include" -DNDEBUG -I/usr/local/include -fpic -g -O2 -Wall -c rqubic.c -o rqubic.o
In file included from rqubic.c:5:0:
rqubic.h:60:20: warning: ‘EDGELIST_ATT_NAME’ defined but not used [-Wunused-variable]
static const char *EDGELIST_ATT_NAME="edgelist";
^
rqubic.h:61:20: warning: ‘MINCOL_ATT_NAME’ defined but not used [-Wunused-variable]
static const char *MINCOL_ATT_NAME="minimumCol";
^
gcc -shared -L/home/biocbuild/bbs-3.8-bioc/R/lib -L/usr/local/lib -o rqubic.so bicluster.o discretize.o fib.o graph.o rqubic.o -L/home/biocbuild/bbs-3.8-bioc/R/lib -lR
installing to /home/biocbuild/bbs-3.8-bioc/R/library/rqubic/libs
** R
** inst
** byte-compile and prepare package for lazy loading
** help
*** installing help indices
** building package indices
** installing vignettes
** testing if installed package can be loaded
* DONE (rqubic)