| Back to Multiple platform build/check report for BioC 3.8 |
|
This page was generated on 2019-04-13 11:27:36 -0400 (Sat, 13 Apr 2019).
| Package 1348/1649 | Hostname | OS / Arch | INSTALL | BUILD | CHECK | BUILD BIN | ||||||
| rqt 1.8.0 Ilya Y. Zhbannikov
| malbec1 | Linux (Ubuntu 16.04.6 LTS) / x86_64 | OK | OK | OK | |||||||
| tokay1 | Windows Server 2012 R2 Standard / x64 | OK | OK | OK | [ OK ] | |||||||
| merida1 | OS X 10.11.6 El Capitan / x86_64 | OK | OK | OK | OK |
| Package: rqt |
| Version: 1.8.0 |
| Command: rm -rf rqt.buildbin-libdir && mkdir rqt.buildbin-libdir && C:\Users\biocbuild\bbs-3.8-bioc\R\bin\R.exe CMD INSTALL --merge-multiarch --build --library=rqt.buildbin-libdir rqt_1.8.0.tar.gz |
| StartedAt: 2019-04-13 07:53:43 -0400 (Sat, 13 Apr 2019) |
| EndedAt: 2019-04-13 07:54:11 -0400 (Sat, 13 Apr 2019) |
| EllapsedTime: 27.7 seconds |
| RetCode: 0 |
| Status: OK |
| PackageFile: rqt_1.8.0.zip |
| PackageFileSize: 766.5 KiB |
##############################################################################
##############################################################################
###
### Running command:
###
### rm -rf rqt.buildbin-libdir && mkdir rqt.buildbin-libdir && C:\Users\biocbuild\bbs-3.8-bioc\R\bin\R.exe CMD INSTALL --merge-multiarch --build --library=rqt.buildbin-libdir rqt_1.8.0.tar.gz
###
##############################################################################
##############################################################################
install for i386
* installing *source* package 'rqt' ...
** R
** inst
** byte-compile and prepare package for lazy loading
** help
*** installing help indices
converting help for package 'rqt'
finding HTML links ... done
build.null.model html
get.a html
preprocess html
rqt-class html
rqt-covariates html
rqt-geneTest html
rqt-geneTestMeta html
rqt-general html
rqt-genotype html
rqt-methods html
rqt-phenotype html
rqt-results html
simple.multvar.reg html
vcov_ridge html
** building package indices
** installing vignettes
** testing if installed package can be loaded
In R CMD INSTALL
install for x64
* installing *source* package 'rqt' ...
** testing if installed package can be loaded
* MD5 sums
packaged installation of 'rqt' as rqt_1.8.0.zip
* DONE (rqt)
In R CMD INSTALL
In R CMD INSTALL