| Back to Multiple platform build/check report for BioC 3.8 |
|
This page was generated on 2019-04-13 11:27:17 -0400 (Sat, 13 Apr 2019).
| Package 1288/1649 | Hostname | OS / Arch | INSTALL | BUILD | CHECK | BUILD BIN | ||||||
| regsplice 1.8.1 Lukas M. Weber
| malbec1 | Linux (Ubuntu 16.04.6 LTS) / x86_64 | OK | OK | OK | |||||||
| tokay1 | Windows Server 2012 R2 Standard / x64 | OK | OK | WARNINGS | [ OK ] | |||||||
| merida1 | OS X 10.11.6 El Capitan / x86_64 | OK | OK | OK | OK |
| Package: regsplice |
| Version: 1.8.1 |
| Command: rm -rf regsplice.buildbin-libdir && mkdir regsplice.buildbin-libdir && C:\Users\biocbuild\bbs-3.8-bioc\R\bin\R.exe CMD INSTALL --merge-multiarch --build --library=regsplice.buildbin-libdir regsplice_1.8.1.tar.gz |
| StartedAt: 2019-04-13 07:51:14 -0400 (Sat, 13 Apr 2019) |
| EndedAt: 2019-04-13 07:51:37 -0400 (Sat, 13 Apr 2019) |
| EllapsedTime: 22.9 seconds |
| RetCode: 0 |
| Status: OK |
| PackageFile: regsplice_1.8.1.zip |
| PackageFileSize: 447.8 KiB |
##############################################################################
##############################################################################
###
### Running command:
###
### rm -rf regsplice.buildbin-libdir && mkdir regsplice.buildbin-libdir && C:\Users\biocbuild\bbs-3.8-bioc\R\bin\R.exe CMD INSTALL --merge-multiarch --build --library=regsplice.buildbin-libdir regsplice_1.8.1.tar.gz
###
##############################################################################
##############################################################################
install for i386
* installing *source* package 'regsplice' ...
** R
** inst
** byte-compile and prepare package for lazy loading
** help
*** installing help indices
converting help for package 'regsplice'
finding HTML links ... done
LRTests html
RegspliceData html
Rd warning: C:/Users/biocbuild/bbs-3.8-bioc/tmpdir/RtmpmqK43Q/R.INSTALL466c4a1bfda/regsplice/man/RegspliceData.Rd:75: file link 'SummarizedExperiment' in package 'SummarizedExperiment' does not exist and so has been treated as a topic
RegspliceResults html
createDesignMatrix html
filterLowCounts html
filterZeros html
fitRegMultiple html
initializeResults html
finding level-2 HTML links ... done
regsplice html
runNormalization html
runVoom html
summaryTable html
** building package indices
** installing vignettes
** testing if installed package can be loaded
In R CMD INSTALL
install for x64
* installing *source* package 'regsplice' ...
** testing if installed package can be loaded
* MD5 sums
packaged installation of 'regsplice' as regsplice_1.8.1.zip
* DONE (regsplice)
In R CMD INSTALL
In R CMD INSTALL