| Back to Multiple platform build/check report for BioC 3.8 | 
 | 
This page was generated on 2019-04-13 11:26:30 -0400 (Sat, 13 Apr 2019).
| Package 1281/1649 | Hostname | OS / Arch | INSTALL | BUILD | CHECK | BUILD BIN | ||||||
| recoup 1.10.1 Panagiotis Moulos 
 | malbec1 | Linux (Ubuntu 16.04.6 LTS) / x86_64 | OK | OK | OK |  | ||||||
| tokay1 | Windows Server 2012 R2 Standard / x64 | [ OK ] | OK | OK | OK |  | ||||||
| merida1 | OS X 10.11.6 El Capitan / x86_64 | OK | OK | OK | OK |  | 
| Package: recoup | 
| Version: 1.10.1 | 
| Command: C:\cygwin\bin\curl.exe -O https://malbec1.bioconductor.org/BBS/3.8/bioc/src/contrib/recoup_1.10.1.tar.gz && rm -rf recoup.buildbin-libdir && mkdir recoup.buildbin-libdir && C:\Users\biocbuild\bbs-3.8-bioc\R\bin\R.exe CMD INSTALL --merge-multiarch --build --library=recoup.buildbin-libdir recoup_1.10.1.tar.gz && C:\Users\biocbuild\bbs-3.8-bioc\R\bin\R.exe CMD INSTALL recoup_1.10.1.zip && rm recoup_1.10.1.tar.gz recoup_1.10.1.zip | 
| StartedAt: 2019-04-12 19:53:18 -0400 (Fri, 12 Apr 2019) | 
| EndedAt: 2019-04-12 19:54:35 -0400 (Fri, 12 Apr 2019) | 
| EllapsedTime: 76.2 seconds | 
| RetCode: 0 | 
| Status: OK | 
##############################################################################
##############################################################################
###
### Running command:
###
###   C:\cygwin\bin\curl.exe -O https://malbec1.bioconductor.org/BBS/3.8/bioc/src/contrib/recoup_1.10.1.tar.gz && rm -rf recoup.buildbin-libdir && mkdir recoup.buildbin-libdir && C:\Users\biocbuild\bbs-3.8-bioc\R\bin\R.exe CMD INSTALL --merge-multiarch --build --library=recoup.buildbin-libdir recoup_1.10.1.tar.gz && C:\Users\biocbuild\bbs-3.8-bioc\R\bin\R.exe CMD INSTALL recoup_1.10.1.zip && rm recoup_1.10.1.tar.gz recoup_1.10.1.zip
###
##############################################################################
##############################################################################
  % Total    % Received % Xferd  Average Speed   Time    Time     Time  Current
                                 Dload  Upload   Total   Spent    Left  Speed
  0     0    0     0    0     0      0      0 --:--:-- --:--:-- --:--:--     0
100 1976k  100 1976k    0     0  18.8M      0 --:--:-- --:--:-- --:--:-- 19.7M
install for i386
* installing *source* package 'recoup' ...
** R
** data
*** moving datasets to lazyload DB
** inst
** byte-compile and prepare package for lazy loading
** help
*** installing help indices
  converting help for package 'recoup'
    finding HTML links ... done
    buildAnnotationStore                    html  
    calcCoverage                            html  
    coverageRef                             html  
    finding level-2 HTML links ... done
    coverageRnaRef                          html  
    getAnnotation                           html  
    getBiotypes                             html  
    kmeansDesign                            html  
    mergeRuns                               html  
    preprocessRanges                        html  
    profileMatrix                           html  
    recoup                                  html  
    recoupCorrelation                       html  
    recoupHeatmap                           html  
    recoupPlot                              html  
    recoupProfile                           html  
    recoup_test_data                        html  
    removeData                              html  
    simpleGetSet                            html  
    sliceObj                                html  
** building package indices
** installing vignettes
** testing if installed package can be loaded
In R CMD INSTALL
install for x64
* installing *source* package 'recoup' ...
** testing if installed package can be loaded
* MD5 sums
packaged installation of 'recoup' as recoup_1.10.1.zip
* DONE (recoup)
In R CMD INSTALL
In R CMD INSTALL
* installing to library 'C:/Users/biocbuild/bbs-3.8-bioc/R/library'
package 'recoup' successfully unpacked and MD5 sums checked
In R CMD INSTALL