| Back to Multiple platform build/check report for BioC 3.8 |
|
This page was generated on 2019-04-13 11:19:43 -0400 (Sat, 13 Apr 2019).
| Package 1278/1649 | Hostname | OS / Arch | INSTALL | BUILD | CHECK | BUILD BIN | ||||||
| reb 1.60.0 Karl J. Dykema
| malbec1 | Linux (Ubuntu 16.04.6 LTS) / x86_64 | OK | OK | OK | |||||||
| tokay1 | Windows Server 2012 R2 Standard / x64 | OK | OK | OK | [ OK ] | |||||||
| merida1 | OS X 10.11.6 El Capitan / x86_64 | OK | OK | OK | OK |
| Package: reb |
| Version: 1.60.0 |
| Command: rm -rf reb.buildbin-libdir && mkdir reb.buildbin-libdir && C:\Users\biocbuild\bbs-3.8-bioc\R\bin\R.exe CMD INSTALL --merge-multiarch --build --library=reb.buildbin-libdir reb_1.60.0.tar.gz |
| StartedAt: 2019-04-13 07:50:56 -0400 (Sat, 13 Apr 2019) |
| EndedAt: 2019-04-13 07:51:14 -0400 (Sat, 13 Apr 2019) |
| EllapsedTime: 18.3 seconds |
| RetCode: 0 |
| Status: OK |
| PackageFile: reb_1.60.0.zip |
| PackageFileSize: 765.5 KiB |
##############################################################################
##############################################################################
###
### Running command:
###
### rm -rf reb.buildbin-libdir && mkdir reb.buildbin-libdir && C:\Users\biocbuild\bbs-3.8-bioc\R\bin\R.exe CMD INSTALL --merge-multiarch --build --library=reb.buildbin-libdir reb_1.60.0.tar.gz
###
##############################################################################
##############################################################################
install for i386
* installing *source* package 'reb' ...
** libs
C:/Rtools/mingw_32/bin/gcc -I"C:/Users/BIOCBU˜1/BBS-3˜1.8-B/R/include" -DNDEBUG -I"C:/extsoft/include" -O3 -Wall -std=gnu99 -mtune=generic -c movbin.c -o movbin.o
C:/Rtools/mingw_32/bin/gcc -shared -s -static-libgcc -o reb.dll tmp.def movbin.o -LC:/extsoft/lib/i386 -LC:/extsoft/lib -LC:/Users/BIOCBU˜1/BBS-3˜1.8-B/R/bin/i386 -lR
installing to C:/Users/biocbuild/bbs-3.8-bioc/meat/reb.buildbin-libdir/reb/libs/i386
** R
** data
** inst
** byte-compile and prepare package for lazy loading
** help
*** installing help indices
converting help for package 'reb'
finding HTML links ... done
Hs.arms html
absMax html
buildChromCytoband html
buildChromMap html
cset2band html
fromRevIsh html
isAbnormal html
mcr.eset html
movbin html
movt html
naMean html
regmap html
revish html
rmAmbigMappings html
smoothByRegion html
summarizeByRegion html
tBinomTest html
writeGFF3 html
** building package indices
** installing vignettes
** testing if installed package can be loaded
In R CMD INSTALL
install for x64
* installing *source* package 'reb' ...
** libs
C:/Rtools/mingw_64/bin/gcc -I"C:/Users/BIOCBU˜1/BBS-3˜1.8-B/R/include" -DNDEBUG -I"C:/extsoft/include" -O2 -Wall -std=gnu99 -mtune=generic -c movbin.c -o movbin.o
C:/Rtools/mingw_64/bin/gcc -shared -s -static-libgcc -o reb.dll tmp.def movbin.o -LC:/extsoft/lib/x64 -LC:/extsoft/lib -LC:/Users/BIOCBU˜1/BBS-3˜1.8-B/R/bin/x64 -lR
installing to C:/Users/biocbuild/bbs-3.8-bioc/meat/reb.buildbin-libdir/reb/libs/x64
** testing if installed package can be loaded
* MD5 sums
packaged installation of 'reb' as reb_1.60.0.zip
* DONE (reb)
In R CMD INSTALL
In R CMD INSTALL