| Back to Multiple platform build/check report for BioC 3.8 |
|
This page was generated on 2019-04-16 11:51:28 -0400 (Tue, 16 Apr 2019).
| Package 1264/1649 | Hostname | OS / Arch | INSTALL | BUILD | CHECK | BUILD BIN | ||||||
| rCGH 1.12.0 Frederic Commo
| malbec1 | Linux (Ubuntu 16.04.6 LTS) / x86_64 | OK | OK | [ OK ] | |||||||
| merida1 | OS X 10.11.6 El Capitan / x86_64 | OK | OK | OK | OK |
| Package: rCGH |
| Version: 1.12.0 |
| Command: /home/biocbuild/bbs-3.8-bioc/R/bin/R CMD check --install=check:rCGH.install-out.txt --library=/home/biocbuild/bbs-3.8-bioc/R/library --no-vignettes --timings rCGH_1.12.0.tar.gz |
| StartedAt: 2019-04-16 02:25:39 -0400 (Tue, 16 Apr 2019) |
| EndedAt: 2019-04-16 02:33:05 -0400 (Tue, 16 Apr 2019) |
| EllapsedTime: 445.2 seconds |
| RetCode: 0 |
| Status: OK |
| CheckDir: rCGH.Rcheck |
| Warnings: 0 |
##############################################################################
##############################################################################
###
### Running command:
###
### /home/biocbuild/bbs-3.8-bioc/R/bin/R CMD check --install=check:rCGH.install-out.txt --library=/home/biocbuild/bbs-3.8-bioc/R/library --no-vignettes --timings rCGH_1.12.0.tar.gz
###
##############################################################################
##############################################################################
* using log directory ‘/home/biocbuild/bbs-3.8-bioc/meat/rCGH.Rcheck’
* using R version 3.5.3 (2019-03-11)
* using platform: x86_64-pc-linux-gnu (64-bit)
* using session charset: UTF-8
* using option ‘--no-vignettes’
* checking for file ‘rCGH/DESCRIPTION’ ... OK
* checking extension type ... Package
* this is package ‘rCGH’ version ‘1.12.0’
* checking package namespace information ... OK
* checking package dependencies ... OK
* checking if this is a source package ... OK
* checking if there is a namespace ... OK
* checking for hidden files and directories ... OK
* checking for portable file names ... OK
* checking for sufficient/correct file permissions ... OK
* checking whether package ‘rCGH’ can be installed ... OK
* checking installed package size ... OK
* checking package directory ... OK
* checking ‘build’ directory ... OK
* checking DESCRIPTION meta-information ... OK
* checking top-level files ... OK
* checking for left-over files ... OK
* checking index information ... OK
* checking package subdirectories ... OK
* checking R files for non-ASCII characters ... OK
* checking R files for syntax errors ... OK
* checking whether the package can be loaded ... OK
* checking whether the package can be loaded with stated dependencies ... OK
* checking whether the package can be unloaded cleanly ... OK
* checking whether the namespace can be loaded with stated dependencies ... OK
* checking whether the namespace can be unloaded cleanly ... OK
* checking dependencies in R code ... OK
* checking S3 generic/method consistency ... OK
* checking replacement functions ... OK
* checking foreign function calls ... OK
* checking R code for possible problems ... OK
* checking Rd files ... OK
* checking Rd metadata ... OK
* checking Rd cross-references ... OK
* checking for missing documentation entries ... OK
* checking for code/documentation mismatches ... OK
* checking Rd \usage sections ... OK
* checking Rd contents ... OK
* checking for unstated dependencies in examples ... OK
* checking contents of ‘data’ directory ... OK
* checking data for non-ASCII characters ... OK
* checking data for ASCII and uncompressed saves ... OK
* checking installed files from ‘inst/doc’ ... OK
* checking files in ‘vignettes’ ... NOTE
The following directory looks like a leftover from 'knitr':
‘figure’
Please remove from your package.
* checking examples ... OK
Examples with CPU or elapsed time > 5s
user system elapsed
byGeneTable 16.732 0.468 17.627
plotProfile 14.800 0.376 15.296
multiplot 13.068 0.284 13.456
rCGH-package 11.684 0.388 12.480
plotLOH 10.572 0.276 10.970
plotDensity 10.188 0.244 10.535
EMnormalize 10.040 0.316 10.723
recenter 9.412 0.284 11.292
view 9.124 0.248 10.126
segmentCGH 8.720 0.244 9.558
adjustSignal 7.988 0.192 8.328
* checking for unstated dependencies in ‘tests’ ... OK
* checking tests ...
Running ‘runTests.R’
OK
* checking for unstated dependencies in vignettes ... OK
* checking package vignettes in ‘inst/doc’ ... OK
* checking running R code from vignettes ... SKIPPED
* checking re-building of vignette outputs ... SKIPPED
* checking PDF version of manual ... OK
* DONE
Status: 1 NOTE
See
‘/home/biocbuild/bbs-3.8-bioc/meat/rCGH.Rcheck/00check.log’
for details.
rCGH.Rcheck/00install.out
############################################################################## ############################################################################## ### ### Running command: ### ### /home/biocbuild/bbs-3.8-bioc/R/bin/R CMD INSTALL rCGH ### ############################################################################## ############################################################################## * installing to library ‘/home/biocbuild/bbs-3.8-bioc/R/library’ * installing *source* package ‘rCGH’ ... ** R ** data *** moving datasets to lazyload DB ** inst ** byte-compile and prepare package for lazy loading ** help *** installing help indices ** building package indices ** installing vignettes ** testing if installed package can be loaded * DONE (rCGH)
rCGH.Rcheck/tests/runTests.Rout
R version 3.5.3 (2019-03-11) -- "Great Truth"
Copyright (C) 2019 The R Foundation for Statistical Computing
Platform: x86_64-pc-linux-gnu (64-bit)
R is free software and comes with ABSOLUTELY NO WARRANTY.
You are welcome to redistribute it under certain conditions.
Type 'license()' or 'licence()' for distribution details.
R is a collaborative project with many contributors.
Type 'contributors()' for more information and
'citation()' on how to cite R or R packages in publications.
Type 'demo()' for some demos, 'help()' for on-line help, or
'help.start()' for an HTML browser interface to help.
Type 'q()' to quit R.
> BiocGenerics:::testPackage("rCGH")
********************************************************
Current version: 1.12.0
This version may contain important changes.
Use news(Version == '1.12.0', package = 'rCGH').
********************************************************
SNP probes will be used.
Reading information...
Reading values...
Adding presettings...
Genome build: hg19
Log2Ratios QCs:
dLRs: 0.162
MAD: 0.128
Scaling...
Signal filtering...
Modeling allelic Difference...
Computing LRR segmentation using UndoSD: 0.179
Merging segments shorter than 10Kb.
Number of segments: 25
Merging peaks closer than 0.1 ...
Gaussian mixture estimation:
n.peaks = 3
Group parameters:
Grp 1:
prop: 0.504, mean: -0.061, Sd: 0.149, peak height: 1.344
Grp 2:
prop: 0.481, mean: 0.861, Sd: 0.149, peak height: 1.284
Grp 3:
prop: 0.015, mean: 2.04, Sd: 0.149, peak height: 0.041
Correction value: -0.061
Use plotDensity() to visualize the LRR densities.
Creating byGene table...
SNP probes will be used.
Reading information...
Reading values...
Adding presettings...
Genome build: hg19
SNP probes will be used.
Reading information...
Reading values...
Adding presettings...
Genome build: hg19
RUNIT TEST PROTOCOL -- Tue Apr 16 02:32:58 2019
***********************************************
Number of test functions: 11
Number of errors: 0
Number of failures: 0
1 Test Suite :
rCGH RUnit Tests - 11 test functions, 0 errors, 0 failures
Number of test functions: 11
Number of errors: 0
Number of failures: 0
>
> proc.time()
user system elapsed
31.932 1.060 34.268
rCGH.Rcheck/rCGH-Ex.timings
| name | user | system | elapsed | |
| AllAccessors | 0.828 | 0.000 | 0.862 | |
| EMnormalize | 10.040 | 0.316 | 10.723 | |
| adjustSignal | 7.988 | 0.192 | 8.328 | |
| byGeneTable | 16.732 | 0.468 | 17.627 | |
| hg18 | 0.000 | 0.000 | 0.003 | |
| hg19 | 0.000 | 0.000 | 0.003 | |
| hg38 | 0.000 | 0.000 | 0.003 | |
| multiplot | 13.068 | 0.284 | 13.456 | |
| plotDensity | 10.188 | 0.244 | 10.535 | |
| plotLOH | 10.572 | 0.276 | 10.970 | |
| plotProfile | 14.800 | 0.376 | 15.296 | |
| rCGH-Agilent-class | 0.000 | 0.000 | 0.001 | |
| rCGH-SNP6-class | 0.004 | 0.000 | 0.001 | |
| rCGH-class | 0.000 | 0.000 | 0.001 | |
| rCGH-cytoScan-class | 0.000 | 0.000 | 0.001 | |
| rCGH-generic-class | 0 | 0 | 0 | |
| rCGH-oncoScan-class | 0 | 0 | 0 | |
| rCGH-package | 11.684 | 0.388 | 12.480 | |
| readAffyCytoScan | 0.508 | 0.000 | 0.508 | |
| readAffyOncoScan | 0.024 | 0.000 | 0.043 | |
| readAffySNP6 | 0.452 | 0.012 | 0.485 | |
| readAgilent | 0.852 | 0.004 | 0.863 | |
| readGeneric | 0.012 | 0.000 | 0.030 | |
| recenter | 9.412 | 0.284 | 11.292 | |
| segmentCGH | 8.720 | 0.244 | 9.558 | |
| setInfo | 0.508 | 0.008 | 0.520 | |
| view | 9.124 | 0.248 | 10.126 | |