| Back to Multiple platform build/check report for BioC 3.8 |
|
This page was generated on 2019-04-13 11:19:22 -0400 (Sat, 13 Apr 2019).
| Package 1237/1649 | Hostname | OS / Arch | INSTALL | BUILD | CHECK | BUILD BIN | ||||||
| qvalue 2.14.1 John D. Storey
| malbec1 | Linux (Ubuntu 16.04.6 LTS) / x86_64 | OK | OK | OK | |||||||
| tokay1 | Windows Server 2012 R2 Standard / x64 | OK | OK | OK | [ OK ] | |||||||
| merida1 | OS X 10.11.6 El Capitan / x86_64 | OK | OK | OK | OK |
| Package: qvalue |
| Version: 2.14.1 |
| Command: rm -rf qvalue.buildbin-libdir && mkdir qvalue.buildbin-libdir && C:\Users\biocbuild\bbs-3.8-bioc\R\bin\R.exe CMD INSTALL --merge-multiarch --build --library=qvalue.buildbin-libdir qvalue_2.14.1.tar.gz |
| StartedAt: 2019-04-13 07:49:02 -0400 (Sat, 13 Apr 2019) |
| EndedAt: 2019-04-13 07:49:09 -0400 (Sat, 13 Apr 2019) |
| EllapsedTime: 6.6 seconds |
| RetCode: 0 |
| Status: OK |
| PackageFile: qvalue_2.14.1.zip |
| PackageFileSize: 2.686 MiB |
##############################################################################
##############################################################################
###
### Running command:
###
### rm -rf qvalue.buildbin-libdir && mkdir qvalue.buildbin-libdir && C:\Users\biocbuild\bbs-3.8-bioc\R\bin\R.exe CMD INSTALL --merge-multiarch --build --library=qvalue.buildbin-libdir qvalue_2.14.1.tar.gz
###
##############################################################################
##############################################################################
install for i386
* installing *source* package 'qvalue' ...
** R
** data
** inst
** byte-compile and prepare package for lazy loading
** help
*** installing help indices
converting help for package 'qvalue'
finding HTML links ... done
empPvals html
hedenfalk html
hist.qvalue html
lfdr html
pi0est html
plot.qvalue html
qvalue html
summary.qvalue html
write.qvalue html
** building package indices
** installing vignettes
** testing if installed package can be loaded
In R CMD INSTALL
install for x64
* installing *source* package 'qvalue' ...
** testing if installed package can be loaded
* MD5 sums
packaged installation of 'qvalue' as qvalue_2.14.1.zip
* DONE (qvalue)
In R CMD INSTALL
In R CMD INSTALL