| Back to Multiple platform build/check report for BioC 3.8 |
|
This page was generated on 2019-04-13 11:23:08 -0400 (Sat, 13 Apr 2019).
| Package 1236/1649 | Hostname | OS / Arch | INSTALL | BUILD | CHECK | BUILD BIN | ||||||
| qusage 2.16.1 Christopher Bolen
| malbec1 | Linux (Ubuntu 16.04.6 LTS) / x86_64 | OK | OK | OK | |||||||
| tokay1 | Windows Server 2012 R2 Standard / x64 | [ OK ] | OK | WARNINGS | OK | |||||||
| merida1 | OS X 10.11.6 El Capitan / x86_64 | OK | OK | OK | OK |
| Package: qusage |
| Version: 2.16.1 |
| Command: C:\cygwin\bin\curl.exe -O https://malbec1.bioconductor.org/BBS/3.8/bioc/src/contrib/qusage_2.16.1.tar.gz && rm -rf qusage.buildbin-libdir && mkdir qusage.buildbin-libdir && C:\Users\biocbuild\bbs-3.8-bioc\R\bin\R.exe CMD INSTALL --merge-multiarch --build --library=qusage.buildbin-libdir qusage_2.16.1.tar.gz && C:\Users\biocbuild\bbs-3.8-bioc\R\bin\R.exe CMD INSTALL qusage_2.16.1.zip && rm qusage_2.16.1.tar.gz qusage_2.16.1.zip |
| StartedAt: 2019-04-12 18:43:10 -0400 (Fri, 12 Apr 2019) |
| EndedAt: 2019-04-12 18:44:34 -0400 (Fri, 12 Apr 2019) |
| EllapsedTime: 84.1 seconds |
| RetCode: 0 |
| Status: OK |
##############################################################################
##############################################################################
###
### Running command:
###
### C:\cygwin\bin\curl.exe -O https://malbec1.bioconductor.org/BBS/3.8/bioc/src/contrib/qusage_2.16.1.tar.gz && rm -rf qusage.buildbin-libdir && mkdir qusage.buildbin-libdir && C:\Users\biocbuild\bbs-3.8-bioc\R\bin\R.exe CMD INSTALL --merge-multiarch --build --library=qusage.buildbin-libdir qusage_2.16.1.tar.gz && C:\Users\biocbuild\bbs-3.8-bioc\R\bin\R.exe CMD INSTALL qusage_2.16.1.zip && rm qusage_2.16.1.tar.gz qusage_2.16.1.zip
###
##############################################################################
##############################################################################
% Total % Received % Xferd Average Speed Time Time Time Current
Dload Upload Total Spent Left Speed
0 0 0 0 0 0 0 0 --:--:-- --:--:-- --:--:-- 0
0 0 0 0 0 0 0 0 --:--:-- --:--:-- --:--:-- 0
100 8777k 100 8777k 0 0 29.7M 0 --:--:-- --:--:-- --:--:-- 29.9M
install for i386
* installing *source* package 'qusage' ...
** R
** data
** inst
** byte-compile and prepare package for lazy loading
** help
*** installing help indices
converting help for package 'qusage'
finding HTML links ... done
GeneSets html
QSarray-class html
aggregateGeneSet html
calcBayesCI html
calcVIF html
Rd warning: C:/Users/biocbuild/bbs-3.8-bioc/tmpdir/RtmpEV3V79/R.INSTALL13344b674998/qusage/man/calcVIF.Rd:12: file link 'ExpressionSet' in package 'Biobase' does not exist and so has been treated as a topic
combinePDFs html
eset.full html
fluVaccine html
getXcoords html
makeComparison html
Rd warning: C:/Users/biocbuild/bbs-3.8-bioc/tmpdir/RtmpEV3V79/R.INSTALL13344b674998/qusage/man/makeComparison.Rd:13: file link 'ExpressionSet' in package 'Biobase' does not exist and so has been treated as a topic
newQSarray html
pVal html
plotCIs html
plotCIsGenes html
plotCombinedPDF html
plotDensityCurves html
plotGeneSetDistributions html
qgen html
Rd warning: C:/Users/biocbuild/bbs-3.8-bioc/tmpdir/RtmpEV3V79/R.INSTALL13344b674998/qusage/man/qgen.Rd:21: file link 'corStruct' in package 'nlme' does not exist and so has been treated as a topic
qsTable html
qusage html
Rd warning: C:/Users/biocbuild/bbs-3.8-bioc/tmpdir/RtmpEV3V79/R.INSTALL13344b674998/qusage/man/qusage.Rd:12: file link 'ExpressionSet' in package 'Biobase' does not exist and so has been treated as a topic
read.gmt html
** building package indices
** installing vignettes
** testing if installed package can be loaded
In R CMD INSTALL
install for x64
* installing *source* package 'qusage' ...
** testing if installed package can be loaded
* MD5 sums
packaged installation of 'qusage' as qusage_2.16.1.zip
* DONE (qusage)
In R CMD INSTALL
In R CMD INSTALL
* installing to library 'C:/Users/biocbuild/bbs-3.8-bioc/R/library'
package 'qusage' successfully unpacked and MD5 sums checked
In R CMD INSTALL