| Back to Multiple platform build/check report for BioC 3.8 |
|
This page was generated on 2019-04-16 11:52:27 -0400 (Tue, 16 Apr 2019).
| Package 1195/1649 | Hostname | OS / Arch | INSTALL | BUILD | CHECK | BUILD BIN | ||||||
| proFIA 1.8.1 Alexis Delabriere
| malbec1 | Linux (Ubuntu 16.04.6 LTS) / x86_64 | OK | OK | [ OK ] | |||||||
| merida1 | OS X 10.11.6 El Capitan / x86_64 | OK | OK | OK | OK |
| Package: proFIA |
| Version: 1.8.1 |
| Command: /home/biocbuild/bbs-3.8-bioc/R/bin/R CMD check --install=check:proFIA.install-out.txt --library=/home/biocbuild/bbs-3.8-bioc/R/library --no-vignettes --timings proFIA_1.8.1.tar.gz |
| StartedAt: 2019-04-16 02:13:12 -0400 (Tue, 16 Apr 2019) |
| EndedAt: 2019-04-16 02:18:33 -0400 (Tue, 16 Apr 2019) |
| EllapsedTime: 321.1 seconds |
| RetCode: 0 |
| Status: OK |
| CheckDir: proFIA.Rcheck |
| Warnings: 0 |
##############################################################################
##############################################################################
###
### Running command:
###
### /home/biocbuild/bbs-3.8-bioc/R/bin/R CMD check --install=check:proFIA.install-out.txt --library=/home/biocbuild/bbs-3.8-bioc/R/library --no-vignettes --timings proFIA_1.8.1.tar.gz
###
##############################################################################
##############################################################################
* using log directory ‘/home/biocbuild/bbs-3.8-bioc/meat/proFIA.Rcheck’
* using R version 3.5.3 (2019-03-11)
* using platform: x86_64-pc-linux-gnu (64-bit)
* using session charset: UTF-8
* using option ‘--no-vignettes’
* checking for file ‘proFIA/DESCRIPTION’ ... OK
* checking extension type ... Package
* this is package ‘proFIA’ version ‘1.8.1’
* checking package namespace information ... OK
* checking package dependencies ... OK
* checking if this is a source package ... OK
* checking if there is a namespace ... OK
* checking for hidden files and directories ... NOTE
Found the following hidden files and directories:
.BBSoptions
These were most likely included in error. See section ‘Package
structure’ in the ‘Writing R Extensions’ manual.
* checking for portable file names ... OK
* checking for sufficient/correct file permissions ... OK
* checking whether package ‘proFIA’ can be installed ... OK
* checking installed package size ... OK
* checking package directory ... OK
* checking ‘build’ directory ... OK
* checking DESCRIPTION meta-information ... OK
* checking top-level files ... OK
* checking for left-over files ... OK
* checking index information ... OK
* checking package subdirectories ... OK
* checking R files for non-ASCII characters ... OK
* checking R files for syntax errors ... OK
* checking whether the package can be loaded ... OK
* checking whether the package can be loaded with stated dependencies ... OK
* checking whether the package can be unloaded cleanly ... OK
* checking whether the namespace can be loaded with stated dependencies ... OK
* checking whether the namespace can be unloaded cleanly ... OK
* checking dependencies in R code ... OK
* checking S3 generic/method consistency ... OK
* checking replacement functions ... OK
* checking foreign function calls ... OK
* checking R code for possible problems ... OK
* checking Rd files ... OK
* checking Rd metadata ... OK
* checking Rd cross-references ... OK
* checking for missing documentation entries ... OK
* checking for code/documentation mismatches ... OK
* checking Rd \usage sections ... OK
* checking Rd contents ... OK
* checking for unstated dependencies in examples ... OK
* checking line endings in C/C++/Fortran sources/headers ... OK
* checking compiled code ... NOTE
Note: information on .o files is not available
* checking files in ‘vignettes’ ... OK
* checking examples ... OK
Examples with CPU or elapsed time > 5s
user system elapsed
proFIAset 90.672 1.272 92.101
impute.FIA-proFIAset-method 15.912 0.004 15.925
impute.randomForest-proFIAset-method 14.848 0.000 14.873
findFIASignal 14.516 0.264 14.802
estimateNoiseMS 6.080 0.356 6.496
plotFlowgrams-proFIAset-method 6.204 0.048 6.309
* checking for unstated dependencies in ‘tests’ ... OK
* checking tests ...
Running ‘runTests.R’
OK
* checking for unstated dependencies in vignettes ... OK
* checking package vignettes in ‘inst/doc’ ... OK
* checking running R code from vignettes ... SKIPPED
* checking re-building of vignette outputs ... SKIPPED
* checking PDF version of manual ... OK
* DONE
Status: 2 NOTEs
See
‘/home/biocbuild/bbs-3.8-bioc/meat/proFIA.Rcheck/00check.log’
for details.
proFIA.Rcheck/00install.out
############################################################################## ############################################################################## ### ### Running command: ### ### /home/biocbuild/bbs-3.8-bioc/R/bin/R CMD INSTALL proFIA ### ############################################################################## ############################################################################## * installing to library ‘/home/biocbuild/bbs-3.8-bioc/R/library’ * installing *source* package ‘proFIA’ ... ** libs gcc -I"/home/biocbuild/bbs-3.8-bioc/R/include" -DNDEBUG -I/usr/local/include -fpic -g -O2 -Wall -c FIABandsExtractionCentroid.c -o FIABandsExtractionCentroid.o gcc -I"/home/biocbuild/bbs-3.8-bioc/R/include" -DNDEBUG -I/usr/local/include -fpic -g -O2 -Wall -c UtilFunc.c -o UtilFunc.o gcc -I"/home/biocbuild/bbs-3.8-bioc/R/include" -DNDEBUG -I/usr/local/include -fpic -g -O2 -Wall -c fastMatchPpm.c -o fastMatchPpm.o gcc -shared -L/home/biocbuild/bbs-3.8-bioc/R/lib -L/usr/local/lib -o proFIA.so FIABandsExtractionCentroid.o UtilFunc.o fastMatchPpm.o -L/home/biocbuild/bbs-3.8-bioc/R/lib -lR installing to /home/biocbuild/bbs-3.8-bioc/R/library/proFIA/libs ** R ** inst ** byte-compile and prepare package for lazy loading ** help *** installing help indices ** building package indices ** installing vignettes ** testing if installed package can be loaded * DONE (proFIA)
proFIA.Rcheck/tests/runTests.Rout
R version 3.5.3 (2019-03-11) -- "Great Truth"
Copyright (C) 2019 The R Foundation for Statistical Computing
Platform: x86_64-pc-linux-gnu (64-bit)
R is free software and comes with ABSOLUTELY NO WARRANTY.
You are welcome to redistribute it under certain conditions.
Type 'license()' or 'licence()' for distribution details.
R is a collaborative project with many contributors.
Type 'contributors()' for more information and
'citation()' on how to cite R or R packages in publications.
Type 'demo()' for some demos, 'help()' for on-line help, or
'help.start()' for an HTML browser interface to help.
Type 'q()' to quit R.
> BiocGenerics:::testPackage("proFIA")
Attaching package: 'BiocGenerics'
The following objects are masked from 'package:parallel':
clusterApply, clusterApplyLB, clusterCall, clusterEvalQ,
clusterExport, clusterMap, parApply, parCapply, parLapply,
parLapplyLB, parRapply, parSapply, parSapplyLB
The following objects are masked from 'package:stats':
IQR, mad, sd, var, xtabs
The following objects are masked from 'package:base':
Filter, Find, Map, Position, Reduce, anyDuplicated, append,
as.data.frame, basename, cbind, colMeans, colSums, colnames,
dirname, do.call, duplicated, eval, evalq, get, grep, grepl,
intersect, is.unsorted, lapply, lengths, mapply, match, mget,
order, paste, pmax, pmax.int, pmin, pmin.int, rank, rbind,
rowMeans, rowSums, rownames, sapply, setdiff, sort, table, tapply,
union, unique, unsplit, which, which.max, which.min
Welcome to Bioconductor
Vignettes contain introductory material; view with
'browseVignettes()'. To cite Bioconductor, see
'citation("Biobase")', and for packages 'citation("pkgname")'.
Attaching package: 'S4Vectors'
The following object is masked from 'package:base':
expand.grid
This is MSnbase version 2.8.3
Visit https://lgatto.github.io/MSnbase/ to get started.
Attaching package: 'MSnbase'
The following object is masked from 'package:stats':
smooth
The following object is masked from 'package:base':
trimws
This is xcms version 3.4.4
Attaching package: 'xcms'
The following object is masked from 'package:stats':
sigma
Loading required package: plasFIA
A mass interval of 0.0153m/z will be used for the density estimation.
0 :0 10 :29 20 :54 30 :78 30 :105 40 :141 50 :174 60 :196 70 :208 80 :215 90 :219
219 groups have been done .
RUNIT TEST PROTOCOL -- Tue Apr 16 02:18:29 2019
***********************************************
Number of test functions: 5
Number of errors: 0
Number of failures: 0
1 Test Suite :
proFIA RUnit Tests - 5 test functions, 0 errors, 0 failures
Number of test functions: 5
Number of errors: 0
Number of failures: 0
>
> proc.time()
user system elapsed
11.480 0.208 11.723
proFIA.Rcheck/proFIA-Ex.timings
| name | user | system | elapsed | |
| acquisitionDirectory | 0.088 | 0.004 | 0.188 | |
| analyzeAcquisitionFIA | 0.016 | 0.000 | 0.019 | |
| determiningInjectionZone | 1.160 | 0.008 | 1.213 | |
| determiningSizePeak.Geom | 1.332 | 0.008 | 1.343 | |
| estimateNoiseMS | 6.080 | 0.356 | 6.496 | |
| exportDataMatrix-proFIAset-method | 0.016 | 0.000 | 0.019 | |
| exportExpressionSet-proFIAset-method | 0.068 | 0.000 | 0.071 | |
| exportPeakTable-proFIAset-method | 0.016 | 0.004 | 0.023 | |
| exportSampleMetadata-proFIAset-method | 0.012 | 0.004 | 0.016 | |
| exportVariableMetadata-proFIAset-method | 0.020 | 0.000 | 0.021 | |
| findBandsFIA | 1.896 | 0.132 | 2.031 | |
| findFIASignal | 14.516 | 0.264 | 14.802 | |
| findMzGroup-proFIAset-method | 0.024 | 0.000 | 0.036 | |
| getInjectionPeak | 3.336 | 0.116 | 3.453 | |
| group.FIA-proFIAset-method | 2.676 | 0.004 | 2.682 | |
| impute.FIA-proFIAset-method | 15.912 | 0.004 | 15.925 | |
| impute.KNN_TN-proFIAset-method | 0.692 | 0.000 | 0.695 | |
| impute.randomForest-proFIAset-method | 14.848 | 0.000 | 14.873 | |
| makeDataMatrix-proFIAset-method | 0.020 | 0.000 | 0.018 | |
| peaksGroup-proFIAset-method | 0.032 | 0.000 | 0.033 | |
| plot | 1.340 | 0.012 | 1.357 | |
| plotFlowgrams-proFIAset-method | 6.204 | 0.048 | 6.309 | |
| plotNoise | 0.216 | 0.000 | 0.215 | |
| plotRaw-proFIAset-method | 2.144 | 0.012 | 2.176 | |
| plotSamplePeaks-proFIAset-method | 0.032 | 0.000 | 0.031 | |
| proFIAset | 90.672 | 1.272 | 92.101 | |