| Back to Multiple platform build/check report for BioC 3.8 |
|
This page was generated on 2019-04-13 11:29:39 -0400 (Sat, 13 Apr 2019).
| Package 1189/1649 | Hostname | OS / Arch | INSTALL | BUILD | CHECK | BUILD BIN | ||||||
| primirTSS 1.0.1 Pumin Li
| malbec1 | Linux (Ubuntu 16.04.6 LTS) / x86_64 | OK | OK | OK | |||||||
| tokay1 | Windows Server 2012 R2 Standard / x64 | OK | OK | OK | [ OK ] | |||||||
| merida1 | OS X 10.11.6 El Capitan / x86_64 | OK | OK | OK | OK |
| Package: primirTSS |
| Version: 1.0.1 |
| Command: rm -rf primirTSS.buildbin-libdir && mkdir primirTSS.buildbin-libdir && C:\Users\biocbuild\bbs-3.8-bioc\R\bin\R.exe CMD INSTALL --merge-multiarch --build --library=primirTSS.buildbin-libdir primirTSS_1.0.1.tar.gz |
| StartedAt: 2019-04-13 07:47:05 -0400 (Sat, 13 Apr 2019) |
| EndedAt: 2019-04-13 07:48:27 -0400 (Sat, 13 Apr 2019) |
| EllapsedTime: 82.1 seconds |
| RetCode: 0 |
| Status: OK |
| PackageFile: primirTSS_1.0.1.zip |
| PackageFileSize: 3.838 MiB |
##############################################################################
##############################################################################
###
### Running command:
###
### rm -rf primirTSS.buildbin-libdir && mkdir primirTSS.buildbin-libdir && C:\Users\biocbuild\bbs-3.8-bioc\R\bin\R.exe CMD INSTALL --merge-multiarch --build --library=primirTSS.buildbin-libdir primirTSS_1.0.1.tar.gz
###
##############################################################################
##############################################################################
install for i386
* installing *source* package 'primirTSS' ...
** R
** inst
** byte-compile and prepare package for lazy loading
** help
*** installing help indices
converting help for package 'primirTSS'
finding HTML links ... done
find_tss html
peak_join html
peak_merge html
plot_primiRNA html
primirTSS html
run_primirTSSapp html
trans_cor html
** building package indices
** installing vignettes
** testing if installed package can be loaded
In R CMD INSTALL
install for x64
* installing *source* package 'primirTSS' ...
** testing if installed package can be loaded
* MD5 sums
packaged installation of 'primirTSS' as primirTSS_1.0.1.zip
* DONE (primirTSS)
In R CMD INSTALL
In R CMD INSTALL