| Back to Multiple platform build/check report for BioC 3.8 | 
 | 
This page was generated on 2019-04-13 11:22:50 -0400 (Sat, 13 Apr 2019).
| Package 1185/1649 | Hostname | OS / Arch | INSTALL | BUILD | CHECK | BUILD BIN | ||||||
| prebs 1.22.1 Karolis Uziela 
 | malbec1 | Linux (Ubuntu 16.04.6 LTS) / x86_64 | OK | OK | OK |  | ||||||
| tokay1 | Windows Server 2012 R2 Standard / x64 | OK | OK | OK | [ OK ] |  | ||||||
| merida1 | OS X 10.11.6 El Capitan / x86_64 | OK | OK | OK | OK |  | 
| Package: prebs | 
| Version: 1.22.1 | 
| Command: rm -rf prebs.buildbin-libdir && mkdir prebs.buildbin-libdir && C:\Users\biocbuild\bbs-3.8-bioc\R\bin\R.exe CMD INSTALL --merge-multiarch --build --library=prebs.buildbin-libdir prebs_1.22.1.tar.gz | 
| StartedAt: 2019-04-13 07:47:00 -0400 (Sat, 13 Apr 2019) | 
| EndedAt: 2019-04-13 07:47:33 -0400 (Sat, 13 Apr 2019) | 
| EllapsedTime: 33.2 seconds | 
| RetCode: 0 | 
| Status: OK | 
| PackageFile: prebs_1.22.1.zip | 
| PackageFileSize: 316.1 KiB | 
##############################################################################
##############################################################################
###
### Running command:
###
###   rm -rf prebs.buildbin-libdir && mkdir prebs.buildbin-libdir && C:\Users\biocbuild\bbs-3.8-bioc\R\bin\R.exe CMD INSTALL --merge-multiarch --build --library=prebs.buildbin-libdir prebs_1.22.1.tar.gz
###
##############################################################################
##############################################################################
install for i386
* installing *source* package 'prebs' ...
** R
** inst
** byte-compile and prepare package for lazy loading
** help
*** installing help indices
  converting help for package 'prebs'
    finding HTML links ... done
    calc_prebs                              html  
    prebs                                   html  
** building package indices
** installing vignettes
** testing if installed package can be loaded
In R CMD INSTALL
install for x64
* installing *source* package 'prebs' ...
** testing if installed package can be loaded
* MD5 sums
packaged installation of 'prebs' as prebs_1.22.1.zip
* DONE (prebs)
In R CMD INSTALL
In R CMD INSTALL