| Back to Multiple platform build/check report for BioC 3.8 |
|
This page was generated on 2019-04-16 12:08:23 -0400 (Tue, 16 Apr 2019).
| Package 1172/1649 | Hostname | OS / Arch | INSTALL | BUILD | CHECK | BUILD BIN | ||||||
| plyranges 1.2.0 Stuart Lee
| malbec1 | Linux (Ubuntu 16.04.6 LTS) / x86_64 | OK | OK | OK | |||||||
| merida1 | OS X 10.11.6 El Capitan / x86_64 | OK | OK | [ OK ] | OK |
| Package: plyranges |
| Version: 1.2.0 |
| Command: /Library/Frameworks/R.framework/Versions/Current/Resources/bin/R CMD check --install=check:plyranges.install-out.txt --library=/Library/Frameworks/R.framework/Versions/Current/Resources/library --no-vignettes --timings plyranges_1.2.0.tar.gz |
| StartedAt: 2019-04-16 01:57:18 -0400 (Tue, 16 Apr 2019) |
| EndedAt: 2019-04-16 02:01:39 -0400 (Tue, 16 Apr 2019) |
| EllapsedTime: 261.0 seconds |
| RetCode: 0 |
| Status: OK |
| CheckDir: plyranges.Rcheck |
| Warnings: 0 |
############################################################################## ############################################################################## ### ### Running command: ### ### /Library/Frameworks/R.framework/Versions/Current/Resources/bin/R CMD check --install=check:plyranges.install-out.txt --library=/Library/Frameworks/R.framework/Versions/Current/Resources/library --no-vignettes --timings plyranges_1.2.0.tar.gz ### ############################################################################## ############################################################################## * using log directory ‘/Users/biocbuild/bbs-3.8-bioc/meat/plyranges.Rcheck’ * using R version 3.5.3 (2019-03-11) * using platform: x86_64-apple-darwin15.6.0 (64-bit) * using session charset: UTF-8 * using option ‘--no-vignettes’ * checking for file ‘plyranges/DESCRIPTION’ ... OK * checking extension type ... Package * this is package ‘plyranges’ version ‘1.2.0’ * package encoding: UTF-8 * checking package namespace information ... OK * checking package dependencies ... OK * checking if this is a source package ... OK * checking if there is a namespace ... OK * checking for hidden files and directories ... OK * checking for portable file names ... OK * checking for sufficient/correct file permissions ... OK * checking whether package ‘plyranges’ can be installed ... OK * checking installed package size ... OK * checking package directory ... OK * checking ‘build’ directory ... OK * checking DESCRIPTION meta-information ... OK * checking top-level files ... OK * checking for left-over files ... OK * checking index information ... OK * checking package subdirectories ... OK * checking R files for non-ASCII characters ... OK * checking R files for syntax errors ... OK * checking whether the package can be loaded ... OK * checking whether the package can be loaded with stated dependencies ... OK * checking whether the package can be unloaded cleanly ... OK * checking whether the namespace can be loaded with stated dependencies ... OK * checking whether the namespace can be unloaded cleanly ... OK * checking dependencies in R code ... OK * checking S3 generic/method consistency ... OK * checking replacement functions ... OK * checking foreign function calls ... OK * checking R code for possible problems ... OK * checking Rd files ... OK * checking Rd metadata ... OK * checking Rd cross-references ... OK * checking for missing documentation entries ... OK * checking for code/documentation mismatches ... OK * checking Rd \usage sections ... OK * checking Rd contents ... OK * checking for unstated dependencies in examples ... OK * checking files in ‘vignettes’ ... OK * checking examples ... OK * checking for unstated dependencies in ‘tests’ ... OK * checking tests ... Running ‘testthat.R’ OK * checking for unstated dependencies in vignettes ... OK * checking package vignettes in ‘inst/doc’ ... OK * checking running R code from vignettes ... SKIPPED * checking re-building of vignette outputs ... SKIPPED * checking PDF version of manual ... OK * DONE Status: OK
plyranges.Rcheck/00install.out
############################################################################## ############################################################################## ### ### Running command: ### ### /Library/Frameworks/R.framework/Versions/Current/Resources/bin/R CMD INSTALL plyranges ### ############################################################################## ############################################################################## * installing to library ‘/Library/Frameworks/R.framework/Versions/3.5/Resources/library’ * installing *source* package ‘plyranges’ ... ** R ** inst ** byte-compile and prepare package for lazy loading ** help *** installing help indices *** copying figures ** building package indices ** installing vignettes ** testing if installed package can be loaded * DONE (plyranges)
plyranges.Rcheck/tests/testthat.Rout
R version 3.5.3 (2019-03-11) -- "Great Truth"
Copyright (C) 2019 The R Foundation for Statistical Computing
Platform: x86_64-apple-darwin15.6.0 (64-bit)
R is free software and comes with ABSOLUTELY NO WARRANTY.
You are welcome to redistribute it under certain conditions.
Type 'license()' or 'licence()' for distribution details.
R is a collaborative project with many contributors.
Type 'contributors()' for more information and
'citation()' on how to cite R or R packages in publications.
Type 'demo()' for some demos, 'help()' for on-line help, or
'help.start()' for an HTML browser interface to help.
Type 'q()' to quit R.
> library(testthat)
> library(plyranges)
Loading required package: BiocGenerics
Loading required package: parallel
Attaching package: 'BiocGenerics'
The following objects are masked from 'package:parallel':
clusterApply, clusterApplyLB, clusterCall, clusterEvalQ,
clusterExport, clusterMap, parApply, parCapply, parLapply,
parLapplyLB, parRapply, parSapply, parSapplyLB
The following objects are masked from 'package:stats':
IQR, mad, sd, var, xtabs
The following objects are masked from 'package:base':
Filter, Find, Map, Position, Reduce, anyDuplicated, append,
as.data.frame, basename, cbind, colMeans, colSums, colnames,
dirname, do.call, duplicated, eval, evalq, get, grep, grepl,
intersect, is.unsorted, lapply, lengths, mapply, match, mget,
order, paste, pmax, pmax.int, pmin, pmin.int, rank, rbind,
rowMeans, rowSums, rownames, sapply, setdiff, sort, table, tapply,
union, unique, unsplit, which, which.max, which.min
Loading required package: IRanges
Loading required package: S4Vectors
Loading required package: stats4
Attaching package: 'S4Vectors'
The following object is masked from 'package:base':
expand.grid
Loading required package: GenomicRanges
Loading required package: GenomeInfoDb
Attaching package: 'plyranges'
The following object is masked from 'package:stats':
filter
>
> test_check("plyranges")
══ testthat results ═══════════════════════════════════════════════════════════
OK: 303 SKIPPED: 0 FAILED: 0
>
> proc.time()
user system elapsed
40.239 1.090 41.498
plyranges.Rcheck/plyranges-Ex.timings
| name | user | system | elapsed | |
| as_ranges | 0.098 | 0.001 | 0.101 | |
| compute_coverage | 0.019 | 0.000 | 0.020 | |
| element-setops | 0.144 | 0.002 | 0.145 | |
| filter-ranges | 0.856 | 0.013 | 0.874 | |
| flank-ranges | 0.097 | 0.001 | 0.098 | |
| group_by-ranges | 1.042 | 0.003 | 1.053 | |
| io-bam-read | 0.745 | 0.047 | 0.795 | |
| io-bed-read | 2.745 | 0.274 | 3.035 | |
| io-bed-write | 0 | 0 | 0 | |
| io-bigwig-read | 0.127 | 0.001 | 0.129 | |
| io-bigwig-write | 0 | 0 | 0 | |
| io-gff-read | 0.470 | 0.008 | 0.480 | |
| io-gff-write | 0.000 | 0.000 | 0.001 | |
| io-wig-read | 0.435 | 0.010 | 0.449 | |
| mutate-ranges | 0.829 | 0.028 | 0.860 | |
| n | 0.448 | 0.038 | 0.487 | |
| n_distinct | 0.056 | 0.000 | 0.059 | |
| overlap-joins | 0.083 | 0.000 | 0.083 | |
| ranges-anchor | 0.099 | 0.001 | 0.100 | |
| ranges-arrange | 0.043 | 0.000 | 0.045 | |
| ranges-bind | 0.185 | 0.002 | 0.188 | |
| ranges-chop | 0.555 | 0.017 | 0.575 | |
| ranges-construct | 0.039 | 0.001 | 0.041 | |
| ranges-count-overlaps | 0.076 | 0.001 | 0.076 | |
| ranges-disjoin | 0.615 | 0.002 | 0.619 | |
| ranges-filter-overlaps | 0.099 | 0.002 | 0.101 | |
| ranges-follow | 0.232 | 0.014 | 0.246 | |
| ranges-info | 0.042 | 0.001 | 0.043 | |
| ranges-interweave | 0.166 | 0.001 | 0.167 | |
| ranges-nearest | 0.508 | 0.016 | 0.530 | |
| ranges-overlaps-self | 0.140 | 0.011 | 0.152 | |
| ranges-overlaps | 0.192 | 0.007 | 0.200 | |
| ranges-pairs | 0.280 | 0.002 | 0.283 | |
| ranges-precede | 0.105 | 0.001 | 0.106 | |
| ranges-reduce | 0.602 | 0.005 | 0.606 | |
| ranges-select | 0.090 | 0.002 | 0.092 | |
| ranges-setops | 0.764 | 0.003 | 0.769 | |
| ranges-summarise | 0.166 | 0.001 | 0.168 | |
| ranges-tile | 0.075 | 0.001 | 0.076 | |
| ranges-unnest | 0.170 | 0.001 | 0.173 | |
| shift-ranges | 0.085 | 0.001 | 0.086 | |
| stretch | 0.152 | 0.001 | 0.152 | |