| Back to Multiple platform build/check report for BioC 3.8 |
|
This page was generated on 2019-04-16 11:56:14 -0400 (Tue, 16 Apr 2019).
| Package 1155/1649 | Hostname | OS / Arch | INSTALL | BUILD | CHECK | BUILD BIN | ||||||
| phyloseq 1.26.1 Paul J. McMurdie
| malbec1 | Linux (Ubuntu 16.04.6 LTS) / x86_64 | OK | OK | OK | |||||||
| merida1 | OS X 10.11.6 El Capitan / x86_64 | OK | OK | [ OK ] | OK |
| Package: phyloseq |
| Version: 1.26.1 |
| Command: /Library/Frameworks/R.framework/Versions/Current/Resources/bin/R CMD check --install=check:phyloseq.install-out.txt --library=/Library/Frameworks/R.framework/Versions/Current/Resources/library --no-vignettes --timings phyloseq_1.26.1.tar.gz |
| StartedAt: 2019-04-16 01:54:26 -0400 (Tue, 16 Apr 2019) |
| EndedAt: 2019-04-16 02:00:19 -0400 (Tue, 16 Apr 2019) |
| EllapsedTime: 352.7 seconds |
| RetCode: 0 |
| Status: OK |
| CheckDir: phyloseq.Rcheck |
| Warnings: 0 |
##############################################################################
##############################################################################
###
### Running command:
###
### /Library/Frameworks/R.framework/Versions/Current/Resources/bin/R CMD check --install=check:phyloseq.install-out.txt --library=/Library/Frameworks/R.framework/Versions/Current/Resources/library --no-vignettes --timings phyloseq_1.26.1.tar.gz
###
##############################################################################
##############################################################################
* using log directory ‘/Users/biocbuild/bbs-3.8-bioc/meat/phyloseq.Rcheck’
* using R version 3.5.3 (2019-03-11)
* using platform: x86_64-apple-darwin15.6.0 (64-bit)
* using session charset: UTF-8
* using option ‘--no-vignettes’
* checking for file ‘phyloseq/DESCRIPTION’ ... OK
* this is package ‘phyloseq’ version ‘1.26.1’
* checking package namespace information ... OK
* checking package dependencies ... OK
* checking if this is a source package ... OK
* checking if there is a namespace ... OK
* checking for hidden files and directories ... NOTE
Found the following hidden files and directories:
.travis.yml
These were most likely included in error. See section ‘Package
structure’ in the ‘Writing R Extensions’ manual.
* checking for portable file names ... OK
* checking for sufficient/correct file permissions ... OK
* checking whether package ‘phyloseq’ can be installed ... OK
* checking installed package size ... OK
* checking package directory ... OK
* checking ‘build’ directory ... OK
* checking DESCRIPTION meta-information ... OK
* checking top-level files ... OK
* checking for left-over files ... OK
* checking index information ... OK
* checking package subdirectories ... OK
* checking R files for non-ASCII characters ... OK
* checking R files for syntax errors ... OK
* checking whether the package can be loaded ... OK
* checking whether the package can be loaded with stated dependencies ... OK
* checking whether the package can be unloaded cleanly ... OK
* checking whether the namespace can be loaded with stated dependencies ... OK
* checking whether the namespace can be unloaded cleanly ... OK
* checking dependencies in R code ... OK
* checking S3 generic/method consistency ... OK
* checking replacement functions ... OK
* checking foreign function calls ... OK
* checking R code for possible problems ... NOTE
DPCoA: no visible global function definition for ‘as.dist’
chunkReOrder: no visible global function definition for ‘tail’
chunkReOrder: no visible global function definition for ‘head’
export_env_file: no visible global function definition for
‘write.table’
export_mothur_dist: no visible global function definition for ‘as.dist’
export_mothur_dist: no visible global function definition for
‘write.table’
fastUniFrac: no visible global function definition for ‘combn’
fastUniFrac: no visible global function definition for ‘as.dist’
import_RDP_otu: no visible global function definition for ‘read.table’
import_env_file: no visible global function definition for ‘read.table’
import_mothur_constaxonomy: no visible global function definition for
‘read.table’
import_mothur_dist: no visible global function definition for ‘as.dist’
import_mothur_groups: no visible global function definition for
‘read.table’
import_mothur_shared: no visible global function definition for
‘read.table’
import_qiime_otu_tax: no visible global function definition for ‘:=’
import_qiime_otu_tax: no visible binding for global variable ‘Consensus
Lineage’
import_qiime_otu_tax: no visible binding for global variable ‘#OTU ID’
import_qiime_sample_data: no visible global function definition for
‘read.table’
import_uparse: no visible global function definition for ‘:=’
import_uparse: no visible binding for global variable ‘count’
import_uparse: no visible binding for global variable ‘queryString’
import_uparse: no visible binding for global variable ‘queryID’
import_uparse: no visible binding for global variable ‘Classification’
import_uparse: no visible global function definition for
‘dcast.data.table’
import_uparse: no visible binding for global variable ‘OTULabel’
import_usearch_uc: no visible global function definition for ‘:=’
import_usearch_uc: no visible binding for global variable ‘read’
microbio_me_qiime: no visible global function definition for
‘download.file’
microbio_me_qiime: no visible global function definition for ‘unzip’
microbio_me_qiime: no visible global function definition for ‘untar’
nodeplotboot : <anonymous>: no visible global function definition for
‘complete.cases’
nodeplotboot : <anonymous>: no visible binding for global variable ‘x’
nodeplotboot : <anonymous>: no visible binding for global variable ‘y’
nodeplotdefault : <anonymous>: no visible binding for global variable
‘x’
nodeplotdefault : <anonymous>: no visible binding for global variable
‘y’
nodeplotdefault : <anonymous>: no visible binding for global variable
‘label’
ordinate: no visible global function definition for ‘as.formula’
plot_clusgap: no visible binding for global variable ‘k’
plot_clusgap: no visible binding for global variable ‘gap’
plot_clusgap: no visible binding for global variable ‘SE.sim’
plot_heatmap: no visible global function definition for
‘capture.output’
plot_heatmap: no visible binding for global variable ‘Sample’
plot_heatmap: no visible binding for global variable ‘OTU’
plot_heatmap: no visible binding for global variable ‘Abundance’
plot_net : vertex_layout: no visible binding for global variable ‘x’
plot_net : link_layout: no visible binding for global variable ‘x’
plot_net : link_layout: no visible binding for global variable ‘y’
plot_net: no visible binding for global variable ‘x’
plot_net: no visible binding for global variable ‘y’
plot_net: no visible binding for global variable ‘xend’
plot_net: no visible binding for global variable ‘yend’
plot_network: no visible binding for global variable ‘x’
plot_network: no visible binding for global variable ‘y’
plot_richness: no visible binding for global variable ‘value’
plot_richness: no visible binding for global variable ‘se’
plot_scree: no visible binding for global variable ‘axis’
plot_scree: no visible binding for global variable ‘eigenvalue’
plot_tree: no visible binding for global variable ‘xleft’
plot_tree: no visible binding for global variable ‘xright’
plot_tree: no visible binding for global variable ‘y’
plot_tree: no visible binding for global variable ‘x’
plot_tree: no visible binding for global variable ‘vmin’
plot_tree: no visible binding for global variable ‘vmax’
plot_tree: no visible binding for global variable ‘OTU’
plot_tree: no visible binding for global variable ‘label’
plot_tree: no visible binding for global variable ‘Abundance’
plot_tree: no visible binding for global variable ‘Sample’
plot_tree: no visible global function definition for ‘:=’
plot_tree: no visible binding for global variable ‘h.adj.index’
plot_tree: no visible binding for global variable ‘xdodge’
plot_tree: no visible binding for global variable ‘xfartiplab’
plot_tree: no visible binding for global variable ‘.SD’
rp.joint.fill: no visible global function definition for ‘relevel’
tip_glom: no visible global function definition for ‘as.dist’
tip_glom: no visible global function definition for ‘cutree’
tip_glom: no visible global function definition for ‘as.hclust’
tree_layout: no visible global function definition for ‘:=’
tree_layout: no visible binding for global variable ‘OTU’
tree_layout: no visible binding for global variable ‘V2’
tree_layout: no visible binding for global variable ‘xleft’
tree_layout: no visible binding for global variable ‘V1’
tree_layout: no visible binding for global variable ‘xright’
tree_layout: no visible binding for global variable ‘y’
tree_layout: no visible binding for global variable ‘x’
tree_layout: no visible binding for global variable ‘label’
tree_layout: no visible global function definition for ‘J’
tree_layout: no visible binding for global variable ‘vmin’
tree_layout: no visible binding for global variable ‘vmax’
JSD,matrix: no visible global function definition for ‘combn’
JSD,matrix: no visible binding for global variable ‘i’
JSD,matrix: no visible global function definition for ‘as.dist’
capscale.phyloseq,phyloseq-formula-character: no visible global
function definition for ‘as.formula’
capscale.phyloseq,phyloseq-formula-dist: no visible global function
definition for ‘as.formula’
cca.phyloseq,phyloseq-formula: no visible global function definition
for ‘as.formula’
distance,phyloseq-character: no visible global function definition for
‘as.dist’
merge_phyloseq_pair,sample_data-sample_data : <anonymous>: no visible
binding for global variable ‘X0’
merge_samples,sample_data: no visible global function definition for
‘aggregate’
plot_phyloseq,phyloseq: no visible binding for global variable
‘esophagus’
Undefined global functions or variables:
#OTU ID .SD := Abundance Classification Consensus Lineage J OTU
OTULabel SE.sim Sample V1 V2 X0 aggregate as.dist as.formula
as.hclust axis capture.output combn complete.cases count cutree
dcast.data.table download.file eigenvalue esophagus gap h.adj.index
head i k label queryID queryString read read.table relevel se tail
untar unzip value vmax vmin write.table x xdodge xend xfartiplab
xleft xright y yend
Consider adding
importFrom("graphics", "axis")
importFrom("stats", "aggregate", "as.dist", "as.formula", "as.hclust",
"complete.cases", "cutree", "relevel")
importFrom("utils", "capture.output", "combn", "download.file", "head",
"read.table", "tail", "untar", "unzip", "write.table")
to your NAMESPACE file.
* checking Rd files ... OK
* checking Rd metadata ... OK
* checking Rd cross-references ... OK
* checking for missing documentation entries ... OK
* checking for code/documentation mismatches ... OK
* checking Rd \usage sections ... OK
* checking Rd contents ... OK
* checking for unstated dependencies in examples ... OK
* checking contents of ‘data’ directory ... OK
* checking data for non-ASCII characters ... OK
* checking data for ASCII and uncompressed saves ... OK
* checking installed files from ‘inst/doc’ ... OK
* checking files in ‘vignettes’ ... OK
* checking examples ... OK
Examples with CPU or elapsed time > 5s
user system elapsed
plot_net 11.286 6.301 4.970
plot_heatmap 7.770 0.282 8.129
* checking for unstated dependencies in ‘tests’ ... OK
* checking tests ...
Running ‘testthat-phyloseq.R’
OK
* checking for unstated dependencies in vignettes ... OK
* checking package vignettes in ‘inst/doc’ ... OK
* checking running R code from vignettes ... SKIPPED
* checking re-building of vignette outputs ... SKIPPED
* checking PDF version of manual ... OK
* DONE
Status: 2 NOTEs
See
‘/Users/biocbuild/bbs-3.8-bioc/meat/phyloseq.Rcheck/00check.log’
for details.
phyloseq.Rcheck/00install.out
############################################################################## ############################################################################## ### ### Running command: ### ### /Library/Frameworks/R.framework/Versions/Current/Resources/bin/R CMD INSTALL phyloseq ### ############################################################################## ############################################################################## * installing to library ‘/Library/Frameworks/R.framework/Versions/3.5/Resources/library’ * installing *source* package ‘phyloseq’ ... ** R ** data ** inst ** byte-compile and prepare package for lazy loading ** help *** installing help indices ** building package indices ** installing vignettes ‘phyloseq-FAQ.Rmd’ using ‘UTF-8’ ‘phyloseq-analysis.Rmd’ ‘phyloseq-basics.Rmd’ ‘phyloseq-mixture-models.Rmd’ ** testing if installed package can be loaded * DONE (phyloseq)
phyloseq.Rcheck/tests/testthat-phyloseq.Rout
R version 3.5.3 (2019-03-11) -- "Great Truth"
Copyright (C) 2019 The R Foundation for Statistical Computing
Platform: x86_64-apple-darwin15.6.0 (64-bit)
R is free software and comes with ABSOLUTELY NO WARRANTY.
You are welcome to redistribute it under certain conditions.
Type 'license()' or 'licence()' for distribution details.
R is a collaborative project with many contributors.
Type 'contributors()' for more information and
'citation()' on how to cite R or R packages in publications.
Type 'demo()' for some demos, 'help()' for on-line help, or
'help.start()' for an HTML browser interface to help.
Type 'q()' to quit R.
> library("testthat")
> packageVersion("phyloseq")
[1] '1.26.1'
> # As suggested for opt-out option on testing by users, recommended by CRAN
> # http://adv-r.had.co.nz/Testing.html
> # Previously, best practice was to put all test files in inst/tests and ensure that R CMD check ran them by putting the following code in tests/test-all.R:
> # library(testthat)
> # library(yourpackage)
> # test_package("yourpackage")
> # Now, recommended practice is to put your tests in tests/testthat, and ensure R CMD check runs them by putting the following code in tests/test-all.R:
> # library(testthat)
> # test_check("yourpackage")
> # The advantage of this new structure is that the user has control over whether or not tests are installed using the –install-tests parameter to R CMD install, or INSTALL_opts = c(“–install-tests”) argument to install.packages(). I’m not sure why you wouldn’t want to install the tests, but now you have the flexibility as requested by CRAN maintainers.
> test_check("phyloseq")
Loading required package: phyloseq
Found biom-format file, now parsing it...
Done parsing biom...
Importing Sample Metdadata from mapping file...
Merging the imported objects...
Successfully merged, phyloseq-class created.
Returning...
Found biom-format file, now parsing it...
Done parsing biom...
Importing Sample Metdadata from mapping file...
Merging the imported objects...
Successfully merged, phyloseq-class created.
Returning...
Reading `ucfile` into memory and parsing into table
Initially read 100 entries.
... Now removing unassigned OTUs (* or NA)...
Removed 7 entries that had no OTU assignment.
A total of 93 will be assigned to the OTU table.
Processing otu/tax file...
Reading file into memory prior to parsing...
Detecting first header line...
Header is on line 2
Converting input file to a table...
Defining OTU table...
Parsing taxonomy table...
Processing phylogenetic tree...
/Library/Frameworks/R.framework/Versions/3.5/Resources/library/phyloseq/extdata/GP_tree_rand_short.newick.gz ...
Processing map file...
Processing otu/tax file...
Reading file into memory prior to parsing...
Detecting first header line...
Header is on line 2
Converting input file to a table...
Defining OTU table...
Parsing taxonomy table...
Processing phylogenetic tree...
/Library/Frameworks/R.framework/Versions/3.5/Resources/library/phyloseq/extdata/GP_tree_rand_short.newick.gz ...
Processing Reference Sequences...
══ testthat results ═══════════════════════════════════════════════════════════
OK: 613 SKIPPED: 0 FAILED: 0
>
> proc.time()
user system elapsed
97.769 7.757 99.653
phyloseq.Rcheck/phyloseq-Ex.timings
| name | user | system | elapsed | |
| DPCoA | 3.389 | 0.260 | 3.664 | |
| JSD | 0.000 | 0.000 | 0.001 | |
| UniFrac-methods | 0.134 | 0.006 | 0.140 | |
| access | 0 | 0 | 0 | |
| assign-otu_table | 0.000 | 0.000 | 0.001 | |
| assign-phy_tree | 0.039 | 0.003 | 0.042 | |
| assign-sample_data | 0.159 | 0.022 | 0.182 | |
| assign-sample_names | 0.006 | 0.002 | 0.007 | |
| assign-tax_table | 0 | 0 | 0 | |
| assign-taxa_are_rows | 0.003 | 0.001 | 0.004 | |
| assign-taxa_names | 0.008 | 0.002 | 0.010 | |
| build_tax_table | 0.015 | 0.001 | 0.016 | |
| capscale-phyloseq-methods | 1.190 | 0.069 | 1.262 | |
| cca-rda-phyloseq-methods | 0.000 | 0.001 | 0.000 | |
| chunkReOrder | 0.000 | 0.000 | 0.001 | |
| data-GlobalPatterns | 1.244 | 0.088 | 1.338 | |
| data-enterotype | 2.038 | 0.076 | 2.128 | |
| data-esophagus | 0.746 | 0.017 | 0.798 | |
| data-soilrep | 1.592 | 0.160 | 1.770 | |
| distance | 0.216 | 0.032 | 0.257 | |
| distanceMethodList | 0.001 | 0.001 | 0.001 | |
| envHash2otu_table | 0.000 | 0.000 | 0.001 | |
| estimate_richness | 0.035 | 0.005 | 0.039 | |
| export_env_file | 0.000 | 0.001 | 0.000 | |
| export_mothur_dist | 0.091 | 0.030 | 0.121 | |
| extract-methods | 0.007 | 0.002 | 0.009 | |
| filter_taxa | 1.176 | 0.055 | 1.234 | |
| filterfun_sample | 0.018 | 0.000 | 0.019 | |
| gapstat_ord | 1.753 | 0.043 | 1.802 | |
| genefilter_sample-methods | 0 | 0 | 0 | |
| get.component.classes | 0.000 | 0.000 | 0.001 | |
| get_sample-methods | 0.005 | 0.002 | 0.007 | |
| get_taxa-methods | 0.003 | 0.001 | 0.005 | |
| get_taxa_unique | 0.267 | 0.027 | 0.294 | |
| get_variable | 0.236 | 0.014 | 0.250 | |
| getslots.phyloseq | 0.211 | 0.015 | 0.227 | |
| import | 0.001 | 0.001 | 0.001 | |
| import_RDP_otu | 1.279 | 0.021 | 1.304 | |
| import_biom | 0.201 | 0.004 | 0.206 | |
| import_env_file | 0.001 | 0.000 | 0.000 | |
| import_mothur | 0.001 | 0.000 | 0.000 | |
| import_mothur_dist | 0 | 0 | 0 | |
| import_pyrotagger_tab | 0 | 0 | 0 | |
| import_qiime | 0.813 | 0.023 | 0.839 | |
| import_qiime_otu_tax | 0.780 | 0.070 | 0.854 | |
| import_qiime_sample_data | 0.015 | 0.001 | 0.016 | |
| import_uparse | 0 | 0 | 0 | |
| import_usearch_uc | 0.080 | 0.102 | 0.031 | |
| index_reorder | 0.000 | 0.002 | 0.000 | |
| intersect_taxa | 0.001 | 0.002 | 0.000 | |
| make_network | 3.719 | 0.714 | 3.520 | |
| merge_phyloseq | 0.000 | 0.001 | 0.000 | |
| merge_phyloseq_pair-methods | 0 | 0 | 0 | |
| merge_samples-methods | 0.933 | 0.211 | 1.191 | |
| merge_taxa-methods | 0.145 | 0.029 | 0.176 | |
| microbio_me_qiime | 1.884 | 0.028 | 1.943 | |
| mt-methods | 1.617 | 0.029 | 1.656 | |
| nodeplotblank | 1.409 | 1.560 | 0.452 | |
| nodeplotboot | 0.007 | 0.010 | 0.002 | |
| nodeplotdefault | 0.002 | 0.003 | 0.000 | |
| nsamples-methods | 0.099 | 0.107 | 0.039 | |
| ntaxa-methods | 0.003 | 0.004 | 0.007 | |
| ordinate | 0 | 0 | 0 | |
| otu_table-methods | 0 | 0 | 0 | |
| parseTaxonomy-functions | 0.002 | 0.001 | 0.003 | |
| phy_tree-methods | 0.269 | 0.018 | 0.290 | |
| phyloseq | 0.034 | 0.008 | 0.042 | |
| phyloseq_to_deseq2 | 4.021 | 0.133 | 4.167 | |
| phyloseq_to_metagenomeSeq | 1.778 | 0.111 | 1.904 | |
| plot_bar | 3.245 | 0.237 | 3.514 | |
| plot_clusgap | 3.631 | 0.169 | 3.811 | |
| plot_heatmap | 7.770 | 0.282 | 8.129 | |
| plot_net | 11.286 | 6.301 | 4.970 | |
| plot_network | 2.914 | 0.091 | 3.027 | |
| plot_ordination | 0.810 | 0.050 | 0.865 | |
| plot_phyloseq-methods | 0.851 | 0.994 | 0.339 | |
| plot_richness | 4.052 | 0.519 | 4.603 | |
| plot_scree | 2.131 | 0.081 | 2.241 | |
| plot_tree | 1.337 | 0.406 | 1.085 | |
| prune_samples-methods | 0.552 | 0.108 | 0.667 | |
| prune_taxa-methods | 0.050 | 0.001 | 0.052 | |
| psmelt | 1.185 | 0.127 | 1.319 | |
| rank_names | 0.028 | 0.003 | 0.033 | |
| rarefy_even_depth | 0.113 | 0.002 | 0.117 | |
| read_tree | 0.031 | 0.002 | 0.033 | |
| read_tree_greengenes | 0.015 | 0.000 | 0.017 | |
| reconcile_categories | 0.001 | 0.000 | 0.000 | |
| refseq-methods | 0.269 | 0.026 | 0.296 | |
| rm_outlierf | 0.026 | 0.001 | 0.028 | |
| sample_data-methods | 0.059 | 0.008 | 0.067 | |
| sample_names-methods | 0.002 | 0.005 | 0.007 | |
| sample_sums | 0.034 | 0.011 | 0.045 | |
| sample_variables | 0.030 | 0.006 | 0.037 | |
| show-methods | 0 | 0 | 0 | |
| splat.phyloseq.objects | 0 | 0 | 0 | |
| subset_ord_plot | 0 | 0 | 0 | |
| subset_samples-methods | 0.000 | 0.000 | 0.001 | |
| subset_taxa-methods | 0 | 0 | 0 | |
| tax_glom | 0.000 | 0.001 | 0.001 | |
| tax_table-methods | 0 | 0 | 0 | |
| taxa_names-methods | 0.034 | 0.005 | 0.039 | |
| taxa_sums | 0.037 | 0.019 | 0.056 | |
| threshrank | 2.400 | 1.296 | 3.704 | |
| threshrankfun | 0.058 | 0.004 | 0.063 | |
| tip_glom | 2.166 | 1.812 | 1.087 | |
| topf | 0.016 | 0.001 | 0.017 | |
| topk | 0.016 | 0.001 | 0.017 | |
| topp | 0.015 | 0.001 | 0.015 | |
| transformcounts | 0.134 | 0.004 | 0.140 | |
| transpose-methods | 2.042 | 0.952 | 3.041 | |
| tree_layout | 3.105 | 1.336 | 0.718 | |