| Back to Multiple platform build/check report for BioC 3.8 |
|
This page was generated on 2019-04-13 11:29:03 -0400 (Sat, 13 Apr 2019).
| Package 1148/1649 | Hostname | OS / Arch | INSTALL | BUILD | CHECK | BUILD BIN | ||||||
| phantasus 1.2.1 Alexey Sergushichev
| malbec1 | Linux (Ubuntu 16.04.6 LTS) / x86_64 | OK | OK | OK | |||||||
| tokay1 | Windows Server 2012 R2 Standard / x64 | OK | OK | OK | [ OK ] | |||||||
| merida1 | OS X 10.11.6 El Capitan / x86_64 | OK | OK | OK | OK |
| Package: phantasus |
| Version: 1.2.1 |
| Command: rm -rf phantasus.buildbin-libdir && mkdir phantasus.buildbin-libdir && C:\Users\biocbuild\bbs-3.8-bioc\R\bin\R.exe CMD INSTALL --merge-multiarch --build --library=phantasus.buildbin-libdir phantasus_1.2.1.tar.gz |
| StartedAt: 2019-04-13 07:45:51 -0400 (Sat, 13 Apr 2019) |
| EndedAt: 2019-04-13 07:46:19 -0400 (Sat, 13 Apr 2019) |
| EllapsedTime: 27.4 seconds |
| RetCode: 0 |
| Status: OK |
| PackageFile: phantasus_1.2.1.zip |
| PackageFileSize: 6.145 MiB |
##############################################################################
##############################################################################
###
### Running command:
###
### rm -rf phantasus.buildbin-libdir && mkdir phantasus.buildbin-libdir && C:\Users\biocbuild\bbs-3.8-bioc\R\bin\R.exe CMD INSTALL --merge-multiarch --build --library=phantasus.buildbin-libdir phantasus_1.2.1.tar.gz
###
##############################################################################
##############################################################################
install for i386
* installing *source* package 'phantasus' ...
** R
** data
*** moving datasets to lazyload DB
** inst
** byte-compile and prepare package for lazy loading
Loading config from C:/Users/biocbuild/bbs-3.8-bioc/R/library/opencpu/config/defaults.conf
Loading config from C:\Users\biocbuild\AppData\Local\opencpu\opencpu/user.conf
** help
*** installing help indices
converting help for package 'phantasus'
finding HTML links ... done
adjustDataset html
calcPCA html
calculatedAnnotation html
checkGPLs html
checkPreloadedNames html
collapseDataset html
createES html
es html
getArchs4Files html
getES html
getGDS html
getGSE html
gseaPlot html
limmaAnalysis html
loadFromARCHS4 html
loadGEO html
loadPreloaded html
performKmeans html
preloadedDirExists html
read.gct html
reparseCachedESs html
servePhantasus html
shinyGAMAnalysis html
subsetES html
write.gct html
** building package indices
** installing vignettes
** testing if installed package can be loaded
Loading config from C:/Users/biocbuild/bbs-3.8-bioc/R/library/opencpu/config/defaults.conf
Loading config from C:\Users\biocbuild\AppData\Local\opencpu\opencpu/user.conf
In R CMD INSTALL
install for x64
* installing *source* package 'phantasus' ...
** testing if installed package can be loaded
Loading config from C:/Users/biocbuild/bbs-3.8-bioc/R/library/opencpu/config/defaults.conf
Loading config from C:\Users\biocbuild\AppData\Local\opencpu\opencpu/user.conf
* MD5 sums
packaged installation of 'phantasus' as phantasus_1.2.1.zip
* DONE (phantasus)
In R CMD INSTALL
In R CMD INSTALL