| Back to Multiple platform build/check report for BioC 3.8 |
|
This page was generated on 2019-04-13 11:24:02 -0400 (Sat, 13 Apr 2019).
| Package 1142/1649 | Hostname | OS / Arch | INSTALL | BUILD | CHECK | BUILD BIN | ||||||
| pepStat 1.16.0 Gregory C Imholte
| malbec1 | Linux (Ubuntu 16.04.6 LTS) / x86_64 | OK | OK | OK | |||||||
| tokay1 | Windows Server 2012 R2 Standard / x64 | OK | OK | OK | [ OK ] | |||||||
| merida1 | OS X 10.11.6 El Capitan / x86_64 | OK | OK | OK | OK |
| Package: pepStat |
| Version: 1.16.0 |
| Command: rm -rf pepStat.buildbin-libdir && mkdir pepStat.buildbin-libdir && C:\Users\biocbuild\bbs-3.8-bioc\R\bin\R.exe CMD INSTALL --merge-multiarch --build --library=pepStat.buildbin-libdir pepStat_1.16.0.tar.gz |
| StartedAt: 2019-04-13 07:45:41 -0400 (Sat, 13 Apr 2019) |
| EndedAt: 2019-04-13 07:46:10 -0400 (Sat, 13 Apr 2019) |
| EllapsedTime: 29.1 seconds |
| RetCode: 0 |
| Status: OK |
| PackageFile: pepStat_1.16.0.zip |
| PackageFileSize: 721.5 KiB |
##############################################################################
##############################################################################
###
### Running command:
###
### rm -rf pepStat.buildbin-libdir && mkdir pepStat.buildbin-libdir && C:\Users\biocbuild\bbs-3.8-bioc\R\bin\R.exe CMD INSTALL --merge-multiarch --build --library=pepStat.buildbin-libdir pepStat_1.16.0.tar.gz
###
##############################################################################
##############################################################################
install for i386
* installing *source* package 'pepStat' ...
** R
** inst
** byte-compile and prepare package for lazy loading
No methods found in package 'GenomicRanges' for request: 'mcols<-' when loading 'pepStat'
No methods found in package 'GenomicRanges' for request: 'mcols' when loading 'pepStat'
** help
*** installing help indices
converting help for package 'pepStat'
finding HTML links ... done
baselineCorrect.pSet html
baseline_correct html
create_db html
finding level-2 HTML links ... done
makeCalls html
makePeptideSet html
normalizeArray html
peptideSet-methods html
peptideSet html
plotArray html
restab html
shinyPepStat html
slidingMean html
summarizePeptides html
** building package indices
** installing vignettes
** testing if installed package can be loaded
No methods found in package 'GenomicRanges' for request: 'mcols<-' when loading 'pepStat'
No methods found in package 'GenomicRanges' for request: 'mcols' when loading 'pepStat'
In R CMD INSTALL
install for x64
* installing *source* package 'pepStat' ...
** testing if installed package can be loaded
No methods found in package 'GenomicRanges' for request: 'mcols<-' when loading 'pepStat'
No methods found in package 'GenomicRanges' for request: 'mcols' when loading 'pepStat'
* MD5 sums
packaged installation of 'pepStat' as pepStat_1.16.0.zip
* DONE (pepStat)
In R CMD INSTALL
In R CMD INSTALL