| Back to Multiple platform build/check report for BioC 3.8 |
|
This page was generated on 2019-04-16 11:58:03 -0400 (Tue, 16 Apr 2019).
| Package 1129/1649 | Hostname | OS / Arch | INSTALL | BUILD | CHECK | BUILD BIN | ||||||
| paxtoolsr 1.16.0 Augustin Luna
| malbec1 | Linux (Ubuntu 16.04.6 LTS) / x86_64 | OK | OK | OK | |||||||
| merida1 | OS X 10.11.6 El Capitan / x86_64 | OK | OK | [ OK ] | OK |
| Package: paxtoolsr |
| Version: 1.16.0 |
| Command: /Library/Frameworks/R.framework/Versions/Current/Resources/bin/R CMD check --install=check:paxtoolsr.install-out.txt --library=/Library/Frameworks/R.framework/Versions/Current/Resources/library --no-vignettes --timings paxtoolsr_1.16.0.tar.gz |
| StartedAt: 2019-04-16 01:48:11 -0400 (Tue, 16 Apr 2019) |
| EndedAt: 2019-04-16 01:50:52 -0400 (Tue, 16 Apr 2019) |
| EllapsedTime: 161.0 seconds |
| RetCode: 0 |
| Status: OK |
| CheckDir: paxtoolsr.Rcheck |
| Warnings: 0 |
##############################################################################
##############################################################################
###
### Running command:
###
### /Library/Frameworks/R.framework/Versions/Current/Resources/bin/R CMD check --install=check:paxtoolsr.install-out.txt --library=/Library/Frameworks/R.framework/Versions/Current/Resources/library --no-vignettes --timings paxtoolsr_1.16.0.tar.gz
###
##############################################################################
##############################################################################
* using log directory ‘/Users/biocbuild/bbs-3.8-bioc/meat/paxtoolsr.Rcheck’
* using R version 3.5.3 (2019-03-11)
* using platform: x86_64-apple-darwin15.6.0 (64-bit)
* using session charset: UTF-8
* using option ‘--no-vignettes’
* checking for file ‘paxtoolsr/DESCRIPTION’ ... OK
* checking extension type ... Package
* this is package ‘paxtoolsr’ version ‘1.16.0’
* checking package namespace information ... OK
* checking package dependencies ... OK
* checking if this is a source package ... OK
* checking if there is a namespace ... OK
* checking for hidden files and directories ... OK
* checking for portable file names ... OK
* checking for sufficient/correct file permissions ... OK
* checking whether package ‘paxtoolsr’ can be installed ... OK
* checking installed package size ... NOTE
installed size is 31.6Mb
sub-directories of 1Mb or more:
extdata 6.8Mb
java 24.5Mb
* checking package directory ... OK
* checking ‘build’ directory ... OK
* checking DESCRIPTION meta-information ... OK
* checking top-level files ... OK
* checking for left-over files ... OK
* checking index information ... OK
* checking package subdirectories ... OK
* checking R files for non-ASCII characters ... OK
* checking R files for syntax errors ... OK
* checking whether the package can be loaded ... OK
* checking whether the package can be loaded with stated dependencies ... OK
* checking whether the package can be unloaded cleanly ... OK
* checking whether the namespace can be loaded with stated dependencies ... OK
* checking whether the namespace can be unloaded cleanly ... OK
* checking dependencies in R code ... NOTE
'library' or 'require' call to ‘org.Hs.eg.db’ in package code.
Please use :: or requireNamespace() instead.
See section 'Suggested packages' in the 'Writing R Extensions' manual.
* checking S3 generic/method consistency ... OK
* checking replacement functions ... OK
* checking foreign function calls ... OK
* checking R code for possible problems ... NOTE
convertIds: no visible global function definition for ‘select’
convertIds: no visible binding for global variable ‘org.Hs.eg.db’
splitSifnxByPathway: no visible global function definition for
‘%dopar%’
Undefined global functions or variables:
%dopar% org.Hs.eg.db select
* checking Rd files ... OK
* checking Rd metadata ... OK
* checking Rd cross-references ... OK
* checking for missing documentation entries ... OK
* checking for code/documentation mismatches ... OK
* checking Rd \usage sections ... OK
* checking Rd contents ... OK
* checking for unstated dependencies in examples ... OK
* checking files in ‘vignettes’ ... OK
* checking examples ... OK
Examples with CPU or elapsed time > 5s
user system elapsed
readPcPathwaysInfo 70.460 11.176 82.581
fetch 4.611 0.547 1.324
* checking for unstated dependencies in ‘tests’ ... OK
* checking tests ...
Running ‘testthat.R’
OK
* checking for unstated dependencies in vignettes ... OK
* checking package vignettes in ‘inst/doc’ ... OK
* checking running R code from vignettes ... SKIPPED
* checking re-building of vignette outputs ... SKIPPED
* checking PDF version of manual ... OK
* DONE
Status: 3 NOTEs
See
‘/Users/biocbuild/bbs-3.8-bioc/meat/paxtoolsr.Rcheck/00check.log’
for details.
paxtoolsr.Rcheck/00install.out
############################################################################## ############################################################################## ### ### Running command: ### ### /Library/Frameworks/R.framework/Versions/Current/Resources/bin/R CMD INSTALL paxtoolsr ### ############################################################################## ############################################################################## * installing to library ‘/Library/Frameworks/R.framework/Versions/3.5/Resources/library’ * installing *source* package ‘paxtoolsr’ ... ** R ** inst ** byte-compile and prepare package for lazy loading ** help *** installing help indices ** building package indices ** installing vignettes ** testing if installed package can be loaded * DONE (paxtoolsr)
paxtoolsr.Rcheck/tests/testthat.Rout
R version 3.5.3 (2019-03-11) -- "Great Truth"
Copyright (C) 2019 The R Foundation for Statistical Computing
Platform: x86_64-apple-darwin15.6.0 (64-bit)
R is free software and comes with ABSOLUTELY NO WARRANTY.
You are welcome to redistribute it under certain conditions.
Type 'license()' or 'licence()' for distribution details.
R is a collaborative project with many contributors.
Type 'contributors()' for more information and
'citation()' on how to cite R or R packages in publications.
Type 'demo()' for some demos, 'help()' for on-line help, or
'help.start()' for an HTML browser interface to help.
Type 'q()' to quit R.
> library(testthat)
> library(paxtoolsr)
Loading required package: rJava
Loading required package: XML
Consider citing this package: Luna A, et al. PaxtoolsR: pathway analysis in R using Pathway Commons. PMID: 26685306; citation("paxtoolsr")
>
> test_check("paxtoolsr")
URL: http://www.pathwaycommons.org/pc2/get?uri=http%3A%2F%2Fidentifiers.org%2Funiprot%2FQ06609&uri=http%3A%2F%2Fidentifiers.org%2Funiprot%2FQ96EB6&format=BIOPAX
2019-04-16 01:50:41,176 969 [main] INFO org.biopax.paxtools.PaxtoolsMain - Collecting proteins for a pathway, the converter will also consider its sub-pathways, their sub-pathways, etc.
2019-04-16 01:50:41,191 984 [pool-1-thread-1] INFO org.biopax.paxtools.io.gsea.GSEAConverter - Begin converting Glycolysis Pathway pathway, uri=http://www.biopax.org/examples/myExamplePathway50
2019-04-16 01:50:41,201 994 [pool-1-thread-1] INFO org.biopax.paxtools.io.gsea.GSEAConverter - - fetched PRs: 2
2019-04-16 01:50:41,201 994 [pool-1-thread-1] INFO org.biopax.paxtools.io.gsea.GSEAConverter - - grouping the PRs by organism...
2019-04-16 01:50:41,216 1009 [pool-1-thread-1] INFO org.biopax.paxtools.io.gsea.GSEAConverter - - creating GSEA/GMT entries...
2019-04-16 01:50:41,217 1010 [pool-2-thread-1] INFO org.biopax.paxtools.io.gsea.GSEAConverter - adding uniprot IDs of proteins (PRs) from 'Glycolysis Pathway', amaze;kegg pathway...
2019-04-16 01:50:41,220 1013 [pool-1-thread-1] INFO org.biopax.paxtools.io.gsea.GSEAConverter - - collected 1entries.
2019-04-16 01:50:41,220 1013 [main] INFO org.biopax.paxtools.io.gsea.GSEAConverter - Creating entries for the rest fo (unused) PRs...
2019-04-16 01:50:41,677 1470 [main] INFO org.biopax.paxtools.client.BiopaxValidatorClient - BioPAX Validator location: http://biopax.baderlab.org/check.html
2019-04-16 01:50:42,367 2160 [main] INFO org.biopax.paxtools.client.BiopaxValidatorClient - BioPAX Validator location: http://biopax.baderlab.org/check.html
2019-04-16 01:50:42,833 2626 [main] INFO org.biopax.paxtools.PaxtoolsMain - Elements in the result model: 240
SBGN-PD Layout is running...
success ratio: 1.0
enhanced ratio: 1.0
Total execution time: 79 miliseconds.
2019-04-16 01:50:43,685 3478 [AWT-AppKit] INFO org.biopax.paxtools.PaxtoolsMain - toSifnx: not blacklisting ubiquitous molecules (no blacklist.txt found)
2019-04-16 01:50:44,542 4335 [AWT-AppKit] INFO org.biopax.paxtools.PaxtoolsMain - toSif: not blacklisting ubiquitous molecules (no blacklist.txt found)
2019-04-16 01:50:45,434 5227 [AWT-AppKit] INFO org.biopax.paxtools.PaxtoolsMain - toSif: not blacklisting ubiquitous molecules (no blacklist.txt found)
══ testthat results ═══════════════════════════════════════════════════════════
OK: 40 SKIPPED: 10 FAILED: 0
>
> proc.time()
user system elapsed
24.580 2.211 14.740
paxtoolsr.Rcheck/paxtoolsr-Ex.timings
| name | user | system | elapsed | |
| addAttributeList | 0.017 | 0.002 | 0.018 | |
| convertDataFrameListsToVectors | 0.005 | 0.001 | 0.006 | |
| convertIds | 3.485 | 0.179 | 3.719 | |
| convertSifToGmt | 0.018 | 0.007 | 0.025 | |
| downloadFile | 0.048 | 0.008 | 0.157 | |
| downloadPc2 | 0.000 | 0.000 | 0.001 | |
| downloadSignedPC | 0 | 0 | 0 | |
| fetch | 4.611 | 0.547 | 1.324 | |
| filterSif | 0.249 | 0.013 | 0.085 | |
| getCacheFiles | 0.000 | 0.000 | 0.001 | |
| getErrorMessage | 0.002 | 0.000 | 0.001 | |
| getNeighbors | 1.068 | 0.074 | 0.195 | |
| getPc | 0 | 0 | 0 | |
| getPcDatabaseNames | 0.224 | 0.006 | 0.557 | |
| getPcUrl | 0 | 0 | 0 | |
| getShortestPathSif | 0.020 | 0.000 | 0.021 | |
| getSifInteractionCategories | 0.000 | 0.000 | 0.001 | |
| graphPc | 0 | 0 | 0 | |
| integrateBiopax | 2.820 | 0.211 | 0.756 | |
| loadSifInIgraph | 0.019 | 0.001 | 0.005 | |
| mapValues | 0.001 | 0.000 | 0.001 | |
| mergeBiopax | 1.156 | 0.067 | 0.516 | |
| pcDirections | 0.000 | 0.000 | 0.001 | |
| pcFormats | 0.000 | 0.001 | 0.000 | |
| pcGraphQueries | 0 | 0 | 0 | |
| processPcRequest | 0.010 | 0.001 | 0.006 | |
| readBiopax | 0.005 | 0.000 | 0.002 | |
| readGmt | 0.061 | 0.001 | 0.050 | |
| readPcPathwaysInfo | 70.460 | 11.176 | 82.581 | |
| readSbgn | 0.002 | 0.001 | 0.002 | |
| readSif | 0.002 | 0.000 | 0.002 | |
| readSifnx | 0.011 | 0.001 | 0.013 | |
| searchListOfVectors | 0.002 | 0.001 | 0.003 | |
| searchPc | 0 | 0 | 0 | |
| summarize | 0.175 | 0.013 | 0.093 | |
| summarizeSif | 0.003 | 0.000 | 0.004 | |
| toCytoscape | 0.022 | 0.000 | 0.022 | |
| toGSEA | 0.124 | 0.013 | 0.054 | |
| toLevel3 | 0.408 | 0.023 | 0.083 | |
| toSBGN | 1.892 | 0.155 | 0.677 | |
| toSif | 2.629 | 0.110 | 0.594 | |
| toSifnx | 3.079 | 0.169 | 0.546 | |
| topPathways | 0 | 0 | 0 | |
| traverse | 0.001 | 0.000 | 0.000 | |
| validate | 1.804 | 0.106 | 1.168 | |