| Back to Multiple platform build/check report for BioC 3.8 |
|
This page was generated on 2019-04-13 11:27:37 -0400 (Sat, 13 Apr 2019).
| Package 1124/1649 | Hostname | OS / Arch | INSTALL | BUILD | CHECK | BUILD BIN | ||||||
| pathprint 1.12.0 Sokratis Kariotis
| malbec1 | Linux (Ubuntu 16.04.6 LTS) / x86_64 | OK | OK | OK | |||||||
| tokay1 | Windows Server 2012 R2 Standard / x64 | [ OK ] | OK | OK | OK | |||||||
| merida1 | OS X 10.11.6 El Capitan / x86_64 | OK | OK | OK | OK |
| Package: pathprint |
| Version: 1.12.0 |
| Command: C:\cygwin\bin\curl.exe -O https://malbec1.bioconductor.org/BBS/3.8/bioc/src/contrib/pathprint_1.12.0.tar.gz && rm -rf pathprint.buildbin-libdir && mkdir pathprint.buildbin-libdir && C:\Users\biocbuild\bbs-3.8-bioc\R\bin\R.exe CMD INSTALL --merge-multiarch --build --library=pathprint.buildbin-libdir pathprint_1.12.0.tar.gz && C:\Users\biocbuild\bbs-3.8-bioc\R\bin\R.exe CMD INSTALL pathprint_1.12.0.zip && rm pathprint_1.12.0.tar.gz pathprint_1.12.0.zip |
| StartedAt: 2019-04-12 18:34:56 -0400 (Fri, 12 Apr 2019) |
| EndedAt: 2019-04-12 18:35:40 -0400 (Fri, 12 Apr 2019) |
| EllapsedTime: 43.7 seconds |
| RetCode: 0 |
| Status: OK |
##############################################################################
##############################################################################
###
### Running command:
###
### C:\cygwin\bin\curl.exe -O https://malbec1.bioconductor.org/BBS/3.8/bioc/src/contrib/pathprint_1.12.0.tar.gz && rm -rf pathprint.buildbin-libdir && mkdir pathprint.buildbin-libdir && C:\Users\biocbuild\bbs-3.8-bioc\R\bin\R.exe CMD INSTALL --merge-multiarch --build --library=pathprint.buildbin-libdir pathprint_1.12.0.tar.gz && C:\Users\biocbuild\bbs-3.8-bioc\R\bin\R.exe CMD INSTALL pathprint_1.12.0.zip && rm pathprint_1.12.0.tar.gz pathprint_1.12.0.zip
###
##############################################################################
##############################################################################
% Total % Received % Xferd Average Speed Time Time Time Current
Dload Upload Total Spent Left Speed
0 0 0 0 0 0 0 0 --:--:-- --:--:-- --:--:-- 0
100 928k 100 928k 0 0 19.0M 0 --:--:-- --:--:-- --:--:-- 20.6M
install for i386
* installing *source* package 'pathprint' ...
** R
** data
** inst
** byte-compile and prepare package for lazy loading
** help
*** installing help indices
converting help for package 'pathprint'
finding HTML links ... done
consensusDistance html
consensusFingerprint html
customCDFAnn html
diffPathways html
exprs2fingerprint html
genesets html
pathprint-package html
pathprint.Ce.gs html
pathprint.Dm.gs html
pathprint.Dr.gs html
pathprint.Hs.gs html
pathprint.Mm.gs html
pathprint.Rn.gs html
platform.thresholds html
pluripotents.frame html
single.chip.enrichment html
thresholdFingerprint html
** building package indices
** installing vignettes
** testing if installed package can be loaded
In R CMD INSTALL
install for x64
* installing *source* package 'pathprint' ...
** testing if installed package can be loaded
* MD5 sums
packaged installation of 'pathprint' as pathprint_1.12.0.zip
* DONE (pathprint)
In R CMD INSTALL
In R CMD INSTALL
* installing to library 'C:/Users/biocbuild/bbs-3.8-bioc/R/library'
package 'pathprint' successfully unpacked and MD5 sums checked
In R CMD INSTALL