| Back to Multiple platform build/check report for BioC 3.8 |
|
This page was generated on 2019-04-13 11:25:59 -0400 (Sat, 13 Apr 2019).
| Package 1126/1649 | Hostname | OS / Arch | INSTALL | BUILD | CHECK | BUILD BIN | ||||||
| pathVar 1.12.0 Samuel Zimmerman
| malbec1 | Linux (Ubuntu 16.04.6 LTS) / x86_64 | OK | OK | OK | |||||||
| tokay1 | Windows Server 2012 R2 Standard / x64 | [ OK ] | OK | OK | OK | |||||||
| merida1 | OS X 10.11.6 El Capitan / x86_64 | OK | OK | OK | OK |
| Package: pathVar |
| Version: 1.12.0 |
| Command: C:\cygwin\bin\curl.exe -O https://malbec1.bioconductor.org/BBS/3.8/bioc/src/contrib/pathVar_1.12.0.tar.gz && rm -rf pathVar.buildbin-libdir && mkdir pathVar.buildbin-libdir && C:\Users\biocbuild\bbs-3.8-bioc\R\bin\R.exe CMD INSTALL --merge-multiarch --build --library=pathVar.buildbin-libdir pathVar_1.12.0.tar.gz && C:\Users\biocbuild\bbs-3.8-bioc\R\bin\R.exe CMD INSTALL pathVar_1.12.0.zip && rm pathVar_1.12.0.tar.gz pathVar_1.12.0.zip |
| StartedAt: 2019-04-12 18:49:52 -0400 (Fri, 12 Apr 2019) |
| EndedAt: 2019-04-12 18:50:50 -0400 (Fri, 12 Apr 2019) |
| EllapsedTime: 58.1 seconds |
| RetCode: 0 |
| Status: OK |
##############################################################################
##############################################################################
###
### Running command:
###
### C:\cygwin\bin\curl.exe -O https://malbec1.bioconductor.org/BBS/3.8/bioc/src/contrib/pathVar_1.12.0.tar.gz && rm -rf pathVar.buildbin-libdir && mkdir pathVar.buildbin-libdir && C:\Users\biocbuild\bbs-3.8-bioc\R\bin\R.exe CMD INSTALL --merge-multiarch --build --library=pathVar.buildbin-libdir pathVar_1.12.0.tar.gz && C:\Users\biocbuild\bbs-3.8-bioc\R\bin\R.exe CMD INSTALL pathVar_1.12.0.zip && rm pathVar_1.12.0.tar.gz pathVar_1.12.0.zip
###
##############################################################################
##############################################################################
% Total % Received % Xferd Average Speed Time Time Time Current
Dload Upload Total Spent Left Speed
0 0 0 0 0 0 0 0 --:--:-- --:--:-- --:--:-- 0
100 902k 100 902k 0 0 19.6M 0 --:--:-- --:--:-- --:--:-- 21.4M
install for i386
* installing *source* package 'pathVar' ...
** R
** data
*** moving datasets to lazyload DB
** inst
** byte-compile and prepare package for lazy loading
** help
*** installing help indices
converting help for package 'pathVar'
finding HTML links ... done
bock html
diagnosticsVarPlots html
diagnosticsVarPlotsTwoSample html
geneDistributionSet-class html
geneDistributionSet2-class html
geneDistributionSet3-class html
geneSet-class html
getGenes html
makeDBList html
pathVar-package html
pathVarOneSample html
pathVarTwoSamplesCont html
pathVarTwoSamplesDisc html
plotAllTwoSampleDistributionCounts html
plotPway html
pways.kegg html
pways.reactome html
saveAsPDF html
sigPway html
significantPathway-class html
significantPathway2-class html
significantPathway3-class html
** building package indices
** installing vignettes
** testing if installed package can be loaded
In R CMD INSTALL
install for x64
* installing *source* package 'pathVar' ...
** testing if installed package can be loaded
* MD5 sums
packaged installation of 'pathVar' as pathVar_1.12.0.zip
* DONE (pathVar)
In R CMD INSTALL
In R CMD INSTALL
* installing to library 'C:/Users/biocbuild/bbs-3.8-bioc/R/library'
package 'pathVar' successfully unpacked and MD5 sums checked
In R CMD INSTALL