| Back to Multiple platform build/check report for BioC 3.8 |
|
This page was generated on 2019-04-16 12:01:01 -0400 (Tue, 16 Apr 2019).
| Package 1113/1649 | Hostname | OS / Arch | INSTALL | BUILD | CHECK | BUILD BIN | ||||||
| panelcn.mops 1.4.0 Gundula Povysil
| malbec1 | Linux (Ubuntu 16.04.6 LTS) / x86_64 | OK | OK | OK | |||||||
| merida1 | OS X 10.11.6 El Capitan / x86_64 | OK | OK | OK | [ OK ] |
| Package: panelcn.mops |
| Version: 1.4.0 |
| Command: rm -rf panelcn.mops.buildbin-libdir && mkdir panelcn.mops.buildbin-libdir && /Users/biocbuild/BBS/utils/build-universal.sh panelcn.mops_1.4.0.tar.gz /Library/Frameworks/R.framework/Versions/Current/Resources/bin/R panelcn.mops.buildbin-libdir |
| StartedAt: 2019-04-16 04:29:55 -0400 (Tue, 16 Apr 2019) |
| EndedAt: 2019-04-16 04:30:28 -0400 (Tue, 16 Apr 2019) |
| EllapsedTime: 32.8 seconds |
| RetCode: 0 |
| Status: OK |
| PackageFile: panelcn.mops_1.4.0.tgz |
| PackageFileSize: 447.8 KiB |
############################################################################## ############################################################################## ### ### Running command: ### ### rm -rf panelcn.mops.buildbin-libdir && mkdir panelcn.mops.buildbin-libdir && /Users/biocbuild/BBS/utils/build-universal.sh panelcn.mops_1.4.0.tar.gz /Library/Frameworks/R.framework/Versions/Current/Resources/bin/R panelcn.mops.buildbin-libdir ### ############################################################################## ############################################################################## >>>>>>> >>>>>>> INSTALLATION WITH 'R CMD INSTALL --preclean --no-multiarch --library=panelcn.mops.buildbin-libdir panelcn.mops_1.4.0.tar.gz' >>>>>>> * installing *source* package ‘panelcn.mops’ ... ** R ** data *** moving datasets to lazyload DB ** inst ** byte-compile and prepare package for lazy loading ** help *** installing help indices ** building package indices ** installing vignettes ** testing if installed package can be loaded * DONE (panelcn.mops)