| Back to Multiple platform build/check report for BioC 3.8 |
|
This page was generated on 2019-04-13 11:24:02 -0400 (Sat, 13 Apr 2019).
| Package 1097/1649 | Hostname | OS / Arch | INSTALL | BUILD | CHECK | BUILD BIN | ||||||
| oposSOM 2.0.0 Henry Loeffler-Wirth
| malbec1 | Linux (Ubuntu 16.04.6 LTS) / x86_64 | OK | OK | WARNINGS | |||||||
| tokay1 | Windows Server 2012 R2 Standard / x64 | OK | OK | WARNINGS | [ OK ] | |||||||
| merida1 | OS X 10.11.6 El Capitan / x86_64 | OK | OK | WARNINGS | OK |
| Package: oposSOM |
| Version: 2.0.0 |
| Command: rm -rf oposSOM.buildbin-libdir && mkdir oposSOM.buildbin-libdir && C:\Users\biocbuild\bbs-3.8-bioc\R\bin\R.exe CMD INSTALL --merge-multiarch --build --library=oposSOM.buildbin-libdir oposSOM_2.0.0.tar.gz |
| StartedAt: 2019-04-13 07:44:04 -0400 (Sat, 13 Apr 2019) |
| EndedAt: 2019-04-13 07:45:01 -0400 (Sat, 13 Apr 2019) |
| EllapsedTime: 57.3 seconds |
| RetCode: 0 |
| Status: OK |
| PackageFile: oposSOM_2.0.0.zip |
| PackageFileSize: 4.532 MiB |
##############################################################################
##############################################################################
###
### Running command:
###
### rm -rf oposSOM.buildbin-libdir && mkdir oposSOM.buildbin-libdir && C:\Users\biocbuild\bbs-3.8-bioc\R\bin\R.exe CMD INSTALL --merge-multiarch --build --library=oposSOM.buildbin-libdir oposSOM_2.0.0.tar.gz
###
##############################################################################
##############################################################################
install for i386
* installing *source* package 'oposSOM' ...
** libs
C:/Rtools/mingw_32/bin/g++ -std=gnu++11 -I"C:/Users/BIOCBU˜1/BBS-3˜1.8-B/R/include" -DNDEBUG -I"C:/Users/biocbuild/bbs-3.8-bioc/R/library/RcppParallel/include" -I"C:/Users/biocbuild/bbs-3.8-bioc/R/library/Rcpp/include" -I"C:/extsoft/include" -DRCPP_PARALLEL_USE_TBB=1 -O2 -Wall -mtune=generic -c DeltaMatrix.cpp -o DeltaMatrix.o
C:/Rtools/mingw_32/bin/g++ -std=gnu++11 -I"C:/Users/BIOCBU˜1/BBS-3˜1.8-B/R/include" -DNDEBUG -I"C:/Users/biocbuild/bbs-3.8-bioc/R/library/RcppParallel/include" -I"C:/Users/biocbuild/bbs-3.8-bioc/R/library/Rcpp/include" -I"C:/extsoft/include" -DRCPP_PARALLEL_USE_TBB=1 -O2 -Wall -mtune=generic -c DistanceCalculator.cpp -o DistanceCalculator.o
C:/Rtools/mingw_32/bin/g++ -std=gnu++11 -I"C:/Users/BIOCBU˜1/BBS-3˜1.8-B/R/include" -DNDEBUG -I"C:/Users/biocbuild/bbs-3.8-bioc/R/library/RcppParallel/include" -I"C:/Users/biocbuild/bbs-3.8-bioc/R/library/Rcpp/include" -I"C:/extsoft/include" -DRCPP_PARALLEL_USE_TBB=1 -O2 -Wall -mtune=generic -c NeighborhoodMatrix.cpp -o NeighborhoodMatrix.o
C:/Rtools/mingw_32/bin/g++ -std=gnu++11 -I"C:/Users/BIOCBU˜1/BBS-3˜1.8-B/R/include" -DNDEBUG -I"C:/Users/biocbuild/bbs-3.8-bioc/R/library/RcppParallel/include" -I"C:/Users/biocbuild/bbs-3.8-bioc/R/library/Rcpp/include" -I"C:/extsoft/include" -DRCPP_PARALLEL_USE_TBB=1 -O2 -Wall -mtune=generic -c RcppExports.cpp -o RcppExports.o
C:/Rtools/mingw_32/bin/g++ -shared -s -static-libgcc -o oposSOM.dll tmp.def DeltaMatrix.o DistanceCalculator.o NeighborhoodMatrix.o RcppExports.o -LC:/Users/biocbuild/bbs-3.8-bioc/R/library/RcppParallel/lib/i386 -ltbb -ltbbmalloc -LC:/extsoft/lib/i386 -LC:/extsoft/lib -LC:/Users/BIOCBU˜1/BBS-3˜1.8-B/R/bin/i386 -lR
installing to C:/Users/biocbuild/bbs-3.8-bioc/meat/oposSOM.buildbin-libdir/oposSOM/libs/i386
** R
** data
** inst
** byte-compile and prepare package for lazy loading
** help
*** installing help indices
converting help for package 'oposSOM'
finding HTML links ... done
oposSOM-package html
opossom.genesets html
opossom.new html
opossom.run html
opossom.tissues html
** building package indices
** installing vignettes
** testing if installed package can be loaded
In R CMD INSTALL
install for x64
* installing *source* package 'oposSOM' ...
** libs
C:/Rtools/mingw_64/bin/g++ -std=gnu++11 -I"C:/Users/BIOCBU˜1/BBS-3˜1.8-B/R/include" -DNDEBUG -I"C:/Users/biocbuild/bbs-3.8-bioc/R/library/RcppParallel/include" -I"C:/Users/biocbuild/bbs-3.8-bioc/R/library/Rcpp/include" -I"C:/extsoft/include" -DRCPP_PARALLEL_USE_TBB=1 -O2 -Wall -mtune=generic -c DeltaMatrix.cpp -o DeltaMatrix.o
C:/Rtools/mingw_64/bin/g++ -std=gnu++11 -I"C:/Users/BIOCBU˜1/BBS-3˜1.8-B/R/include" -DNDEBUG -I"C:/Users/biocbuild/bbs-3.8-bioc/R/library/RcppParallel/include" -I"C:/Users/biocbuild/bbs-3.8-bioc/R/library/Rcpp/include" -I"C:/extsoft/include" -DRCPP_PARALLEL_USE_TBB=1 -O2 -Wall -mtune=generic -c DistanceCalculator.cpp -o DistanceCalculator.o
C:/Rtools/mingw_64/bin/g++ -std=gnu++11 -I"C:/Users/BIOCBU˜1/BBS-3˜1.8-B/R/include" -DNDEBUG -I"C:/Users/biocbuild/bbs-3.8-bioc/R/library/RcppParallel/include" -I"C:/Users/biocbuild/bbs-3.8-bioc/R/library/Rcpp/include" -I"C:/extsoft/include" -DRCPP_PARALLEL_USE_TBB=1 -O2 -Wall -mtune=generic -c NeighborhoodMatrix.cpp -o NeighborhoodMatrix.o
C:/Rtools/mingw_64/bin/g++ -std=gnu++11 -I"C:/Users/BIOCBU˜1/BBS-3˜1.8-B/R/include" -DNDEBUG -I"C:/Users/biocbuild/bbs-3.8-bioc/R/library/RcppParallel/include" -I"C:/Users/biocbuild/bbs-3.8-bioc/R/library/Rcpp/include" -I"C:/extsoft/include" -DRCPP_PARALLEL_USE_TBB=1 -O2 -Wall -mtune=generic -c RcppExports.cpp -o RcppExports.o
C:/Rtools/mingw_64/bin/g++ -shared -s -static-libgcc -o oposSOM.dll tmp.def DeltaMatrix.o DistanceCalculator.o NeighborhoodMatrix.o RcppExports.o -LC:/Users/biocbuild/bbs-3.8-bioc/R/library/RcppParallel/lib/x64 -ltbb -ltbbmalloc -LC:/extsoft/lib/x64 -LC:/extsoft/lib -LC:/Users/BIOCBU˜1/BBS-3˜1.8-B/R/bin/x64 -lR
installing to C:/Users/biocbuild/bbs-3.8-bioc/meat/oposSOM.buildbin-libdir/oposSOM/libs/x64
** testing if installed package can be loaded
* MD5 sums
packaged installation of 'oposSOM' as oposSOM_2.0.0.zip
* DONE (oposSOM)
In R CMD INSTALL
In R CMD INSTALL