| Back to Multiple platform build/check report for BioC 3.8 |
|
This page was generated on 2019-04-13 11:28:48 -0400 (Sat, 13 Apr 2019).
| Package 1082/1649 | Hostname | OS / Arch | INSTALL | BUILD | CHECK | BUILD BIN | ||||||
| omicplotR 1.2.1 Daniel Giguere
| malbec1 | Linux (Ubuntu 16.04.6 LTS) / x86_64 | OK | OK | OK | |||||||
| tokay1 | Windows Server 2012 R2 Standard / x64 | [ OK ] | OK | OK | OK | |||||||
| merida1 | OS X 10.11.6 El Capitan / x86_64 | OK | OK | OK | OK |
| Package: omicplotR |
| Version: 1.2.1 |
| Command: C:\cygwin\bin\curl.exe -O https://malbec1.bioconductor.org/BBS/3.8/bioc/src/contrib/omicplotR_1.2.1.tar.gz && rm -rf omicplotR.buildbin-libdir && mkdir omicplotR.buildbin-libdir && C:\Users\biocbuild\bbs-3.8-bioc\R\bin\R.exe CMD INSTALL --merge-multiarch --build --library=omicplotR.buildbin-libdir omicplotR_1.2.1.tar.gz && C:\Users\biocbuild\bbs-3.8-bioc\R\bin\R.exe CMD INSTALL omicplotR_1.2.1.zip && rm omicplotR_1.2.1.tar.gz omicplotR_1.2.1.zip |
| StartedAt: 2019-04-12 20:06:24 -0400 (Fri, 12 Apr 2019) |
| EndedAt: 2019-04-12 20:07:39 -0400 (Fri, 12 Apr 2019) |
| EllapsedTime: 74.3 seconds |
| RetCode: 0 |
| Status: OK |
##############################################################################
##############################################################################
###
### Running command:
###
### C:\cygwin\bin\curl.exe -O https://malbec1.bioconductor.org/BBS/3.8/bioc/src/contrib/omicplotR_1.2.1.tar.gz && rm -rf omicplotR.buildbin-libdir && mkdir omicplotR.buildbin-libdir && C:\Users\biocbuild\bbs-3.8-bioc\R\bin\R.exe CMD INSTALL --merge-multiarch --build --library=omicplotR.buildbin-libdir omicplotR_1.2.1.tar.gz && C:\Users\biocbuild\bbs-3.8-bioc\R\bin\R.exe CMD INSTALL omicplotR_1.2.1.zip && rm omicplotR_1.2.1.tar.gz omicplotR_1.2.1.zip
###
##############################################################################
##############################################################################
% Total % Received % Xferd Average Speed Time Time Time Current
Dload Upload Total Spent Left Speed
0 0 0 0 0 0 0 0 --:--:-- --:--:-- --:--:-- 0
100 869k 100 869k 0 0 17.8M 0 --:--:-- --:--:-- --:--:-- 19.7M
install for i386
* installing *source* package 'omicplotR' ...
** R
** data
*** moving datasets to lazyload DB
** inst
** byte-compile and prepare package for lazy loading
** help
*** installing help indices
converting help for package 'omicplotR'
finding HTML links ... done
internal html
metadata html
omicplotR-package html
omicplotr.run html
otu_table html
** building package indices
** installing vignettes
** testing if installed package can be loaded
In R CMD INSTALL
install for x64
* installing *source* package 'omicplotR' ...
** testing if installed package can be loaded
* MD5 sums
packaged installation of 'omicplotR' as omicplotR_1.2.1.zip
* DONE (omicplotR)
In R CMD INSTALL
In R CMD INSTALL
* installing to library 'C:/Users/biocbuild/bbs-3.8-bioc/R/library'
package 'omicplotR' successfully unpacked and MD5 sums checked
In R CMD INSTALL