| Back to Multiple platform build/check report for BioC 3.8 |
|
This page was generated on 2019-04-16 12:09:49 -0400 (Tue, 16 Apr 2019).
| Package 1054/1649 | Hostname | OS / Arch | INSTALL | BUILD | CHECK | BUILD BIN | ||||||
| netSmooth 1.2.0 Jonathan Ronen
| malbec1 | Linux (Ubuntu 16.04.6 LTS) / x86_64 | OK | OK | OK | |||||||
| merida1 | OS X 10.11.6 El Capitan / x86_64 | ERROR | [ ERROR ] | skipped | skipped |
| Package: netSmooth |
| Version: 1.2.0 |
| Command: /Library/Frameworks/R.framework/Versions/Current/Resources/bin/R CMD build --keep-empty-dirs --no-resave-data netSmooth |
| StartedAt: 2019-04-15 21:44:52 -0400 (Mon, 15 Apr 2019) |
| EndedAt: 2019-04-15 21:44:59 -0400 (Mon, 15 Apr 2019) |
| EllapsedTime: 6.5 seconds |
| RetCode: 1 |
| Status: ERROR |
| PackageFile: None |
| PackageFileSize: NA |
##############################################################################
##############################################################################
###
### Running command:
###
### /Library/Frameworks/R.framework/Versions/Current/Resources/bin/R CMD build --keep-empty-dirs --no-resave-data netSmooth
###
##############################################################################
##############################################################################
* checking for file ‘netSmooth/DESCRIPTION’ ... OK
* preparing ‘netSmooth’:
* checking DESCRIPTION meta-information ... OK
* installing the package to build vignettes
-----------------------------------
ERROR: dependency ‘clusterExperiment’ is not available for package ‘netSmooth’
* removing ‘/private/tmp/RtmpuXhw7U/Rinst29ec26037d85/netSmooth’
-----------------------------------
ERROR: package installation failed