| Back to Multiple platform build/check report for BioC 3.8 |
|
This page was generated on 2019-04-13 11:27:52 -0400 (Sat, 13 Apr 2019).
| Package 1005/1649 | Hostname | OS / Arch | INSTALL | BUILD | CHECK | BUILD BIN | ||||||
| msgbsR 1.6.1 Benjamin Mayne
| malbec1 | Linux (Ubuntu 16.04.6 LTS) / x86_64 | OK | OK | WARNINGS | |||||||
| tokay1 | Windows Server 2012 R2 Standard / x64 | [ OK ] | OK | WARNINGS | OK | |||||||
| merida1 | OS X 10.11.6 El Capitan / x86_64 | OK | OK | WARNINGS | OK |
| Package: msgbsR |
| Version: 1.6.1 |
| Command: C:\cygwin\bin\curl.exe -O https://malbec1.bioconductor.org/BBS/3.8/bioc/src/contrib/msgbsR_1.6.1.tar.gz && rm -rf msgbsR.buildbin-libdir && mkdir msgbsR.buildbin-libdir && C:\Users\biocbuild\bbs-3.8-bioc\R\bin\R.exe CMD INSTALL --merge-multiarch --build --library=msgbsR.buildbin-libdir msgbsR_1.6.1.tar.gz && C:\Users\biocbuild\bbs-3.8-bioc\R\bin\R.exe CMD INSTALL msgbsR_1.6.1.zip && rm msgbsR_1.6.1.tar.gz msgbsR_1.6.1.zip |
| StartedAt: 2019-04-12 20:16:20 -0400 (Fri, 12 Apr 2019) |
| EndedAt: 2019-04-12 20:17:58 -0400 (Fri, 12 Apr 2019) |
| EllapsedTime: 98.3 seconds |
| RetCode: 0 |
| Status: OK |
##############################################################################
##############################################################################
###
### Running command:
###
### C:\cygwin\bin\curl.exe -O https://malbec1.bioconductor.org/BBS/3.8/bioc/src/contrib/msgbsR_1.6.1.tar.gz && rm -rf msgbsR.buildbin-libdir && mkdir msgbsR.buildbin-libdir && C:\Users\biocbuild\bbs-3.8-bioc\R\bin\R.exe CMD INSTALL --merge-multiarch --build --library=msgbsR.buildbin-libdir msgbsR_1.6.1.tar.gz && C:\Users\biocbuild\bbs-3.8-bioc\R\bin\R.exe CMD INSTALL msgbsR_1.6.1.zip && rm msgbsR_1.6.1.tar.gz msgbsR_1.6.1.zip
###
##############################################################################
##############################################################################
% Total % Received % Xferd Average Speed Time Time Time Current
Dload Upload Total Spent Left Speed
0 0 0 0 0 0 0 0 --:--:-- --:--:-- --:--:-- 0
100 15.3M 100 15.3M 0 0 61.3M 0 --:--:-- --:--:-- --:--:-- 62.3M
install for i386
* installing *source* package 'msgbsR' ...
** R
** data
** inst
** byte-compile and prepare package for lazy loading
No methods found in package 'IRanges' for request: 'rev' when loading 'easyRNASeq'
** help
*** installing help indices
converting help for package 'msgbsR'
finding HTML links ... done
checkCuts html
cuts html
diffMeth html
msgbsR html
plotCircos html
plotCounts html
ratdata html
ratdata2 html
rawCounts html
** building package indices
** installing vignettes
** testing if installed package can be loaded
No methods found in package 'IRanges' for request: 'rev' when loading 'easyRNASeq'
In R CMD INSTALL
install for x64
* installing *source* package 'msgbsR' ...
** testing if installed package can be loaded
No methods found in package 'IRanges' for request: 'rev' when loading 'easyRNASeq'
* MD5 sums
packaged installation of 'msgbsR' as msgbsR_1.6.1.zip
* DONE (msgbsR)
In R CMD INSTALL
In R CMD INSTALL
* installing to library 'C:/Users/biocbuild/bbs-3.8-bioc/R/library'
package 'msgbsR' successfully unpacked and MD5 sums checked
In R CMD INSTALL