| Back to Multiple platform build/check report for BioC 3.8 |
|
This page was generated on 2019-04-13 11:28:34 -0400 (Sat, 13 Apr 2019).
| Package 1001/1649 | Hostname | OS / Arch | INSTALL | BUILD | CHECK | BUILD BIN | ||||||
| mpra 1.4.1 Leslie Myint
| malbec1 | Linux (Ubuntu 16.04.6 LTS) / x86_64 | OK | OK | OK | |||||||
| tokay1 | Windows Server 2012 R2 Standard / x64 | OK | OK | [ OK ] | OK | |||||||
| merida1 | OS X 10.11.6 El Capitan / x86_64 | OK | OK | OK | OK |
| Package: mpra |
| Version: 1.4.1 |
| Command: C:\Users\biocbuild\bbs-3.8-bioc\R\bin\R.exe CMD check --force-multiarch --install=check:mpra.install-out.txt --library=C:\Users\biocbuild\bbs-3.8-bioc\R\library --no-vignettes --timings mpra_1.4.1.tar.gz |
| StartedAt: 2019-04-13 04:00:03 -0400 (Sat, 13 Apr 2019) |
| EndedAt: 2019-04-13 04:04:27 -0400 (Sat, 13 Apr 2019) |
| EllapsedTime: 264.4 seconds |
| RetCode: 0 |
| Status: OK |
| CheckDir: mpra.Rcheck |
| Warnings: 0 |
############################################################################## ############################################################################## ### ### Running command: ### ### C:\Users\biocbuild\bbs-3.8-bioc\R\bin\R.exe CMD check --force-multiarch --install=check:mpra.install-out.txt --library=C:\Users\biocbuild\bbs-3.8-bioc\R\library --no-vignettes --timings mpra_1.4.1.tar.gz ### ############################################################################## ############################################################################## * using log directory 'C:/Users/biocbuild/bbs-3.8-bioc/meat/mpra.Rcheck' * using R version 3.5.3 (2019-03-11) * using platform: x86_64-w64-mingw32 (64-bit) * using session charset: ISO8859-1 * using option '--no-vignettes' * checking for file 'mpra/DESCRIPTION' ... OK * this is package 'mpra' version '1.4.1' * checking package namespace information ... OK * checking package dependencies ...Warning: unable to access index for repository https://CRAN.R-project.org/src/contrib: cannot open URL 'https://CRAN.R-project.org/src/contrib/PACKAGES' OK * checking if this is a source package ... OK * checking if there is a namespace ... OK * checking for hidden files and directories ... OK * checking for portable file names ... OK * checking whether package 'mpra' can be installed ... OK * checking installed package size ... OK * checking package directory ... OK * checking 'build' directory ... OK * checking DESCRIPTION meta-information ... OK * checking top-level files ... OK * checking for left-over files ... OK * checking index information ... OK * checking package subdirectories ... OK * checking R files for non-ASCII characters ... OK * checking R files for syntax errors ... OK * loading checks for arch 'i386' ** checking whether the package can be loaded ... OK ** checking whether the package can be loaded with stated dependencies ... OK ** checking whether the package can be unloaded cleanly ... OK ** checking whether the namespace can be loaded with stated dependencies ... OK ** checking whether the namespace can be unloaded cleanly ... OK * loading checks for arch 'x64' ** checking whether the package can be loaded ... OK ** checking whether the package can be loaded with stated dependencies ... OK ** checking whether the package can be unloaded cleanly ... OK ** checking whether the namespace can be loaded with stated dependencies ... OK ** checking whether the namespace can be unloaded cleanly ... OK * checking dependencies in R code ... OK * checking S3 generic/method consistency ... OK * checking replacement functions ... OK * checking foreign function calls ... OK * checking R code for possible problems ... OK * checking Rd files ... OK * checking Rd metadata ... OK * checking Rd cross-references ... OK * checking for missing documentation entries ... OK * checking for code/documentation mismatches ... OK * checking Rd \usage sections ... OK * checking Rd contents ... OK * checking for unstated dependencies in examples ... OK * checking contents of 'data' directory ... OK * checking data for non-ASCII characters ... OK * checking data for ASCII and uncompressed saves ... OK * checking files in 'vignettes' ... OK * checking examples ... ** running examples for arch 'i386' ... OK ** running examples for arch 'x64' ... OK * checking for unstated dependencies in 'tests' ... OK * checking tests ... ** running tests for arch 'i386' ... Running 'runTests.R' OK ** running tests for arch 'x64' ... Running 'runTests.R' OK * checking for unstated dependencies in vignettes ... OK * checking package vignettes in 'inst/doc' ... OK * checking running R code from vignettes ... SKIPPED * checking re-building of vignette outputs ... SKIPPED * checking PDF version of manual ... OK * DONE Status: OK
mpra.Rcheck/00install.out
##############################################################################
##############################################################################
###
### Running command:
###
### C:\cygwin\bin\curl.exe -O https://malbec1.bioconductor.org/BBS/3.8/bioc/src/contrib/mpra_1.4.1.tar.gz && rm -rf mpra.buildbin-libdir && mkdir mpra.buildbin-libdir && C:\Users\biocbuild\bbs-3.8-bioc\R\bin\R.exe CMD INSTALL --merge-multiarch --build --library=mpra.buildbin-libdir mpra_1.4.1.tar.gz && C:\Users\biocbuild\bbs-3.8-bioc\R\bin\R.exe CMD INSTALL mpra_1.4.1.zip && rm mpra_1.4.1.tar.gz mpra_1.4.1.zip
###
##############################################################################
##############################################################################
% Total % Received % Xferd Average Speed Time Time Time Current
Dload Upload Total Spent Left Speed
0 0 0 0 0 0 0 0 --:--:-- --:--:-- --:--:-- 0
100 2585k 100 2585k 0 0 27.1M 0 --:--:-- --:--:-- --:--:-- 28.3M
install for i386
* installing *source* package 'mpra' ...
** R
** data
** inst
** byte-compile and prepare package for lazy loading
** help
*** installing help indices
converting help for package 'mpra'
finding HTML links ... done
MPRASet-class html
finding level-2 HTML links ... done
compute_logratio html
get_precision_weights html
mpra-package html
mpraSetExample html
mpralm html
normalize_counts html
** building package indices
** installing vignettes
** testing if installed package can be loaded
In R CMD INSTALL
install for x64
* installing *source* package 'mpra' ...
** testing if installed package can be loaded
* MD5 sums
packaged installation of 'mpra' as mpra_1.4.1.zip
* DONE (mpra)
In R CMD INSTALL
In R CMD INSTALL
* installing to library 'C:/Users/biocbuild/bbs-3.8-bioc/R/library'
package 'mpra' successfully unpacked and MD5 sums checked
In R CMD INSTALL
|
mpra.Rcheck/tests_i386/runTests.Rout
R version 3.5.3 (2019-03-11) -- "Great Truth"
Copyright (C) 2019 The R Foundation for Statistical Computing
Platform: i386-w64-mingw32/i386 (32-bit)
R is free software and comes with ABSOLUTELY NO WARRANTY.
You are welcome to redistribute it under certain conditions.
Type 'license()' or 'licence()' for distribution details.
R is a collaborative project with many contributors.
Type 'contributors()' for more information and
'citation()' on how to cite R or R packages in publications.
Type 'demo()' for some demos, 'help()' for on-line help, or
'help.start()' for an HTML browser interface to help.
Type 'q()' to quit R.
> require("mpra") || stop("unable to load mpra")
Loading required package: mpra
Loading required package: BiocGenerics
Loading required package: parallel
Attaching package: 'BiocGenerics'
The following objects are masked from 'package:parallel':
clusterApply, clusterApplyLB, clusterCall, clusterEvalQ,
clusterExport, clusterMap, parApply, parCapply, parLapply,
parLapplyLB, parRapply, parSapply, parSapplyLB
The following objects are masked from 'package:stats':
IQR, mad, sd, var, xtabs
The following objects are masked from 'package:base':
Filter, Find, Map, Position, Reduce, anyDuplicated, append,
as.data.frame, basename, cbind, colMeans, colSums, colnames,
dirname, do.call, duplicated, eval, evalq, get, grep, grepl,
intersect, is.unsorted, lapply, lengths, mapply, match, mget,
order, paste, pmax, pmax.int, pmin, pmin.int, rank, rbind,
rowMeans, rowSums, rownames, sapply, setdiff, sort, table, tapply,
union, unique, unsplit, which, which.max, which.min
Loading required package: SummarizedExperiment
Loading required package: GenomicRanges
Loading required package: stats4
Loading required package: S4Vectors
Attaching package: 'S4Vectors'
The following object is masked from 'package:base':
expand.grid
Loading required package: IRanges
Attaching package: 'IRanges'
The following object is masked from 'package:grDevices':
windows
Loading required package: GenomeInfoDb
Loading required package: Biobase
Welcome to Bioconductor
Vignettes contain introductory material; view with
'browseVignettes()'. To cite Bioconductor, see
'citation("Biobase")', and for packages 'citation("pkgname")'.
Loading required package: DelayedArray
Loading required package: matrixStats
Attaching package: 'matrixStats'
The following objects are masked from 'package:Biobase':
anyMissing, rowMedians
Loading required package: BiocParallel
Attaching package: 'DelayedArray'
The following objects are masked from 'package:matrixStats':
colMaxs, colMins, colRanges, rowMaxs, rowMins, rowRanges
The following objects are masked from 'package:base':
aperm, apply
Loading required package: limma
Attaching package: 'limma'
The following object is masked from 'package:BiocGenerics':
plotMA
[1] TRUE
> BiocGenerics:::testPackage("mpra")
RUNIT TEST PROTOCOL -- Sat Apr 13 04:04:10 2019
***********************************************
Number of test functions: 2
Number of errors: 0
Number of failures: 0
1 Test Suite :
mpra RUnit Tests - 2 test functions, 0 errors, 0 failures
Number of test functions: 2
Number of errors: 0
Number of failures: 0
>
> proc.time()
user system elapsed
9.35 0.51 9.85
|
mpra.Rcheck/tests_x64/runTests.Rout
R version 3.5.3 (2019-03-11) -- "Great Truth"
Copyright (C) 2019 The R Foundation for Statistical Computing
Platform: x86_64-w64-mingw32/x64 (64-bit)
R is free software and comes with ABSOLUTELY NO WARRANTY.
You are welcome to redistribute it under certain conditions.
Type 'license()' or 'licence()' for distribution details.
R is a collaborative project with many contributors.
Type 'contributors()' for more information and
'citation()' on how to cite R or R packages in publications.
Type 'demo()' for some demos, 'help()' for on-line help, or
'help.start()' for an HTML browser interface to help.
Type 'q()' to quit R.
> require("mpra") || stop("unable to load mpra")
Loading required package: mpra
Loading required package: BiocGenerics
Loading required package: parallel
Attaching package: 'BiocGenerics'
The following objects are masked from 'package:parallel':
clusterApply, clusterApplyLB, clusterCall, clusterEvalQ,
clusterExport, clusterMap, parApply, parCapply, parLapply,
parLapplyLB, parRapply, parSapply, parSapplyLB
The following objects are masked from 'package:stats':
IQR, mad, sd, var, xtabs
The following objects are masked from 'package:base':
Filter, Find, Map, Position, Reduce, anyDuplicated, append,
as.data.frame, basename, cbind, colMeans, colSums, colnames,
dirname, do.call, duplicated, eval, evalq, get, grep, grepl,
intersect, is.unsorted, lapply, lengths, mapply, match, mget,
order, paste, pmax, pmax.int, pmin, pmin.int, rank, rbind,
rowMeans, rowSums, rownames, sapply, setdiff, sort, table, tapply,
union, unique, unsplit, which, which.max, which.min
Loading required package: SummarizedExperiment
Loading required package: GenomicRanges
Loading required package: stats4
Loading required package: S4Vectors
Attaching package: 'S4Vectors'
The following object is masked from 'package:base':
expand.grid
Loading required package: IRanges
Attaching package: 'IRanges'
The following object is masked from 'package:grDevices':
windows
Loading required package: GenomeInfoDb
Loading required package: Biobase
Welcome to Bioconductor
Vignettes contain introductory material; view with
'browseVignettes()'. To cite Bioconductor, see
'citation("Biobase")', and for packages 'citation("pkgname")'.
Loading required package: DelayedArray
Loading required package: matrixStats
Attaching package: 'matrixStats'
The following objects are masked from 'package:Biobase':
anyMissing, rowMedians
Loading required package: BiocParallel
Attaching package: 'DelayedArray'
The following objects are masked from 'package:matrixStats':
colMaxs, colMins, colRanges, rowMaxs, rowMins, rowRanges
The following objects are masked from 'package:base':
aperm, apply
Loading required package: limma
Attaching package: 'limma'
The following object is masked from 'package:BiocGenerics':
plotMA
[1] TRUE
> BiocGenerics:::testPackage("mpra")
RUNIT TEST PROTOCOL -- Sat Apr 13 04:04:23 2019
***********************************************
Number of test functions: 2
Number of errors: 0
Number of failures: 0
1 Test Suite :
mpra RUnit Tests - 2 test functions, 0 errors, 0 failures
Number of test functions: 2
Number of errors: 0
Number of failures: 0
>
> proc.time()
user system elapsed
11.68 0.42 12.10
|
|
mpra.Rcheck/examples_i386/mpra-Ex.timings
|
mpra.Rcheck/examples_x64/mpra-Ex.timings
|