| Back to Multiple platform build/check report for BioC 3.8 |
|
This page was generated on 2019-04-16 11:51:34 -0400 (Tue, 16 Apr 2019).
| Package 993/1649 | Hostname | OS / Arch | INSTALL | BUILD | CHECK | BUILD BIN | ||||||
| motifbreakR 1.12.0 Simon Gert Coetzee
| malbec1 | Linux (Ubuntu 16.04.6 LTS) / x86_64 | OK | OK | [ OK ] | |||||||
| merida1 | OS X 10.11.6 El Capitan / x86_64 | OK | OK | OK | OK |
| Package: motifbreakR |
| Version: 1.12.0 |
| Command: /home/biocbuild/bbs-3.8-bioc/R/bin/R CMD check --install=check:motifbreakR.install-out.txt --library=/home/biocbuild/bbs-3.8-bioc/R/library --no-vignettes --timings motifbreakR_1.12.0.tar.gz |
| StartedAt: 2019-04-16 01:34:04 -0400 (Tue, 16 Apr 2019) |
| EndedAt: 2019-04-16 01:41:37 -0400 (Tue, 16 Apr 2019) |
| EllapsedTime: 453.5 seconds |
| RetCode: 0 |
| Status: OK |
| CheckDir: motifbreakR.Rcheck |
| Warnings: 0 |
##############################################################################
##############################################################################
###
### Running command:
###
### /home/biocbuild/bbs-3.8-bioc/R/bin/R CMD check --install=check:motifbreakR.install-out.txt --library=/home/biocbuild/bbs-3.8-bioc/R/library --no-vignettes --timings motifbreakR_1.12.0.tar.gz
###
##############################################################################
##############################################################################
* using log directory ‘/home/biocbuild/bbs-3.8-bioc/meat/motifbreakR.Rcheck’
* using R version 3.5.3 (2019-03-11)
* using platform: x86_64-pc-linux-gnu (64-bit)
* using session charset: UTF-8
* using option ‘--no-vignettes’
* checking for file ‘motifbreakR/DESCRIPTION’ ... OK
* this is package ‘motifbreakR’ version ‘1.12.0’
* checking package namespace information ... OK
* checking package dependencies ... OK
* checking if this is a source package ... OK
* checking if there is a namespace ... OK
* checking for hidden files and directories ... OK
* checking for portable file names ... OK
* checking for sufficient/correct file permissions ... OK
* checking whether package ‘motifbreakR’ can be installed ... OK
* checking installed package size ... OK
* checking package directory ... OK
* checking ‘build’ directory ... OK
* checking DESCRIPTION meta-information ... OK
* checking top-level files ... OK
* checking for left-over files ... OK
* checking index information ... OK
* checking package subdirectories ... OK
* checking R files for non-ASCII characters ... OK
* checking R files for syntax errors ... OK
* checking whether the package can be loaded ... OK
* checking whether the package can be loaded with stated dependencies ... OK
* checking whether the package can be unloaded cleanly ... OK
* checking whether the namespace can be loaded with stated dependencies ... OK
* checking whether the namespace can be unloaded cleanly ... OK
* checking dependencies in R code ... NOTE
Packages in Depends field not imported from:
'MotifDb' 'grid'
These packages need to be imported from (in the NAMESPACE file)
for when this namespace is loaded but not attached.
* checking S3 generic/method consistency ... OK
* checking replacement functions ... OK
* checking foreign function calls ... OK
* checking R code for possible problems ... NOTE
plotMotifLogoStack.2: no visible global function definition for 'par'
snps.from.file: no visible global function definition for 'info'
snps.from.file: no visible global function definition for 'rowRanges'
snps.from.rsid: no visible global function definition for 'snpsById'
Undefined global functions or variables:
info par rowRanges snpsById
Consider adding
importFrom("graphics", "par")
to your NAMESPACE file.
* checking Rd files ... OK
* checking Rd metadata ... OK
* checking Rd cross-references ... OK
* checking for missing documentation entries ... OK
* checking for code/documentation mismatches ... OK
* checking Rd \usage sections ... OK
* checking Rd contents ... OK
* checking for unstated dependencies in examples ... OK
* checking contents of ‘data’ directory ... OK
* checking data for non-ASCII characters ... OK
* checking data for ASCII and uncompressed saves ... OK
* checking files in ‘vignettes’ ... OK
* checking examples ... OK
Examples with CPU or elapsed time > 5s
user system elapsed
snps.from.rsid 64.268 1.392 66.170
motifbreakR 8.652 0.172 8.921
* checking for unstated dependencies in vignettes ... OK
* checking package vignettes in ‘inst/doc’ ... OK
* checking running R code from vignettes ... SKIPPED
* checking re-building of vignette outputs ... SKIPPED
* checking PDF version of manual ... OK
* DONE
Status: 2 NOTEs
See
‘/home/biocbuild/bbs-3.8-bioc/meat/motifbreakR.Rcheck/00check.log’
for details.
motifbreakR.Rcheck/00install.out
##############################################################################
##############################################################################
###
### Running command:
###
### /home/biocbuild/bbs-3.8-bioc/R/bin/R CMD INSTALL motifbreakR
###
##############################################################################
##############################################################################
* installing to library ‘/home/biocbuild/bbs-3.8-bioc/R/library’
* installing *source* package ‘motifbreakR’ ...
** R
** data
*** moving datasets to lazyload DB
** inst
** byte-compile and prepare package for lazy loading
See system.file("LICENSE", package="MotifDb") for use restrictions.
** help
*** installing help indices
** building package indices
** installing vignettes
** testing if installed package can be loaded
See system.file("LICENSE", package="MotifDb") for use restrictions.
* DONE (motifbreakR)
motifbreakR.Rcheck/motifbreakR-Ex.timings
| name | user | system | elapsed | |
| calculatePvalue | 0.296 | 0.004 | 0.296 | |
| encodemotif | 0.044 | 0.000 | 0.047 | |
| example.results | 0.160 | 0.000 | 0.161 | |
| factorbook | 0.008 | 0.004 | 0.010 | |
| hocomoco | 0.016 | 0.000 | 0.016 | |
| homer | 0.012 | 0.000 | 0.014 | |
| motifbreakR | 8.652 | 0.172 | 8.921 | |
| motifbreakR_motif | 0.040 | 0.004 | 0.048 | |
| plotMB | 0.072 | 0.004 | 0.077 | |
| snps.from.file | 0.756 | 0.008 | 1.012 | |
| snps.from.rsid | 64.268 | 1.392 | 66.170 | |