CHECK report for mlm4omics on malbec1
This page was generated on 2018-10-07 10:44:50 -0400 (Sun, 07 Oct 2018).
mlm4omics 0.99.22 Irene SL Zeng
 
| Snapshot Date: 2018-10-06 16:45:14 -0400 (Sat, 06 Oct 2018) |  
| URL: https://git.bioconductor.org/packages/mlm4omics |  
| Branch: master |  
| Last Commit: f9fd11f |  
| Last Changed Date: 2018-09-06 11:52:08 -0400 (Thu, 06 Sep 2018) |  
 
 | malbec1  | Linux (Ubuntu 16.04.1 LTS) / x86_64  |  OK  |  OK  | [ OK ] |  |   | 
| tokay1  | Windows Server 2012 R2 Standard / x64  |  OK  |  OK  |  OK  |  OK  |   | 
| merida1  | OS X 10.11.6 El Capitan / x86_64  |  OK  |  OK  |  OK  |  OK  |   | 
Summary
Command output
Installation output
mlm4omics.Rcheck/00install.out
##############################################################################
##############################################################################
###
### Running command:
###
###   /home/biocbuild/bbs-3.8-bioc/R/bin/R CMD INSTALL mlm4omics
###
##############################################################################
##############################################################################
* installing to library ‘/home/biocbuild/bbs-3.8-bioc/R/library’
* installing *source* package ‘mlm4omics’ ...
** libs
"/home/biocbuild/bbs-3.8-bioc/R/bin/Rscript" -e "source(file.path('..', 'tools', 'make_cc.R')); make_cc(commandArgs(TRUE))" stan_files/mmlm_code.stan
Wrote C++ file "stan_files/mmlm_code.cc"
g++  -I"/home/biocbuild/bbs-3.8-bioc/R/include" -DNDEBUG -I"../inst/include" -I"`"/home/biocbuild/bbs-3.8-bioc/R/bin/Rscript" --vanilla -e "cat(system.file('include', 'src', package = 'StanHeaders'))"`" -DBOOST_RESULT_OF_USE_TR1 -DBOOST_NO_DECLTYPE -DBOOST_DISABLE_ASSERTS -DEIGEN_NO_DEBUG -DBOOST_MATH_OVERFLOW_ERROR_POLICY=errno_on_error -I"/home/biocbuild/bbs-3.8-bioc/R/library/StanHeaders/include" -I"/home/biocbuild/bbs-3.8-bioc/R/library/rstan/include" -I"/home/biocbuild/bbs-3.8-bioc/R/library/BH/include" -I"/home/biocbuild/bbs-3.8-bioc/R/library/Rcpp/include" -I"/home/biocbuild/bbs-3.8-bioc/R/library/RcppEigen/include" -I/usr/local/include   -fpic  -g -O2  -Wall -c stan_files/mmlm_code.cc -o stan_files/mmlm_code.o
In file included from /home/biocbuild/bbs-3.8-bioc/R/library/StanHeaders/include/stan/math/rev/core/operator_unary_plus.hpp:7:0,
                 from /home/biocbuild/bbs-3.8-bioc/R/library/StanHeaders/include/stan/math/rev/core.hpp:36,
                 from /home/biocbuild/bbs-3.8-bioc/R/library/StanHeaders/include/stan/math/rev/mat.hpp:4,
                 from /home/biocbuild/bbs-3.8-bioc/R/library/StanHeaders/include/src/stan/model/log_prob_grad.hpp:4,
                 from /home/biocbuild/bbs-3.8-bioc/R/library/StanHeaders/include/src/stan/model/test_gradients.hpp:7,
                 from /home/biocbuild/bbs-3.8-bioc/R/library/StanHeaders/include/src/stan/services/diagnose/diagnose.hpp:10,
                 from /home/biocbuild/bbs-3.8-bioc/R/library/rstan/include/rstan/stan_fit.hpp:35,
                 from /home/biocbuild/bbs-3.8-bioc/R/library/rstan/include/rstan/rstaninc.hpp:3,
                 from stan_files/mmlm_code.hpp:18,
                 from stan_files/mmlm_code.cc:3:
/home/biocbuild/bbs-3.8-bioc/R/library/StanHeaders/include/stan/math/prim/scal/fun/constants.hpp:65:18: warning: ‘stan::math::NEGATIVE_EPSILON’ defined but not used [-Wunused-variable]
     const double NEGATIVE_EPSILON
                  ^
In file included from /home/biocbuild/bbs-3.8-bioc/R/library/StanHeaders/include/stan/math/rev/core.hpp:44:0,
                 from /home/biocbuild/bbs-3.8-bioc/R/library/StanHeaders/include/stan/math/rev/mat.hpp:4,
                 from /home/biocbuild/bbs-3.8-bioc/R/library/StanHeaders/include/src/stan/model/log_prob_grad.hpp:4,
                 from /home/biocbuild/bbs-3.8-bioc/R/library/StanHeaders/include/src/stan/model/test_gradients.hpp:7,
                 from /home/biocbuild/bbs-3.8-bioc/R/library/StanHeaders/include/src/stan/services/diagnose/diagnose.hpp:10,
                 from /home/biocbuild/bbs-3.8-bioc/R/library/rstan/include/rstan/stan_fit.hpp:35,
                 from /home/biocbuild/bbs-3.8-bioc/R/library/rstan/include/rstan/rstaninc.hpp:3,
                 from stan_files/mmlm_code.hpp:18,
                 from stan_files/mmlm_code.cc:3:
/home/biocbuild/bbs-3.8-bioc/R/library/StanHeaders/include/stan/math/rev/core/set_zero_all_adjoints.hpp:14:17: warning: ‘void stan::math::set_zero_all_adjoints()’ defined but not used [-Wunused-function]
     static void set_zero_all_adjoints() {
                 ^
"/home/biocbuild/bbs-3.8-bioc/R/bin/Rscript" -e "source(file.path('..', 'tools', 'make_cc.R')); make_cc(commandArgs(TRUE))" stan_files/mlmc_code.stan
Wrote C++ file "stan_files/mlmc_code.cc"
g++  -I"/home/biocbuild/bbs-3.8-bioc/R/include" -DNDEBUG -I"../inst/include" -I"`"/home/biocbuild/bbs-3.8-bioc/R/bin/Rscript" --vanilla -e "cat(system.file('include', 'src', package = 'StanHeaders'))"`" -DBOOST_RESULT_OF_USE_TR1 -DBOOST_NO_DECLTYPE -DBOOST_DISABLE_ASSERTS -DEIGEN_NO_DEBUG -DBOOST_MATH_OVERFLOW_ERROR_POLICY=errno_on_error -I"/home/biocbuild/bbs-3.8-bioc/R/library/StanHeaders/include" -I"/home/biocbuild/bbs-3.8-bioc/R/library/rstan/include" -I"/home/biocbuild/bbs-3.8-bioc/R/library/BH/include" -I"/home/biocbuild/bbs-3.8-bioc/R/library/Rcpp/include" -I"/home/biocbuild/bbs-3.8-bioc/R/library/RcppEigen/include" -I/usr/local/include   -fpic  -g -O2  -Wall -c stan_files/mlmc_code.cc -o stan_files/mlmc_code.o
In file included from /home/biocbuild/bbs-3.8-bioc/R/library/StanHeaders/include/stan/math/rev/core/operator_unary_plus.hpp:7:0,
                 from /home/biocbuild/bbs-3.8-bioc/R/library/StanHeaders/include/stan/math/rev/core.hpp:36,
                 from /home/biocbuild/bbs-3.8-bioc/R/library/StanHeaders/include/stan/math/rev/mat.hpp:4,
                 from /home/biocbuild/bbs-3.8-bioc/R/library/StanHeaders/include/src/stan/model/log_prob_grad.hpp:4,
                 from /home/biocbuild/bbs-3.8-bioc/R/library/StanHeaders/include/src/stan/model/test_gradients.hpp:7,
                 from /home/biocbuild/bbs-3.8-bioc/R/library/StanHeaders/include/src/stan/services/diagnose/diagnose.hpp:10,
                 from /home/biocbuild/bbs-3.8-bioc/R/library/rstan/include/rstan/stan_fit.hpp:35,
                 from /home/biocbuild/bbs-3.8-bioc/R/library/rstan/include/rstan/rstaninc.hpp:3,
                 from stan_files/mlmc_code.hpp:18,
                 from stan_files/mlmc_code.cc:3:
/home/biocbuild/bbs-3.8-bioc/R/library/StanHeaders/include/stan/math/prim/scal/fun/constants.hpp:65:18: warning: ‘stan::math::NEGATIVE_EPSILON’ defined but not used [-Wunused-variable]
     const double NEGATIVE_EPSILON
                  ^
In file included from /home/biocbuild/bbs-3.8-bioc/R/library/StanHeaders/include/stan/math/rev/core.hpp:44:0,
                 from /home/biocbuild/bbs-3.8-bioc/R/library/StanHeaders/include/stan/math/rev/mat.hpp:4,
                 from /home/biocbuild/bbs-3.8-bioc/R/library/StanHeaders/include/src/stan/model/log_prob_grad.hpp:4,
                 from /home/biocbuild/bbs-3.8-bioc/R/library/StanHeaders/include/src/stan/model/test_gradients.hpp:7,
                 from /home/biocbuild/bbs-3.8-bioc/R/library/StanHeaders/include/src/stan/services/diagnose/diagnose.hpp:10,
                 from /home/biocbuild/bbs-3.8-bioc/R/library/rstan/include/rstan/stan_fit.hpp:35,
                 from /home/biocbuild/bbs-3.8-bioc/R/library/rstan/include/rstan/rstaninc.hpp:3,
                 from stan_files/mlmc_code.hpp:18,
                 from stan_files/mlmc_code.cc:3:
/home/biocbuild/bbs-3.8-bioc/R/library/StanHeaders/include/stan/math/rev/core/set_zero_all_adjoints.hpp:14:17: warning: ‘void stan::math::set_zero_all_adjoints()’ defined but not used [-Wunused-function]
     static void set_zero_all_adjoints() {
                 ^
g++  -I"/home/biocbuild/bbs-3.8-bioc/R/include" -DNDEBUG -I"../inst/include" -I"`"/home/biocbuild/bbs-3.8-bioc/R/bin/Rscript" --vanilla -e "cat(system.file('include', 'src', package = 'StanHeaders'))"`" -DBOOST_RESULT_OF_USE_TR1 -DBOOST_NO_DECLTYPE -DBOOST_DISABLE_ASSERTS -DEIGEN_NO_DEBUG -DBOOST_MATH_OVERFLOW_ERROR_POLICY=errno_on_error -I"/home/biocbuild/bbs-3.8-bioc/R/library/StanHeaders/include" -I"/home/biocbuild/bbs-3.8-bioc/R/library/rstan/include" -I"/home/biocbuild/bbs-3.8-bioc/R/library/BH/include" -I"/home/biocbuild/bbs-3.8-bioc/R/library/Rcpp/include" -I"/home/biocbuild/bbs-3.8-bioc/R/library/RcppEigen/include" -I/usr/local/include   -fpic  -g -O2  -Wall -c init.cpp -o init.o
g++ -shared -L/home/biocbuild/bbs-3.8-bioc/R/lib -L/usr/local/lib -o mlm4omics.so stan_files/mmlm_code.o stan_files/mlmc_code.o init.o -L/home/biocbuild/bbs-3.8-bioc/R/lib -lR
rm stan_files/mlmc_code.cc stan_files/mmlm_code.cc
installing to /home/biocbuild/bbs-3.8-bioc/R/library/mlm4omics/libs
** R
** data
*** moving datasets to lazyload DB
** inst
** byte-compile and prepare package for lazy loading
** help
*** installing help indices
** building package indices
** installing vignettes
** testing if installed package can be loaded
* DONE (mlm4omics)
 
Tests output
mlm4omics.Rcheck/tests/testthat.Rout
Example timings
mlm4omics.Rcheck/mlm4omics-Ex.timings