| Back to Multiple platform build/check report for BioC 3.8 |
|
This page was generated on 2019-04-13 11:25:35 -0400 (Sat, 13 Apr 2019).
| Package 968/1649 | Hostname | OS / Arch | INSTALL | BUILD | CHECK | BUILD BIN | ||||||
| mirIntegrator 1.12.0 Diana Diaz
| malbec1 | Linux (Ubuntu 16.04.6 LTS) / x86_64 | OK | OK | OK | |||||||
| tokay1 | Windows Server 2012 R2 Standard / x64 | [ OK ] | OK | OK | OK | |||||||
| merida1 | OS X 10.11.6 El Capitan / x86_64 | OK | OK | OK | OK |
| Package: mirIntegrator |
| Version: 1.12.0 |
| Command: C:\cygwin\bin\curl.exe -O https://malbec1.bioconductor.org/BBS/3.8/bioc/src/contrib/mirIntegrator_1.12.0.tar.gz && rm -rf mirIntegrator.buildbin-libdir && mkdir mirIntegrator.buildbin-libdir && C:\Users\biocbuild\bbs-3.8-bioc\R\bin\R.exe CMD INSTALL --merge-multiarch --build --library=mirIntegrator.buildbin-libdir mirIntegrator_1.12.0.tar.gz && C:\Users\biocbuild\bbs-3.8-bioc\R\bin\R.exe CMD INSTALL mirIntegrator_1.12.0.zip && rm mirIntegrator_1.12.0.tar.gz mirIntegrator_1.12.0.zip |
| StartedAt: 2019-04-12 19:49:37 -0400 (Fri, 12 Apr 2019) |
| EndedAt: 2019-04-12 19:50:14 -0400 (Fri, 12 Apr 2019) |
| EllapsedTime: 37.4 seconds |
| RetCode: 0 |
| Status: OK |
##############################################################################
##############################################################################
###
### Running command:
###
### C:\cygwin\bin\curl.exe -O https://malbec1.bioconductor.org/BBS/3.8/bioc/src/contrib/mirIntegrator_1.12.0.tar.gz && rm -rf mirIntegrator.buildbin-libdir && mkdir mirIntegrator.buildbin-libdir && C:\Users\biocbuild\bbs-3.8-bioc\R\bin\R.exe CMD INSTALL --merge-multiarch --build --library=mirIntegrator.buildbin-libdir mirIntegrator_1.12.0.tar.gz && C:\Users\biocbuild\bbs-3.8-bioc\R\bin\R.exe CMD INSTALL mirIntegrator_1.12.0.zip && rm mirIntegrator_1.12.0.tar.gz mirIntegrator_1.12.0.zip
###
##############################################################################
##############################################################################
% Total % Received % Xferd Average Speed Time Time Time Current
Dload Upload Total Spent Left Speed
0 0 0 0 0 0 0 0 --:--:-- --:--:-- --:--:-- 0
100 1591k 100 1591k 0 0 22.9M 0 --:--:-- --:--:-- --:--:-- 24.2M
install for i386
* installing *source* package 'mirIntegrator' ...
** R
** data
** inst
** byte-compile and prepare package for lazy loading
** help
*** installing help indices
converting help for package 'mirIntegrator'
finding HTML links ... done
GSE43592_mRNA html
GSE43592_miRNA html
augmented_pathways html
integrate_mir html
kegg_pathways html
mirTarBase html
names_pathways html
pathways2pdf html
plot_augmented_pathway html
plot_change html
smallest_pathway html
** building package indices
** installing vignettes
** testing if installed package can be loaded
In R CMD INSTALL
install for x64
* installing *source* package 'mirIntegrator' ...
** testing if installed package can be loaded
* MD5 sums
packaged installation of 'mirIntegrator' as mirIntegrator_1.12.0.zip
* DONE (mirIntegrator)
In R CMD INSTALL
In R CMD INSTALL
* installing to library 'C:/Users/biocbuild/bbs-3.8-bioc/R/library'
package 'mirIntegrator' successfully unpacked and MD5 sums checked
In R CMD INSTALL