| Back to Multiple platform build/check report for BioC 3.8 |
|
This page was generated on 2019-04-13 11:28:10 -0400 (Sat, 13 Apr 2019).
| Package 975/1649 | Hostname | OS / Arch | INSTALL | BUILD | CHECK | BUILD BIN | ||||||
| miRsponge 1.8.2 Junpeng Zhang
| malbec1 | Linux (Ubuntu 16.04.6 LTS) / x86_64 | OK | OK | OK | |||||||
| tokay1 | Windows Server 2012 R2 Standard / x64 | OK | OK | OK | [ OK ] | |||||||
| merida1 | OS X 10.11.6 El Capitan / x86_64 | OK | OK | OK | OK |
| Package: miRsponge |
| Version: 1.8.2 |
| Command: rm -rf miRsponge.buildbin-libdir && mkdir miRsponge.buildbin-libdir && C:\Users\biocbuild\bbs-3.8-bioc\R\bin\R.exe CMD INSTALL --merge-multiarch --build --library=miRsponge.buildbin-libdir miRsponge_1.8.2.tar.gz |
| StartedAt: 2019-04-13 07:39:42 -0400 (Sat, 13 Apr 2019) |
| EndedAt: 2019-04-13 07:40:06 -0400 (Sat, 13 Apr 2019) |
| EllapsedTime: 23.9 seconds |
| RetCode: 0 |
| Status: OK |
| PackageFile: miRsponge_1.8.2.zip |
| PackageFileSize: 680.8 KiB |
##############################################################################
##############################################################################
###
### Running command:
###
### rm -rf miRsponge.buildbin-libdir && mkdir miRsponge.buildbin-libdir && C:\Users\biocbuild\bbs-3.8-bioc\R\bin\R.exe CMD INSTALL --merge-multiarch --build --library=miRsponge.buildbin-libdir miRsponge_1.8.2.tar.gz
###
##############################################################################
##############################################################################
install for i386
* installing *source* package 'miRsponge' ...
** libs
C:/Rtools/mingw_32/bin/gcc -I"C:/Users/BIOCBU˜1/BBS-3˜1.8-B/R/include" -DNDEBUG -I"C:/extsoft/include" -O3 -Wall -std=gnu99 -mtune=generic -c complex.c -o complex.o
C:/Rtools/mingw_32/bin/gcc -I"C:/Users/BIOCBU˜1/BBS-3˜1.8-B/R/include" -DNDEBUG -I"C:/extsoft/include" -O3 -Wall -std=gnu99 -mtune=generic -c registerDynamicSymbol.c -o registerDynamicSymbol.o
C:/Rtools/mingw_32/bin/gcc -shared -s -static-libgcc -o miRsponge.dll tmp.def complex.o registerDynamicSymbol.o -LC:/extsoft/lib/i386 -LC:/extsoft/lib -LC:/Users/BIOCBU˜1/BBS-3˜1.8-B/R/bin/i386 -lR
installing to C:/Users/biocbuild/bbs-3.8-bioc/meat/miRsponge.buildbin-libdir/miRsponge/libs/i386
** R
** inst
** byte-compile and prepare package for lazy loading
** help
*** installing help indices
converting help for package 'miRsponge'
finding HTML links ... done
integrateMethod html
moduleDEA html
moduleFEA html
moduleSurvival html
netModule html
querymiRTargetbinding html
spongeMethod html
spongeValidate html
** building package indices
** installing vignettes
** testing if installed package can be loaded
In R CMD INSTALL
install for x64
* installing *source* package 'miRsponge' ...
** libs
C:/Rtools/mingw_64/bin/gcc -I"C:/Users/BIOCBU˜1/BBS-3˜1.8-B/R/include" -DNDEBUG -I"C:/extsoft/include" -O2 -Wall -std=gnu99 -mtune=generic -c complex.c -o complex.o
C:/Rtools/mingw_64/bin/gcc -I"C:/Users/BIOCBU˜1/BBS-3˜1.8-B/R/include" -DNDEBUG -I"C:/extsoft/include" -O2 -Wall -std=gnu99 -mtune=generic -c registerDynamicSymbol.c -o registerDynamicSymbol.o
C:/Rtools/mingw_64/bin/gcc -shared -s -static-libgcc -o miRsponge.dll tmp.def complex.o registerDynamicSymbol.o -LC:/extsoft/lib/x64 -LC:/extsoft/lib -LC:/Users/BIOCBU˜1/BBS-3˜1.8-B/R/bin/x64 -lR
installing to C:/Users/biocbuild/bbs-3.8-bioc/meat/miRsponge.buildbin-libdir/miRsponge/libs/x64
** testing if installed package can be loaded
* MD5 sums
packaged installation of 'miRsponge' as miRsponge_1.8.2.zip
* DONE (miRsponge)
In R CMD INSTALL
In R CMD INSTALL