| Back to Multiple platform build/check report for BioC 3.8 |
|
This page was generated on 2019-04-13 11:26:03 -0400 (Sat, 13 Apr 2019).
| Package 967/1649 | Hostname | OS / Arch | INSTALL | BUILD | CHECK | BUILD BIN | ||||||
| miRcomp 1.12.0 Matthew N. McCall
| malbec1 | Linux (Ubuntu 16.04.6 LTS) / x86_64 | OK | OK | WARNINGS | |||||||
| tokay1 | Windows Server 2012 R2 Standard / x64 | OK | OK | WARNINGS | [ OK ] | |||||||
| merida1 | OS X 10.11.6 El Capitan / x86_64 | OK | OK | WARNINGS | OK |
| Package: miRcomp |
| Version: 1.12.0 |
| Command: rm -rf miRcomp.buildbin-libdir && mkdir miRcomp.buildbin-libdir && C:\Users\biocbuild\bbs-3.8-bioc\R\bin\R.exe CMD INSTALL --merge-multiarch --build --library=miRcomp.buildbin-libdir miRcomp_1.12.0.tar.gz |
| StartedAt: 2019-04-13 07:39:27 -0400 (Sat, 13 Apr 2019) |
| EndedAt: 2019-04-13 07:39:40 -0400 (Sat, 13 Apr 2019) |
| EllapsedTime: 12.5 seconds |
| RetCode: 0 |
| Status: OK |
| PackageFile: miRcomp_1.12.0.zip |
| PackageFileSize: 2.576 MiB |
##############################################################################
##############################################################################
###
### Running command:
###
### rm -rf miRcomp.buildbin-libdir && mkdir miRcomp.buildbin-libdir && C:\Users\biocbuild\bbs-3.8-bioc\R\bin\R.exe CMD INSTALL --merge-multiarch --build --library=miRcomp.buildbin-libdir miRcomp_1.12.0.tar.gz
###
##############################################################################
##############################################################################
install for i386
* installing *source* package 'miRcomp' ...
** R
** data
** inst
** byte-compile and prepare package for lazy loading
** help
*** installing help indices
converting help for package 'miRcomp'
finding HTML links ... done
accuracy html
completeFeatures html
expressionComp html
lifetech html
limitOfDetection html
miRcompShinyApp html
precision html
qpcRb4 html
qpcRb5 html
qpcRdefault html
qpcRl5 html
qpcRlinexp html
qualityAssessment html
titrationResponse html
** building package indices
** installing vignettes
** testing if installed package can be loaded
In R CMD INSTALL
install for x64
* installing *source* package 'miRcomp' ...
** testing if installed package can be loaded
* MD5 sums
packaged installation of 'miRcomp' as miRcomp_1.12.0.zip
* DONE (miRcomp)
In R CMD INSTALL
In R CMD INSTALL