| Back to Multiple platform build/check report for BioC 3.8 |
|
This page was generated on 2019-04-13 11:28:24 -0400 (Sat, 13 Apr 2019).
| Package 945/1649 | Hostname | OS / Arch | INSTALL | BUILD | CHECK | BUILD BIN | ||||||
| methyvim 1.4.0 Nima Hejazi
| malbec1 | Linux (Ubuntu 16.04.6 LTS) / x86_64 | OK | OK | OK | |||||||
| tokay1 | Windows Server 2012 R2 Standard / x64 | OK | OK | OK | [ OK ] | |||||||
| merida1 | OS X 10.11.6 El Capitan / x86_64 | OK | OK | OK | OK |
| Package: methyvim |
| Version: 1.4.0 |
| Command: rm -rf methyvim.buildbin-libdir && mkdir methyvim.buildbin-libdir && C:\Users\biocbuild\bbs-3.8-bioc\R\bin\R.exe CMD INSTALL --merge-multiarch --build --library=methyvim.buildbin-libdir methyvim_1.4.0.tar.gz |
| StartedAt: 2019-04-13 07:38:36 -0400 (Sat, 13 Apr 2019) |
| EndedAt: 2019-04-13 07:39:15 -0400 (Sat, 13 Apr 2019) |
| EllapsedTime: 38.6 seconds |
| RetCode: 0 |
| Status: OK |
| PackageFile: methyvim_1.4.0.zip |
| PackageFileSize: 601.3 KiB |
##############################################################################
##############################################################################
###
### Running command:
###
### rm -rf methyvim.buildbin-libdir && mkdir methyvim.buildbin-libdir && C:\Users\biocbuild\bbs-3.8-bioc\R\bin\R.exe CMD INSTALL --merge-multiarch --build --library=methyvim.buildbin-libdir methyvim_1.4.0.tar.gz
###
##############################################################################
##############################################################################
install for i386
* installing *source* package 'methyvim' ...
** R
** inst
** byte-compile and prepare package for lazy loading
** help
*** installing help indices
converting help for package 'methyvim'
finding HTML links ... done
cluster_sites html
fdr_msa html
force_positivity html
limma_screen html
methyheat html
methytmle-class html
methyvim html
methyvim_tmle html
methyvolc html
plot.methytmle html
set_parallel html
wrap_in_try html
** building package indices
** installing vignettes
** testing if installed package can be loaded
In R CMD INSTALL
install for x64
* installing *source* package 'methyvim' ...
** testing if installed package can be loaded
* MD5 sums
packaged installation of 'methyvim' as methyvim_1.4.0.zip
* DONE (methyvim)
In R CMD INSTALL
In R CMD INSTALL