| Back to Multiple platform build/check report for BioC 3.8 |
|
This page was generated on 2019-04-13 11:22:47 -0400 (Sat, 13 Apr 2019).
| Package 922/1649 | Hostname | OS / Arch | INSTALL | BUILD | CHECK | BUILD BIN | ||||||
| metagenomeSeq 1.24.1 Joseph N. Paulson
| malbec1 | Linux (Ubuntu 16.04.6 LTS) / x86_64 | OK | OK | OK | |||||||
| tokay1 | Windows Server 2012 R2 Standard / x64 | [ OK ] | OK | OK | OK | |||||||
| merida1 | OS X 10.11.6 El Capitan / x86_64 | OK | OK | OK | OK |
| Package: metagenomeSeq |
| Version: 1.24.1 |
| Command: C:\cygwin\bin\curl.exe -O https://malbec1.bioconductor.org/BBS/3.8/bioc/src/contrib/metagenomeSeq_1.24.1.tar.gz && rm -rf metagenomeSeq.buildbin-libdir && mkdir metagenomeSeq.buildbin-libdir && C:\Users\biocbuild\bbs-3.8-bioc\R\bin\R.exe CMD INSTALL --merge-multiarch --build --library=metagenomeSeq.buildbin-libdir metagenomeSeq_1.24.1.tar.gz && C:\Users\biocbuild\bbs-3.8-bioc\R\bin\R.exe CMD INSTALL metagenomeSeq_1.24.1.zip && rm metagenomeSeq_1.24.1.tar.gz metagenomeSeq_1.24.1.zip |
| StartedAt: 2019-04-12 18:58:52 -0400 (Fri, 12 Apr 2019) |
| EndedAt: 2019-04-12 19:00:22 -0400 (Fri, 12 Apr 2019) |
| EllapsedTime: 90.7 seconds |
| RetCode: 0 |
| Status: OK |
##############################################################################
##############################################################################
###
### Running command:
###
### C:\cygwin\bin\curl.exe -O https://malbec1.bioconductor.org/BBS/3.8/bioc/src/contrib/metagenomeSeq_1.24.1.tar.gz && rm -rf metagenomeSeq.buildbin-libdir && mkdir metagenomeSeq.buildbin-libdir && C:\Users\biocbuild\bbs-3.8-bioc\R\bin\R.exe CMD INSTALL --merge-multiarch --build --library=metagenomeSeq.buildbin-libdir metagenomeSeq_1.24.1.tar.gz && C:\Users\biocbuild\bbs-3.8-bioc\R\bin\R.exe CMD INSTALL metagenomeSeq_1.24.1.zip && rm metagenomeSeq_1.24.1.tar.gz metagenomeSeq_1.24.1.zip
###
##############################################################################
##############################################################################
% Total % Received % Xferd Average Speed Time Time Time Current
Dload Upload Total Spent Left Speed
0 0 0 0 0 0 0 0 --:--:-- --:--:-- --:--:-- 0
100 965k 100 965k 0 0 12.4M 0 --:--:-- --:--:-- --:--:-- 13.0M
install for i386
* installing *source* package 'metagenomeSeq' ...
** R
** data
** inst
** byte-compile and prepare package for lazy loading
** help
*** installing help indices
converting help for package 'metagenomeSeq'
finding HTML links ... done
MRcoefs html
MRcounts html
MRexperiment-class html
MRexperiment2biom html
MRfulltable html
MRtable html
aggregateBySample html
aggregateByTaxonomy html
biom2MRexperiment html
calcNormFactors html
calcPosComponent html
calcShrinkParameters html
calcStandardError html
calcZeroAdjustment html
calcZeroComponent html
calculateEffectiveSamples html
correctIndices html
correlationTest html
cumNorm html
cumNormMat html
cumNormStat html
cumNormStatFast html
doCountMStep html
doEStep html
doZeroMStep html
expSummary html
exportMat html
exportStats html
extractMR html
filterData html
fitDO html
fitFeatureModel html
fitLogNormal html
fitMultipleTimeSeries html
fitPA html
fitSSTimeSeries html
fitTimeSeries html
fitZeroLogNormal html
fitZig html
getCountDensity html
getEpsilon html
getNegativeLogLikelihoods html
getPi html
getZ html
isItStillActive html
libSize-set html
libSize html
loadBiom html
loadMeta html
loadMetaQ html
loadPhenoData html
lungData html
makeLabels html
mergeMRexperiments html
mergeTable html
metagenomeSeq-deprecated html
metagenomeSeq-package html
mouseData html
newMRexperiment html
normFactors-set html
normFactors html
plotBubble html
plotClassTimeSeries html
plotCorr html
plotFeature html
plotGenus html
plotMRheatmap html
plotOTU html
plotOrd html
plotRare html
plotTimeSeries html
posteriorProbs html
returnAppropriateObj html
ssFit html
ssIntervalCandidate html
ssPerm html
ssPermAnalysis html
trapz html
ts2MRexperiment html
uniqueFeatures html
zigControl html
** building package indices
** installing vignettes
** testing if installed package can be loaded
In R CMD INSTALL
install for x64
* installing *source* package 'metagenomeSeq' ...
** testing if installed package can be loaded
* MD5 sums
packaged installation of 'metagenomeSeq' as metagenomeSeq_1.24.1.zip
* DONE (metagenomeSeq)
In R CMD INSTALL
In R CMD INSTALL
* installing to library 'C:/Users/biocbuild/bbs-3.8-bioc/R/library'
package 'metagenomeSeq' successfully unpacked and MD5 sums checked
In R CMD INSTALL