| Back to Multiple platform build/check report for BioC 3.8 |
|
This page was generated on 2019-04-13 11:27:15 -0400 (Sat, 13 Apr 2019).
| Package 911/1649 | Hostname | OS / Arch | INSTALL | BUILD | CHECK | BUILD BIN | ||||||
| meshes 1.8.0 Guangchuang Yu
| malbec1 | Linux (Ubuntu 16.04.6 LTS) / x86_64 | OK | OK | WARNINGS | |||||||
| tokay1 | Windows Server 2012 R2 Standard / x64 | [ OK ] | TIMEOUT | skipped | skipped | |||||||
| merida1 | OS X 10.11.6 El Capitan / x86_64 | OK | OK | WARNINGS | OK |
| Package: meshes |
| Version: 1.8.0 |
| Command: C:\cygwin\bin\curl.exe -O https://malbec1.bioconductor.org/BBS/3.8/bioc/src/contrib/meshes_1.8.0.tar.gz && rm -rf meshes.buildbin-libdir && mkdir meshes.buildbin-libdir && C:\Users\biocbuild\bbs-3.8-bioc\R\bin\R.exe CMD INSTALL --merge-multiarch --build --library=meshes.buildbin-libdir meshes_1.8.0.tar.gz && C:\Users\biocbuild\bbs-3.8-bioc\R\bin\R.exe CMD INSTALL meshes_1.8.0.zip && rm meshes_1.8.0.tar.gz meshes_1.8.0.zip |
| StartedAt: 2019-04-12 19:36:19 -0400 (Fri, 12 Apr 2019) |
| EndedAt: 2019-04-12 19:37:09 -0400 (Fri, 12 Apr 2019) |
| EllapsedTime: 49.6 seconds |
| RetCode: 0 |
| Status: OK |
##############################################################################
##############################################################################
###
### Running command:
###
### C:\cygwin\bin\curl.exe -O https://malbec1.bioconductor.org/BBS/3.8/bioc/src/contrib/meshes_1.8.0.tar.gz && rm -rf meshes.buildbin-libdir && mkdir meshes.buildbin-libdir && C:\Users\biocbuild\bbs-3.8-bioc\R\bin\R.exe CMD INSTALL --merge-multiarch --build --library=meshes.buildbin-libdir meshes_1.8.0.tar.gz && C:\Users\biocbuild\bbs-3.8-bioc\R\bin\R.exe CMD INSTALL meshes_1.8.0.zip && rm meshes_1.8.0.tar.gz meshes_1.8.0.zip
###
##############################################################################
##############################################################################
% Total % Received % Xferd Average Speed Time Time Time Current
Dload Upload Total Spent Left Speed
0 0 0 0 0 0 0 0 --:--:-- --:--:-- --:--:-- 0
100 882k 100 882k 0 0 5409k 0 --:--:-- --:--:-- --:--:-- 5551k
install for i386
* installing *source* package 'meshes' ...
** R
** data
*** moving datasets to lazyload DB
** inst
** byte-compile and prepare package for lazy loading
** help
*** installing help indices
converting help for package 'meshes'
finding HTML links ... done
enrichMeSH html
geneSim html
gseMeSH html
meshSim html
mesh_term_table html
meshdata html
reexports html
** building package indices
** installing vignettes
** testing if installed package can be loaded
In R CMD INSTALL
install for x64
* installing *source* package 'meshes' ...
** testing if installed package can be loaded
* MD5 sums
packaged installation of 'meshes' as meshes_1.8.0.zip
* DONE (meshes)
In R CMD INSTALL
In R CMD INSTALL
* installing to library 'C:/Users/biocbuild/bbs-3.8-bioc/R/library'
package 'meshes' successfully unpacked and MD5 sums checked
In R CMD INSTALL