| Back to Multiple platform build/check report for BioC 3.8 |
|
This page was generated on 2019-04-13 11:20:38 -0400 (Sat, 13 Apr 2019).
| Package 901/1649 | Hostname | OS / Arch | INSTALL | BUILD | CHECK | BUILD BIN | ||||||
| mdqc 1.44.0 Gabriela Cohen-Freue
| malbec1 | Linux (Ubuntu 16.04.6 LTS) / x86_64 | OK | OK | OK | |||||||
| tokay1 | Windows Server 2012 R2 Standard / x64 | OK | OK | OK | [ OK ] | |||||||
| merida1 | OS X 10.11.6 El Capitan / x86_64 | OK | OK | OK | OK |
| Package: mdqc |
| Version: 1.44.0 |
| Command: rm -rf mdqc.buildbin-libdir && mkdir mdqc.buildbin-libdir && C:\Users\biocbuild\bbs-3.8-bioc\R\bin\R.exe CMD INSTALL --merge-multiarch --build --library=mdqc.buildbin-libdir mdqc_1.44.0.tar.gz |
| StartedAt: 2019-04-13 07:37:16 -0400 (Sat, 13 Apr 2019) |
| EndedAt: 2019-04-13 07:37:31 -0400 (Sat, 13 Apr 2019) |
| EllapsedTime: 14.5 seconds |
| RetCode: 0 |
| Status: OK |
| PackageFile: mdqc_1.44.0.zip |
| PackageFileSize: 230.5 KiB |
##############################################################################
##############################################################################
###
### Running command:
###
### rm -rf mdqc.buildbin-libdir && mkdir mdqc.buildbin-libdir && C:\Users\biocbuild\bbs-3.8-bioc\R\bin\R.exe CMD INSTALL --merge-multiarch --build --library=mdqc.buildbin-libdir mdqc_1.44.0.tar.gz
###
##############################################################################
##############################################################################
install for i386
* installing *source* package 'mdqc' ...
** R
** data
** inst
** byte-compile and prepare package for lazy loading
** help
*** installing help indices
converting help for package 'mdqc'
finding HTML links ... done
allQC html
mdqc-package html
mdqc html
plot.mdqc html
prcomp.robust html
** building package indices
** installing vignettes
** testing if installed package can be loaded
In R CMD INSTALL
install for x64
* installing *source* package 'mdqc' ...
** testing if installed package can be loaded
* MD5 sums
packaged installation of 'mdqc' as mdqc_1.44.0.zip
* DONE (mdqc)
In R CMD INSTALL
In R CMD INSTALL