| Back to Multiple platform build/check report for BioC 3.8 |
|
This page was generated on 2019-04-13 11:23:38 -0400 (Sat, 13 Apr 2019).
| Package 883/1649 | Hostname | OS / Arch | INSTALL | BUILD | CHECK | BUILD BIN | ||||||
| massiR 1.18.0 Sam Buckberry
| malbec1 | Linux (Ubuntu 16.04.6 LTS) / x86_64 | OK | OK | OK | |||||||
| tokay1 | Windows Server 2012 R2 Standard / x64 | OK | OK | OK | [ OK ] | |||||||
| merida1 | OS X 10.11.6 El Capitan / x86_64 | OK | OK | OK | OK |
| Package: massiR |
| Version: 1.18.0 |
| Command: rm -rf massiR.buildbin-libdir && mkdir massiR.buildbin-libdir && C:\Users\biocbuild\bbs-3.8-bioc\R\bin\R.exe CMD INSTALL --merge-multiarch --build --library=massiR.buildbin-libdir massiR_1.18.0.tar.gz |
| StartedAt: 2019-04-13 07:36:44 -0400 (Sat, 13 Apr 2019) |
| EndedAt: 2019-04-13 07:36:57 -0400 (Sat, 13 Apr 2019) |
| EllapsedTime: 13.0 seconds |
| RetCode: 0 |
| Status: OK |
| PackageFile: massiR_1.18.0.zip |
| PackageFileSize: 1.132 MiB |
##############################################################################
##############################################################################
###
### Running command:
###
### rm -rf massiR.buildbin-libdir && mkdir massiR.buildbin-libdir && C:\Users\biocbuild\bbs-3.8-bioc\R\bin\R.exe CMD INSTALL --merge-multiarch --build --library=massiR.buildbin-libdir massiR_1.18.0.tar.gz
###
##############################################################################
##############################################################################
install for i386
* installing *source* package 'massiR' ...
** R
** data
*** moving datasets to lazyload DB
** inst
** byte-compile and prepare package for lazy loading
** help
*** installing help indices
converting help for package 'massiR'
finding HTML links ... done
massi.test.dataset html
massi.test.probes html
massiR-package html
massi_cluster html
massi_cluster_plot html
massi_dip html
massi_eset html
massi_select html
massi_y html
massi_y_plot html
y_probes html
** building package indices
** installing vignettes
** testing if installed package can be loaded
In R CMD INSTALL
install for x64
* installing *source* package 'massiR' ...
** testing if installed package can be loaded
* MD5 sums
packaged installation of 'massiR' as massiR_1.18.0.zip
* DONE (massiR)
In R CMD INSTALL
In R CMD INSTALL