| Back to Multiple platform build/check report for BioC 3.8 |
|
This page was generated on 2019-04-13 11:22:01 -0400 (Sat, 13 Apr 2019).
| Package 872/1649 | Hostname | OS / Arch | INSTALL | BUILD | CHECK | BUILD BIN | ||||||
| manta 1.28.1 Chris Berthiaume
| malbec1 | Linux (Ubuntu 16.04.6 LTS) / x86_64 | OK | OK | OK | |||||||
| tokay1 | Windows Server 2012 R2 Standard / x64 | OK | OK | OK | [ OK ] | |||||||
| merida1 | OS X 10.11.6 El Capitan / x86_64 | OK | OK | OK | OK |
| Package: manta |
| Version: 1.28.1 |
| Command: rm -rf manta.buildbin-libdir && mkdir manta.buildbin-libdir && C:\Users\biocbuild\bbs-3.8-bioc\R\bin\R.exe CMD INSTALL --merge-multiarch --build --library=manta.buildbin-libdir manta_1.28.1.tar.gz |
| StartedAt: 2019-04-13 07:36:15 -0400 (Sat, 13 Apr 2019) |
| EndedAt: 2019-04-13 07:36:44 -0400 (Sat, 13 Apr 2019) |
| EllapsedTime: 28.6 seconds |
| RetCode: 0 |
| Status: OK |
| PackageFile: manta_1.28.1.zip |
| PackageFileSize: 2.105 MiB |
##############################################################################
##############################################################################
###
### Running command:
###
### rm -rf manta.buildbin-libdir && mkdir manta.buildbin-libdir && C:\Users\biocbuild\bbs-3.8-bioc\R\bin\R.exe CMD INSTALL --merge-multiarch --build --library=manta.buildbin-libdir manta_1.28.1.tar.gz
###
##############################################################################
##############################################################################
install for i386
* installing *source* package 'manta' ...
** R
** inst
** byte-compile and prepare package for lazy loading
** help
*** installing help indices
converting help for package 'manta'
finding HTML links ... done
cmdArgsToVariables html
collapseRepliCounts html
compbiasPlot html
compbiasTest html
generateWeights html
in2manta html
makeSampleDF html
manta-class html
manta html
meta2counts html
metataxa2subcounts html
nf2nr html
normfact2absTMM html
nr html
outliers html
plot.manta html
pplacer2manta html
readSeastar html
seastar2counts html
summary.manta html
** building package indices
** installing vignettes
** testing if installed package can be loaded
In R CMD INSTALL
install for x64
* installing *source* package 'manta' ...
** testing if installed package can be loaded
* MD5 sums
packaged installation of 'manta' as manta_1.28.1.zip
* DONE (manta)
In R CMD INSTALL
In R CMD INSTALL