| Back to Multiple platform build/check report for BioC 3.8 |
|
This page was generated on 2019-04-13 11:19:13 -0400 (Sat, 13 Apr 2019).
| Package 870/1649 | Hostname | OS / Arch | INSTALL | BUILD | CHECK | BUILD BIN | ||||||
| makecdfenv 1.58.0 James W. MacDonald
| malbec1 | Linux (Ubuntu 16.04.6 LTS) / x86_64 | OK | OK | OK | |||||||
| tokay1 | Windows Server 2012 R2 Standard / x64 | [ OK ] | OK | OK | OK | |||||||
| merida1 | OS X 10.11.6 El Capitan / x86_64 | OK | OK | OK | OK |
| Package: makecdfenv |
| Version: 1.58.0 |
| Command: C:\cygwin\bin\curl.exe -O https://malbec1.bioconductor.org/BBS/3.8/bioc/src/contrib/makecdfenv_1.58.0.tar.gz && rm -rf makecdfenv.buildbin-libdir && mkdir makecdfenv.buildbin-libdir && C:\Users\biocbuild\bbs-3.8-bioc\R\bin\R.exe CMD INSTALL --merge-multiarch --build --library=makecdfenv.buildbin-libdir makecdfenv_1.58.0.tar.gz && C:\Users\biocbuild\bbs-3.8-bioc\R\bin\R.exe CMD INSTALL makecdfenv_1.58.0.zip && rm makecdfenv_1.58.0.tar.gz makecdfenv_1.58.0.zip |
| StartedAt: 2019-04-12 19:17:36 -0400 (Fri, 12 Apr 2019) |
| EndedAt: 2019-04-12 19:18:03 -0400 (Fri, 12 Apr 2019) |
| EllapsedTime: 26.7 seconds |
| RetCode: 0 |
| Status: OK |
##############################################################################
##############################################################################
###
### Running command:
###
### C:\cygwin\bin\curl.exe -O https://malbec1.bioconductor.org/BBS/3.8/bioc/src/contrib/makecdfenv_1.58.0.tar.gz && rm -rf makecdfenv.buildbin-libdir && mkdir makecdfenv.buildbin-libdir && C:\Users\biocbuild\bbs-3.8-bioc\R\bin\R.exe CMD INSTALL --merge-multiarch --build --library=makecdfenv.buildbin-libdir makecdfenv_1.58.0.tar.gz && C:\Users\biocbuild\bbs-3.8-bioc\R\bin\R.exe CMD INSTALL makecdfenv_1.58.0.zip && rm makecdfenv_1.58.0.tar.gz makecdfenv_1.58.0.zip
###
##############################################################################
##############################################################################
% Total % Received % Xferd Average Speed Time Time Time Current
Dload Upload Total Spent Left Speed
0 0 0 0 0 0 0 0 --:--:-- --:--:-- --:--:-- 0
100 3075k 100 3075k 0 0 10.7M 0 --:--:-- --:--:-- --:--:-- 10.9M
install for i386
* installing *source* package 'makecdfenv' ...
**********************************************
WARNING: this package has a configure script
It probably needs manual configuration
**********************************************
** libs
C:/Rtools/mingw_32/bin/gcc -I"C:/Users/biocbuild/bbs-3.8-bioc/R/library/zlibbioc/include" -I"C:/Users/BIOCBU˜1/BBS-3˜1.8-B/R/include" -DNDEBUG -DHAVE_ZLIB -I"C:/extsoft/include" -O3 -Wall -std=gnu99 -mtune=generic -c read_cdffile.c -o read_cdffile.o
read_cdffile.c: In function 'readQC':
read_cdffile.c:576:7: warning: variable 'typeQC' set but not used [-Wunused-but-set-variable]
int typeQC;
^
C:/Rtools/mingw_32/bin/gcc -shared -s -static-libgcc -o makecdfenv.dll tmp.def read_cdffile.o -LC:/Users/biocbuild/bbs-3.8-bioc/R/library/zlibbioc/libs/i386 -lzlib1bioc -LC:/extsoft/lib/i386 -LC:/extsoft/lib -LC:/Users/BIOCBU˜1/BBS-3˜1.8-B/R/bin/i386 -lR
installing to C:/Users/biocbuild/bbs-3.8-bioc/meat/makecdfenv.buildbin-libdir/makecdfenv/libs/i386
** R
** inst
** byte-compile and prepare package for lazy loading
** help
*** installing help indices
converting help for package 'makecdfenv'
finding HTML links ... done
Cdf-class html
getInfoInAffyFile html
make.cdf.env html
make.cdf.package html
pmormm html
read.cdffile html
** building package indices
** installing vignettes
** testing if installed package can be loaded
In R CMD INSTALL
install for x64
* installing *source* package 'makecdfenv' ...
**********************************************
WARNING: this package has a configure script
It probably needs manual configuration
**********************************************
** libs
C:/Rtools/mingw_64/bin/gcc -I"C:/Users/biocbuild/bbs-3.8-bioc/R/library/zlibbioc/include" -I"C:/Users/BIOCBU˜1/BBS-3˜1.8-B/R/include" -DNDEBUG -DHAVE_ZLIB -I"C:/extsoft/include" -O2 -Wall -std=gnu99 -mtune=generic -c read_cdffile.c -o read_cdffile.o
read_cdffile.c: In function 'readQC':
read_cdffile.c:576:7: warning: variable 'typeQC' set but not used [-Wunused-but-set-variable]
int typeQC;
^
C:/Rtools/mingw_64/bin/gcc -shared -s -static-libgcc -o makecdfenv.dll tmp.def read_cdffile.o -LC:/Users/biocbuild/bbs-3.8-bioc/R/library/zlibbioc/libs/x64 -lzlib1bioc -LC:/extsoft/lib/x64 -LC:/extsoft/lib -LC:/Users/BIOCBU˜1/BBS-3˜1.8-B/R/bin/x64 -lR
installing to C:/Users/biocbuild/bbs-3.8-bioc/meat/makecdfenv.buildbin-libdir/makecdfenv/libs/x64
** testing if installed package can be loaded
* MD5 sums
packaged installation of 'makecdfenv' as makecdfenv_1.58.0.zip
* DONE (makecdfenv)
In R CMD INSTALL
In R CMD INSTALL
* installing to library 'C:/Users/biocbuild/bbs-3.8-bioc/R/library'
package 'makecdfenv' successfully unpacked and MD5 sums checked
In R CMD INSTALL