| Back to Multiple platform build/check report for BioC 3.8 |
|
This page was generated on 2019-04-13 11:26:10 -0400 (Sat, 13 Apr 2019).
| Package 852/1649 | Hostname | OS / Arch | INSTALL | BUILD | CHECK | BUILD BIN | ||||||
| lpsymphony 1.10.0 Vladislav Kim
| malbec1 | Linux (Ubuntu 16.04.6 LTS) / x86_64 | OK | OK | WARNINGS | |||||||
| tokay1 | Windows Server 2012 R2 Standard / x64 | OK | OK | WARNINGS | [ OK ] | |||||||
| merida1 | OS X 10.11.6 El Capitan / x86_64 | OK | OK | WARNINGS | OK |
| Package: lpsymphony |
| Version: 1.10.0 |
| Command: rm -rf lpsymphony.buildbin-libdir && mkdir lpsymphony.buildbin-libdir && C:\Users\biocbuild\bbs-3.8-bioc\R\bin\R.exe CMD INSTALL --merge-multiarch --build --library=lpsymphony.buildbin-libdir lpsymphony_1.10.0.tar.gz |
| StartedAt: 2019-04-13 07:35:32 -0400 (Sat, 13 Apr 2019) |
| EndedAt: 2019-04-13 07:36:40 -0400 (Sat, 13 Apr 2019) |
| EllapsedTime: 68.4 seconds |
| RetCode: 0 |
| Status: OK |
| PackageFile: lpsymphony_1.10.0.zip |
| PackageFileSize: 4.827 MiB |
##############################################################################
##############################################################################
###
### Running command:
###
### rm -rf lpsymphony.buildbin-libdir && mkdir lpsymphony.buildbin-libdir && C:\Users\biocbuild\bbs-3.8-bioc\R\bin\R.exe CMD INSTALL --merge-multiarch --build --library=lpsymphony.buildbin-libdir lpsymphony_1.10.0.tar.gz
###
##############################################################################
##############################################################################
install for i386
* installing *source* package 'lpsymphony' ...
** libs
cp WinLib/i386/*.dll .
installing to C:/Users/biocbuild/bbs-3.8-bioc/meat/lpsymphony.buildbin-libdir/lpsymphony/libs/i386
** R
** inst
** byte-compile and prepare package for lazy loading
** help
*** installing help indices
converting help for package 'lpsymphony'
finding HTML links ... done
lpsymphony_solve html
** building package indices
** installing vignettes
** testing if installed package can be loaded
In R CMD INSTALL
install for x64
* installing *source* package 'lpsymphony' ...
** libs
cp WinLib/x64/*.dll .
installing to C:/Users/biocbuild/bbs-3.8-bioc/meat/lpsymphony.buildbin-libdir/lpsymphony/libs/x64
** testing if installed package can be loaded
* MD5 sums
packaged installation of 'lpsymphony' as lpsymphony_1.10.0.zip
* DONE (lpsymphony)
In R CMD INSTALL
In R CMD INSTALL