| Back to Multiple platform build/check report for BioC 3.8 |
|
This page was generated on 2019-04-13 11:22:21 -0400 (Sat, 13 Apr 2019).
| Package 838/1649 | Hostname | OS / Arch | INSTALL | BUILD | CHECK | BUILD BIN | ||||||
| lmdme 1.24.0 Cristobal Fresno
| malbec1 | Linux (Ubuntu 16.04.6 LTS) / x86_64 | OK | OK | OK | |||||||
| tokay1 | Windows Server 2012 R2 Standard / x64 | OK | OK | OK | [ OK ] | |||||||
| merida1 | OS X 10.11.6 El Capitan / x86_64 | OK | OK | OK | OK |
| Package: lmdme |
| Version: 1.24.0 |
| Command: rm -rf lmdme.buildbin-libdir && mkdir lmdme.buildbin-libdir && C:\Users\biocbuild\bbs-3.8-bioc\R\bin\R.exe CMD INSTALL --merge-multiarch --build --library=lmdme.buildbin-libdir lmdme_1.24.0.tar.gz |
| StartedAt: 2019-04-13 07:34:51 -0400 (Sat, 13 Apr 2019) |
| EndedAt: 2019-04-13 07:35:06 -0400 (Sat, 13 Apr 2019) |
| EllapsedTime: 15.1 seconds |
| RetCode: 0 |
| Status: OK |
| PackageFile: lmdme_1.24.0.zip |
| PackageFileSize: 559.5 KiB |
##############################################################################
##############################################################################
###
### Running command:
###
### rm -rf lmdme.buildbin-libdir && mkdir lmdme.buildbin-libdir && C:\Users\biocbuild\bbs-3.8-bioc\R\bin\R.exe CMD INSTALL --merge-multiarch --build --library=lmdme.buildbin-libdir lmdme_1.24.0.tar.gz
###
##############################################################################
##############################################################################
install for i386
* installing *source* package 'lmdme' ...
** R
** inst
** byte-compile and prepare package for lazy loading
Creating a new generic function for 'p.adjust' in package 'lmdme'
** help
*** installing help indices
converting help for package 'lmdme'
finding HTML links ... done
lmdme-Class html
finding level-2 HTML links ... done
lmdme-biplot html
lmdme-decomposition html
lmdme-getters html
lmdme-leverage html
lmdme-lmdme html
lmdme-loadingplot html
lmdme-padjust html
lmdme-permutation html
lmdme-printshow html
lmdme-screeplot html
** building package indices
** installing vignettes
** testing if installed package can be loaded
In R CMD INSTALL
install for x64
* installing *source* package 'lmdme' ...
** testing if installed package can be loaded
* MD5 sums
packaged installation of 'lmdme' as lmdme_1.24.0.zip
* DONE (lmdme)
In R CMD INSTALL
In R CMD INSTALL