| Back to Multiple platform build/check report for BioC 3.8 |
|
This page was generated on 2019-04-13 11:27:29 -0400 (Sat, 13 Apr 2019).
| Package 813/1649 | Hostname | OS / Arch | INSTALL | BUILD | CHECK | BUILD BIN | ||||||
| karyoploteR 1.8.8 Bernat Gel
| malbec1 | Linux (Ubuntu 16.04.6 LTS) / x86_64 | OK | OK | OK | |||||||
| tokay1 | Windows Server 2012 R2 Standard / x64 | OK | OK | OK | [ OK ] | |||||||
| merida1 | OS X 10.11.6 El Capitan / x86_64 | OK | OK | OK | OK |
| Package: karyoploteR |
| Version: 1.8.8 |
| Command: rm -rf karyoploteR.buildbin-libdir && mkdir karyoploteR.buildbin-libdir && C:\Users\biocbuild\bbs-3.8-bioc\R\bin\R.exe CMD INSTALL --merge-multiarch --build --library=karyoploteR.buildbin-libdir karyoploteR_1.8.8.tar.gz |
| StartedAt: 2019-04-13 07:33:42 -0400 (Sat, 13 Apr 2019) |
| EndedAt: 2019-04-13 07:34:41 -0400 (Sat, 13 Apr 2019) |
| EllapsedTime: 59.2 seconds |
| RetCode: 0 |
| Status: OK |
| PackageFile: karyoploteR_1.8.8.zip |
| PackageFileSize: 1.251 MiB |
##############################################################################
##############################################################################
###
### Running command:
###
### rm -rf karyoploteR.buildbin-libdir && mkdir karyoploteR.buildbin-libdir && C:\Users\biocbuild\bbs-3.8-bioc\R\bin\R.exe CMD INSTALL --merge-multiarch --build --library=karyoploteR.buildbin-libdir karyoploteR_1.8.8.tar.gz
###
##############################################################################
##############################################################################
install for i386
* installing *source* package 'karyoploteR' ...
** R
** inst
** byte-compile and prepare package for lazy loading
** help
*** installing help indices
converting help for package 'karyoploteR'
finding HTML links ... done
autotrack html
colByChr html
darker html
filterParams html
getChromosomeNamesBoundingBox html
getCytobandColors html
getCytobands html
finding level-2 HTML links ... done
getDefaultPlotParams html
getMainTitleBoundingBox html
getVariantsColors html
kpAbline html
kpAddBaseNumbers html
kpAddChromosomeNames html
kpAddChromosomeSeparators html
kpAddCytobandLabels html
kpAddCytobands html
kpAddCytobandsAsLine html
kpAddLabels html
kpAddMainTitle html
kpArea html
kpArrows html
kpAxis html
kpBars html
kpDataBackground html
kpHeatmap html
kpLines html
kpPlotBAMCoverage html
kpPlotBAMDensity html
kpPlotBigWig html
kpPlotCoverage html
kpPlotDensity html
kpPlotGenes html
kpPlotLinks html
kpPlotLoess html
kpPlotMarkers html
kpPlotNames html
kpPlotRainfall html
kpPlotRegions html
kpPlotRibbon html
kpPlotTranscripts html
kpPoints html
kpPolygon html
kpRect html
kpSegments html
kpText html
lighter html
makeGenesDataFromTxDb html
plotDefaultPlotParams html
plotKaryotype html
prepareParameters2 html
prepareParameters4 html
** building package indices
** installing vignettes
** testing if installed package can be loaded
In R CMD INSTALL
install for x64
* installing *source* package 'karyoploteR' ...
** testing if installed package can be loaded
* MD5 sums
packaged installation of 'karyoploteR' as karyoploteR_1.8.8.zip
* DONE (karyoploteR)
In R CMD INSTALL
In R CMD INSTALL